BEGIN:VCALENDAR
VERSION:2.0
PRODID:-//Graduate Student Association - ECPv6.15.20//NONSGML v1.0//EN
CALSCALE:GREGORIAN
METHOD:PUBLISH
X-ORIGINAL-URL:https://ubwp.buffalo.edu/gsa
X-WR-CALDESC:Events for Graduate Student Association
REFRESH-INTERVAL;VALUE=DURATION:PT1H
X-Robots-Tag:noindex
X-PUBLISHED-TTL:PT1H
BEGIN:VTIMEZONE
TZID:UTC
BEGIN:STANDARD
TZOFFSETFROM:+0000
TZOFFSETTO:+0000
TZNAME:UTC
DTSTART:20120101T000000
END:STANDARD
END:VTIMEZONE
BEGIN:VEVENT
DTSTART;VALUE=DATE:20130918
DTEND;VALUE=DATE:20130919
DTSTAMP:20260420T175459
CREATED:20130826T141838Z
LAST-MODIFIED:20130826T141838Z
UID:156-1379462400-1379548799@ubwp.buffalo.edu
SUMMARY:October Group Funding Applications Deadline
DESCRIPTION:Application materials are due for Special Activities\, Interdepartmental Activities\, Symposium\, Community Outreach\, and Scholarly Publications occurring after the October Senate meeting. All application materials due in the GSA office by the close of business.
URL:https://ubwp.buffalo.edu/gsa/event/october-group-funding-applications-deadline/
LOCATION:GSA Office\, 310 Student Union\, University at Buffalo\, Buffalo\, NY\, 14260-2100\, United States
CATEGORIES:Administrative
ORGANIZER;CN="GSA Administrative Team":MAILTO:slfrank@buffalo.edu
END:VEVENT
END:VCALENDAR