BEGIN:VCALENDAR
VERSION:2.0
PRODID:-//Graduate Student Association - ECPv6.15.20//NONSGML v1.0//EN
CALSCALE:GREGORIAN
METHOD:PUBLISH
X-ORIGINAL-URL:https://ubwp.buffalo.edu/gsa
X-WR-CALDESC:Events for Graduate Student Association
REFRESH-INTERVAL;VALUE=DURATION:PT1H
X-Robots-Tag:noindex
X-PUBLISHED-TTL:PT1H
BEGIN:VTIMEZONE
TZID:UTC
BEGIN:STANDARD
TZOFFSETFROM:+0000
TZOFFSETTO:+0000
TZNAME:UTC
DTSTART:20240101T000000
END:STANDARD
END:VTIMEZONE
BEGIN:VEVENT
DTSTART;VALUE=DATE:20251209
DTEND;VALUE=DATE:20260103
DTSTAMP:20260423T220218
CREATED:20250730T160636Z
LAST-MODIFIED:20250730T160704Z
UID:93436-1765238400-1767398399@ubwp.buffalo.edu
SUMMARY:GSA Closed for Winter Recess
DESCRIPTION:The GSA will be closed for Winter Recess from Tuesday\, December 9th until Monday\, January 5th. \nThe office will be open for Summer Hours (Monday – Thursday 8:30am – 4:00pm) from January 5th – 20th. \nRegular business hours will resume with the start of classes on January 21st.
URL:https://ubwp.buffalo.edu/gsa/event/gsa-closed-for-winter-recess-4/
LOCATION:NY
CATEGORIES:Administrative
END:VEVENT
BEGIN:VEVENT
DTSTART;TZID=UTC:20260104T130000
DTEND;TZID=UTC:20260104T163000
DTSTAMP:20260423T220218
CREATED:20250819T145238Z
LAST-MODIFIED:20251111T151409Z
UID:93778-1767531600-1767544200@ubwp.buffalo.edu
SUMMARY:Buffalo Bills Football Game vs. New York Jets
DESCRIPTION:Tickets on sale November 10th at the UB Ticket Office (online or at 221 Student Union) for $75 each. 1 per UB ID. Limited quantity available. First come\, first served. \n**DIGITAL ADMISSION TICKETS WILL BE EMAILED OUT 24 HOURS PRIOR TO GAME TIME.  PLEASE NOTE THAT THE EMAILED TICKET FROM THE UB TICKET OFFICE IS ONLY A VOUCHER\, AND WILL NOT BE ACCEPTED FOR ADMISSION BY THE VENDOR.** \n**For ticketing/seating questions or requests\, please contact the GSA Programming Coordinator (gsa-programming@buffalo.edu) prior to the ticket distribution.  All requests will be reviewed on a first come\, first served basis.** \nAll GSA sales are non-refundable.
URL:https://ubwp.buffalo.edu/gsa/event/buffalo-bills-football-game-vs-new-york-jets-4/
LOCATION:Highmark Stadium\, 1 Bills Dr.\, Orchard Park\, 14127\, United States
CATEGORIES:GSA Event
ATTACH;FMTTYPE=image/jpeg:https://ubwp.buffalo.edu/gsa/wp-content/uploads/sites/137/2014/09/Buffalo-Bills.jpg
ORGANIZER;CN="GSA Programming Coordinator":MAILTO:gsa-programming@buffalo.edu
END:VEVENT
BEGIN:VEVENT
DTSTART;VALUE=DATE:20260105
DTEND;VALUE=DATE:20260109
DTSTAMP:20260423T220218
CREATED:20250731T142856Z
LAST-MODIFIED:20250731T142856Z
UID:93717-1767571200-1767916799@ubwp.buffalo.edu
SUMMARY:GSA on Summer Hours
DESCRIPTION:GSA will be open for Summer Hours: Monday to Thursday 8:30am – 4:00pm\, closed on Friday\, January 9th.
URL:https://ubwp.buffalo.edu/gsa/event/gsa-on-summer-hours-26/
LOCATION:NY
CATEGORIES:Administrative
END:VEVENT
BEGIN:VEVENT
DTSTART;VALUE=DATE:20260109
DTEND;VALUE=DATE:20260110
DTSTAMP:20260423T220218
CREATED:20250731T142923Z
LAST-MODIFIED:20250731T142923Z
UID:93719-1767916800-1768003199@ubwp.buffalo.edu
SUMMARY:GSA Closed
DESCRIPTION:GSA will be open for Summer Hours: Monday to Thursday 8:30am – 4:00pm\, closed on Friday\, January 9th.
URL:https://ubwp.buffalo.edu/gsa/event/gsa-closed-132/
LOCATION:NY
CATEGORIES:Administrative
END:VEVENT
BEGIN:VEVENT
DTSTART;VALUE=DATE:20260112
DTEND;VALUE=DATE:20260116
DTSTAMP:20260423T220218
CREATED:20250731T143013Z
LAST-MODIFIED:20250731T143013Z
UID:93721-1768176000-1768521599@ubwp.buffalo.edu
SUMMARY:GSA on Summer Hours
DESCRIPTION:GSA will be open for Summer Hours: Monday to Thursday 8:30am – 4:00pm\, closed on Friday\, January 16th.
URL:https://ubwp.buffalo.edu/gsa/event/gsa-on-summer-hours-27/
LOCATION:NY
CATEGORIES:Administrative
END:VEVENT
BEGIN:VEVENT
DTSTART;VALUE=DATE:20260115
DTEND;VALUE=DATE:20260116
DTSTAMP:20260423T220218
CREATED:20250731T125936Z
LAST-MODIFIED:20250731T125936Z
UID:93619-1768435200-1768521599@ubwp.buffalo.edu
SUMMARY:Deadline for February Conference Funding Applications
DESCRIPTION:All applications for Conference Funding for conferences during the month of February are due by the close of business at 4:00pm. \nThe GSA Conference Funding Application is available as an online form on GSA’s UBLinked page.  Please note that you must be signed in to UBLinked and “Join” as a member of GSA in order to be able to access the form on the Homepage.
URL:https://ubwp.buffalo.edu/gsa/event/deadline-for-february-conference-funding-applications-13/
LOCATION:NY
CATEGORIES:Administrative
END:VEVENT
BEGIN:VEVENT
DTSTART;VALUE=DATE:20260116
DTEND;VALUE=DATE:20260117
DTSTAMP:20260423T220218
CREATED:20250731T143035Z
LAST-MODIFIED:20250731T143035Z
UID:93723-1768521600-1768607999@ubwp.buffalo.edu
SUMMARY:GSA Closed
DESCRIPTION:GSA will be open for Summer Hours: Monday to Thursday 8:30am – 4:00pm\, closed on Friday\, January 16th.
URL:https://ubwp.buffalo.edu/gsa/event/gsa-closed-133/
LOCATION:NY
CATEGORIES:Administrative
END:VEVENT
BEGIN:VEVENT
DTSTART;VALUE=DATE:20260119
DTEND;VALUE=DATE:20260120
DTSTAMP:20260423T220218
CREATED:20250730T190529Z
LAST-MODIFIED:20250730T190529Z
UID:93561-1768780800-1768867199@ubwp.buffalo.edu
SUMMARY:GSA Closed
DESCRIPTION:GSA will be closed for Martin Luther King Jr. Day observance.
URL:https://ubwp.buffalo.edu/gsa/event/gsa-closed-111/
LOCATION:NY
CATEGORIES:Administrative
END:VEVENT
BEGIN:VEVENT
DTSTART;VALUE=DATE:20260120
DTEND;VALUE=DATE:20260121
DTSTAMP:20260423T220218
CREATED:20250731T143138Z
LAST-MODIFIED:20250731T143138Z
UID:93725-1768867200-1768953599@ubwp.buffalo.edu
SUMMARY:GSA on Summer Hours
DESCRIPTION:GSA will be open for Summer Hours: Tuesday 8:30am – 4:00pm.
URL:https://ubwp.buffalo.edu/gsa/event/gsa-on-summer-hours-28/
LOCATION:NY
CATEGORIES:Administrative
END:VEVENT
BEGIN:VEVENT
DTSTART;VALUE=DATE:20260121
DTEND;VALUE=DATE:20260122
DTSTAMP:20260423T220218
CREATED:20250730T161323Z
LAST-MODIFIED:20250730T161323Z
UID:93448-1768953600-1769039999@ubwp.buffalo.edu
SUMMARY:February Group Funding Applications Deadline
DESCRIPTION:Application materials are due for Special Activities\, Interdepartmental Activities\, Symposium and Community Outreach funding for events occurring after the February Board of Directors meeting. All application materials due by the close of business at 4:30pm.
URL:https://ubwp.buffalo.edu/gsa/event/february-group-funding-applications-deadline-13/
LOCATION:NY
END:VEVENT
BEGIN:VEVENT
DTSTART;VALUE=DATE:20260121
DTEND;VALUE=DATE:20260122
DTSTAMP:20260423T220218
CREATED:20250730T191800Z
LAST-MODIFIED:20250730T191800Z
UID:93582-1768953600-1769039999@ubwp.buffalo.edu
SUMMARY:Spring Classes Begin
DESCRIPTION:
URL:https://ubwp.buffalo.edu/gsa/event/spring-classes-begin-11/
LOCATION:NY
CATEGORIES:Administrative
END:VEVENT
BEGIN:VEVENT
DTSTART;TZID=UTC:20260128T183000
DTEND;TZID=UTC:20260128T203000
DTSTAMP:20260423T220218
CREATED:20250730T170755Z
LAST-MODIFIED:20250730T170755Z
UID:93480-1769625000-1769632200@ubwp.buffalo.edu
SUMMARY:Finance Committee Meeting
DESCRIPTION:Finance Committee meeting to review group funding requests for events to take place in February or later.
URL:https://ubwp.buffalo.edu/gsa/event/finance-committee-meeting-87/
LOCATION:NY
CATEGORIES:Administrative
ORGANIZER;CN="GSA Treasurer":MAILTO:gsa-treasurer@buffalo.edu
END:VEVENT
END:VCALENDAR