BEGIN:VCALENDAR
VERSION:2.0
PRODID:-//Graduate Student Association - ECPv6.15.20//NONSGML v1.0//EN
CALSCALE:GREGORIAN
METHOD:PUBLISH
X-ORIGINAL-URL:https://ubwp.buffalo.edu/gsa
X-WR-CALDESC:Events for Graduate Student Association
REFRESH-INTERVAL;VALUE=DURATION:PT1H
X-Robots-Tag:noindex
X-PUBLISHED-TTL:PT1H
BEGIN:VTIMEZONE
TZID:UTC
BEGIN:STANDARD
TZOFFSETFROM:+0000
TZOFFSETTO:+0000
TZNAME:UTC
DTSTART:20240101T000000
END:STANDARD
END:VTIMEZONE
BEGIN:VEVENT
DTSTART;VALUE=DATE:20251201
DTEND;VALUE=DATE:20251202
DTSTAMP:20260425T134123
CREATED:20250731T142028Z
LAST-MODIFIED:20250903T200127Z
UID:93706-1764547200-1764633599@ubwp.buffalo.edu
SUMMARY:Discount AMC Movie Tickets Available
DESCRIPTION:GSA will have discount AMC Movie Tickets available for sale on December 1st at the UB Ticket Office (online or in 221 Student Union) for $5 each. 1 per UB ID. Tickets can be used for all movies at AMC theatre locations. Limited quantity available. First come\, first served. \n*PLEASE MAKE SURE TO PICK UP YOUR PHYSICAL TICKET(S) FROM THE UB TICKET OFFICE IN 221 STUDENT UNION. THE EMAILED TICKET IS ONLY A VOUCHER AND WILL NOT BE ACCEPTED FOR ADMISSION BY THE VENDOR. \nAll GSA sales are non-refundable.
URL:https://ubwp.buffalo.edu/gsa/event/discount-amc-movie-tickets-available-63/
LOCATION:NY
CATEGORIES:GSA Event
ATTACH;FMTTYPE=image/jpeg:https://ubwp.buffalo.edu/gsa/wp-content/uploads/sites/137/2015/09/AMC.jpg
ORGANIZER;CN="GSA Programming Coordinator":MAILTO:gsa-programming@buffalo.edu
END:VEVENT
BEGIN:VEVENT
DTSTART;TZID=UTC:20251201T143000
DTEND;TZID=UTC:20251201T153000
DTSTAMP:20260425T134123
CREATED:20250903T193730Z
LAST-MODIFIED:20250903T194413Z
UID:93827-1764599400-1764603000@ubwp.buffalo.edu
SUMMARY:Mindfulness Monday ~ Mindful Movement
DESCRIPTION:Reserve your space for free on the UB Ticket Office website.  Limited spaces available.\nAll participants must review the GSA’s Safety Acknowledgement and Participant Disclaimer before attending.
URL:https://ubwp.buffalo.edu/gsa/event/mindfulness-monday-mindful-movement/
LOCATION:210 Student Union\, 210 Student Union\, University at Buffalo\, Buffalo\, NY\, 14260\, United States
CATEGORIES:GSA Event
ORGANIZER;CN="GSA Programming Coordinator":MAILTO:gsa-programming@buffalo.edu
END:VEVENT
BEGIN:VEVENT
DTSTART;VALUE=DATE:20251203
DTEND;VALUE=DATE:20251204
DTSTAMP:20260425T134123
CREATED:20250730T193136Z
LAST-MODIFIED:20251202T163744Z
UID:93601-1764720000-1764806399@ubwp.buffalo.edu
SUMMARY:Winter Break Paperwork Deadline
DESCRIPTION:Please note that the GSA will be closing for Winter Break from Tuesday\, December 9th until Monday\, January 5th.  Because of this\, all requisitions\, order forms\, reimbursement and/or payment paperwork that must be processed before this shut down will be due by Wednesday\, December 3rd.  Any documentation submitted after this date will not be processed until after we re-open\, which means that checks will not be cut until mid to late January.  Please make sure that all students and vendors are aware of the deadline in order to avoid delays in approvals or payments.
URL:https://ubwp.buffalo.edu/gsa/event/winter-break-paperwork-deadline-2/
LOCATION:NY
CATEGORIES:Administrative
END:VEVENT
BEGIN:VEVENT
DTSTART;TZID=UTC:20251203T183000
DTEND;TZID=UTC:20251203T210000
DTSTAMP:20260425T134123
CREATED:20250730T171809Z
LAST-MODIFIED:20250730T171809Z
UID:93495-1764786600-1764795600@ubwp.buffalo.edu
SUMMARY:December Board of Directors Meeting
DESCRIPTION:The December 3rd Board of Directors meeting will be held online via Zoom.  GSA Board of Directors meetings are open to the public\, but only designated representatives from Departmental and International clubs may vote. Sign-in begins at 6:00pm so that the meeting can begin promptly at 6:30pm. Once the meeting begins no one else will be admitted for attendance purposes. \nPLEASE NOTE: Every club will need to email Stephanie at slfrank@buffalo.edu no later than 12:00pm on Wednesday\, December 3rd with who will be attending the meeting on the club’s behalf so that eligible representatives can be verified in advance.  Once representatives are verified they will be sent the Zoom meeting link and password directly\, along with some instructions on how the meeting will be managed\, in order to be able to participate and vote.  Only previously verified representatives will be admitted to participate in the Zoom meeting. \nFor attendance purposes each Special Interest Club may have one representative participate directly in the Zoom meeting\, but they will not have voting privileges.  Additional special requests for guests and/or speakers to be admitted may be sent to gsa-feedback@buffalo.edu. \nThe meeting will also be live streamed via GSA’s Facebook Page for anyone else that is interested in watching the meeting without voting privileges or an official attendance record\, as meetings are open to the public.
URL:https://ubwp.buffalo.edu/gsa/event/december-board-of-directors-meeting-6/
LOCATION:Online via Zoom
CATEGORIES:Administrative,GSA Event
END:VEVENT
BEGIN:VEVENT
DTSTART;TZID=UTC:20251205T110000
DTEND;TZID=UTC:20251205T130000
DTSTAMP:20260425T134123
CREATED:20250730T181950Z
LAST-MODIFIED:20250909T185449Z
UID:93529-1764932400-1764939600@ubwp.buffalo.edu
SUMMARY:North Campus Java Junction
DESCRIPTION:Free Tim Horton’s coffee and doughnuts for graduate students in 215 Student Union. \nAll participants must review the GSA’s Safety Acknowledgement and Participant Disclaimer before attending.
URL:https://ubwp.buffalo.edu/gsa/event/north-campus-java-junction-2/
LOCATION:215 Student Union
CATEGORIES:GSA Event
ATTACH;FMTTYPE=image/jpeg:https://ubwp.buffalo.edu/gsa/wp-content/uploads/sites/137/2025/07/Timmy-Hos.jpg
ORGANIZER;CN="GSA Programming Coordinator":MAILTO:gsa-programming@buffalo.edu
END:VEVENT
BEGIN:VEVENT
DTSTART;VALUE=DATE:20251208
DTEND;VALUE=DATE:20251209
DTSTAMP:20260425T134123
CREATED:20250730T160425Z
LAST-MODIFIED:20250730T160425Z
UID:93434-1765152000-1765238399@ubwp.buffalo.edu
SUMMARY:Last Day of Fall Classes
DESCRIPTION:
URL:https://ubwp.buffalo.edu/gsa/event/last-day-of-fall-classes-11/
LOCATION:NY
CATEGORIES:Administrative
END:VEVENT
BEGIN:VEVENT
DTSTART;VALUE=DATE:20251209
DTEND;VALUE=DATE:20260103
DTSTAMP:20260425T134123
CREATED:20250730T160636Z
LAST-MODIFIED:20250730T160704Z
UID:93436-1765238400-1767398399@ubwp.buffalo.edu
SUMMARY:GSA Closed for Winter Recess
DESCRIPTION:The GSA will be closed for Winter Recess from Tuesday\, December 9th until Monday\, January 5th. \nThe office will be open for Summer Hours (Monday – Thursday 8:30am – 4:00pm) from January 5th – 20th. \nRegular business hours will resume with the start of classes on January 21st.
URL:https://ubwp.buffalo.edu/gsa/event/gsa-closed-for-winter-recess-4/
LOCATION:NY
CATEGORIES:Administrative
END:VEVENT
BEGIN:VEVENT
DTSTART;VALUE=DATE:20251210
DTEND;VALUE=DATE:20251211
DTSTAMP:20260425T134123
CREATED:20251209T165302Z
LAST-MODIFIED:20251209T165838Z
UID:94127-1765324800-1765411199@ubwp.buffalo.edu
SUMMARY:Discount Canalside Ice Skating Packages Available
DESCRIPTION:Vouchers on sale December 10th at 10:00am at the UB Ticket Office (online or in 221 Student Union) for $2 each. 2 per UB ID. Tickets include admission and skate rental.  Vouchers must be used by February 28\, 2026! \nLimited quantity available.  First come\, first served. \n*PLEASE MAKE SURE TO PICK UP YOUR PHYSICAL TICKET(S) FROM THE UB TICKET OFFICE IN 221 STUDENT UNION.  THE EMAILED TICKET IS ONLY A VOUCHER AND WILL NOT BE ACCEPTED FOR ADMISSION BY THE VENDOR. \n\n 
URL:https://ubwp.buffalo.edu/gsa/event/discount-canalside-ice-skating-packages-available-7/
LOCATION:Canalside Ice Rink\, 44 Prime St.\, Buffalo\, NY\, 14202\, United States
CATEGORIES:GSA Event
ATTACH;FMTTYPE=image/jpeg:https://ubwp.buffalo.edu/gsa/wp-content/uploads/sites/137/2018/11/Canalside-Ice-Skating.jpg
ORGANIZER;CN="GSA Programming Coordinator":MAILTO:gsa-programming@buffalo.edu
END:VEVENT
BEGIN:VEVENT
DTSTART;VALUE=DATE:20251215
DTEND;VALUE=DATE:20251216
DTSTAMP:20260425T134123
CREATED:20250731T125821Z
LAST-MODIFIED:20250731T125821Z
UID:93617-1765756800-1765843199@ubwp.buffalo.edu
SUMMARY:Deadline for January Conference Funding Applications
DESCRIPTION:All applications for Conference Funding for conferences during the month of January are due by the close of business at 4:00pm. \nThe GSA Conference Funding Application is available as an online form on GSA’s UBLinked page.  Please note that you must be signed in to UBLinked and “Join” as a member of GSA in order to be able to access the form on the Homepage.
URL:https://ubwp.buffalo.edu/gsa/event/deadline-for-january-conference-funding-applications-13/
LOCATION:NY
CATEGORIES:Administrative
END:VEVENT
END:VCALENDAR