BEGIN:VCALENDAR
VERSION:2.0
PRODID:-//Graduate Student Association - ECPv6.15.20//NONSGML v1.0//EN
CALSCALE:GREGORIAN
METHOD:PUBLISH
X-WR-CALNAME:Graduate Student Association
X-ORIGINAL-URL:https://ubwp.buffalo.edu/gsa
X-WR-CALDESC:Events for Graduate Student Association
REFRESH-INTERVAL;VALUE=DURATION:PT1H
X-Robots-Tag:noindex
X-PUBLISHED-TTL:PT1H
BEGIN:VTIMEZONE
TZID:UTC
BEGIN:STANDARD
TZOFFSETFROM:+0000
TZOFFSETTO:+0000
TZNAME:UTC
DTSTART:20240101T000000
END:STANDARD
END:VTIMEZONE
BEGIN:VEVENT
DTSTART;VALUE=DATE:20250606
DTEND;VALUE=DATE:20250607
DTSTAMP:20260423T063025
CREATED:20240618T145951Z
LAST-MODIFIED:20240618T150116Z
UID:50599-1749168000-1749254399@ubwp.buffalo.edu
SUMMARY:GSA Closed
DESCRIPTION:GSA Summer Office Hours: Monday – Thursday 8:30am – 4:00pm\, closed on Fridays.
URL:https://ubwp.buffalo.edu/gsa/event/50599/
LOCATION:NY
CATEGORIES:Administrative
END:VEVENT
BEGIN:VEVENT
DTSTART;VALUE=DATE:20250613
DTEND;VALUE=DATE:20250614
DTSTAMP:20260423T063025
CREATED:20240618T150014Z
LAST-MODIFIED:20240618T150014Z
UID:50602-1749772800-1749859199@ubwp.buffalo.edu
SUMMARY:GSA Closed
DESCRIPTION:GSA Summer Office Hours: Monday – Thursday 8:30am – 4:00pm\, closed on Fridays.
URL:https://ubwp.buffalo.edu/gsa/event/gsa-closed-93/
LOCATION:NY
CATEGORIES:Administrative
END:VEVENT
BEGIN:VEVENT
DTSTART;VALUE=DATE:20250615
DTEND;VALUE=DATE:20250616
DTSTAMP:20260423T063025
CREATED:20240618T132019Z
LAST-MODIFIED:20240618T132019Z
UID:50447-1749945600-1750031999@ubwp.buffalo.edu
SUMMARY:Deadline for July Conference Funding Applications
DESCRIPTION:All applications for Conference Funding for conferences during the month of July are due by the close of business at 4:00pm. \nThe GSA Conference Funding Application is now available as an online form on GSA’s UBLinked page.  Please note that you must be signed in to UBLinked and “Join” as a member of GSA in order to be able to access the form on the Homepage.
URL:https://ubwp.buffalo.edu/gsa/event/deadline-for-july-conference-funding-applications-12/
LOCATION:NY
CATEGORIES:Administrative
END:VEVENT
BEGIN:VEVENT
DTSTART;VALUE=DATE:20250619
DTEND;VALUE=DATE:20250620
DTSTAMP:20260423T063025
CREATED:20240618T152729Z
LAST-MODIFIED:20240618T152729Z
UID:50654-1750291200-1750377599@ubwp.buffalo.edu
SUMMARY:GSA Closed
DESCRIPTION:GSA will be closed for Juneteenth observance.
URL:https://ubwp.buffalo.edu/gsa/event/gsa-closed-105/
LOCATION:NY
CATEGORIES:Administrative
END:VEVENT
BEGIN:VEVENT
DTSTART;VALUE=DATE:20250620
DTEND;VALUE=DATE:20250621
DTSTAMP:20260423T063025
CREATED:20240618T150037Z
LAST-MODIFIED:20240618T150148Z
UID:50604-1750377600-1750463999@ubwp.buffalo.edu
SUMMARY:GSA Closed
DESCRIPTION:GSA Summer Office Hours: Monday – Thursday 8:30am – 4:00pm\, closed on Fridays.
URL:https://ubwp.buffalo.edu/gsa/event/gsa-closed-94/
LOCATION:NY
CATEGORIES:Administrative
END:VEVENT
BEGIN:VEVENT
DTSTART;VALUE=DATE:20250627
DTEND;VALUE=DATE:20250628
DTSTAMP:20260423T063025
CREATED:20240618T150249Z
LAST-MODIFIED:20240618T150249Z
UID:50610-1750982400-1751068799@ubwp.buffalo.edu
SUMMARY:GSA Closed
DESCRIPTION:GSA Summer Office Hours: Monday – Thursday 8:30am – 4:00pm\, closed on Fridays.
URL:https://ubwp.buffalo.edu/gsa/event/gsa-closed-95/
LOCATION:NY
CATEGORIES:Administrative
END:VEVENT
BEGIN:VEVENT
DTSTART;VALUE=DATE:20250627
DTEND;VALUE=DATE:20250628
DTSTAMP:20260423T063025
CREATED:20240618T152006Z
LAST-MODIFIED:20250506T143651Z
UID:50648-1750982400-1751068799@ubwp.buffalo.edu
SUMMARY:MDRF Summer Application Deadline
DESCRIPTION:Deadline for MDRF grant applications for research to be conducted between August 1\, 2025 and July 31\, 2026. \nComplete grant applications must be submitted online by 3:00pm on Friday\, June 27\, 2025. \n\n\nThe last date that applicants may submit their grant to the MDRF Director (gsa-mdrf@buffalo.edu) for review prior to the deadline is Wednesday\, June 11th at 10:00am.  Applicants will only be granted one full review.
URL:https://ubwp.buffalo.edu/gsa/event/mdrf-summer-application-deadline-10/
LOCATION:NY
CATEGORIES:Administrative,MDRF
ORGANIZER;CN="MDRF Director":MAILTO:gsa-mdrf@buffalo.edu
END:VEVENT
END:VCALENDAR