BEGIN:VCALENDAR
VERSION:2.0
PRODID:-//Graduate Student Association - ECPv6.15.20//NONSGML v1.0//EN
CALSCALE:GREGORIAN
METHOD:PUBLISH
X-ORIGINAL-URL:https://ubwp.buffalo.edu/gsa
X-WR-CALDESC:Events for Graduate Student Association
REFRESH-INTERVAL;VALUE=DURATION:PT1H
X-Robots-Tag:noindex
X-PUBLISHED-TTL:PT1H
BEGIN:VTIMEZONE
TZID:UTC
BEGIN:STANDARD
TZOFFSETFROM:+0000
TZOFFSETTO:+0000
TZNAME:UTC
DTSTART:20230101T000000
END:STANDARD
END:VTIMEZONE
BEGIN:VEVENT
DTSTART;VALUE=DATE:20240607
DTEND;VALUE=DATE:20240608
DTSTAMP:20260423T220225
CREATED:20230629T195143Z
LAST-MODIFIED:20230629T195143Z
UID:28255-1717718400-1717804799@ubwp.buffalo.edu
SUMMARY:GSA Closed
DESCRIPTION:GSA Summer Office Hours: Monday – Thursday 8:30am – 4:00pm\, closed on Fridays.
URL:https://ubwp.buffalo.edu/gsa/event/gsa-closed-66/
LOCATION:NY
CATEGORIES:Administrative
END:VEVENT
BEGIN:VEVENT
DTSTART;VALUE=DATE:20240614
DTEND;VALUE=DATE:20240615
DTSTAMP:20260423T220225
CREATED:20230629T195206Z
LAST-MODIFIED:20230629T195206Z
UID:28257-1718323200-1718409599@ubwp.buffalo.edu
SUMMARY:GSA Closed
DESCRIPTION:GSA Summer Office Hours: Monday – Thursday 8:30am – 4:00pm\, closed on Fridays.
URL:https://ubwp.buffalo.edu/gsa/event/gsa-closed-67/
LOCATION:NY
CATEGORIES:Administrative
END:VEVENT
BEGIN:VEVENT
DTSTART;VALUE=DATE:20240615
DTEND;VALUE=DATE:20240616
DTSTAMP:20260423T220225
CREATED:20230627T154615Z
LAST-MODIFIED:20230627T154615Z
UID:28065-1718409600-1718495999@ubwp.buffalo.edu
SUMMARY:Deadline for July Conference Funding Applications
DESCRIPTION:All applications for Conference Funding for conferences during the month of July are due by the close of business at 4:00pm. \nThe GSA Conference Funding Application is now available as an online form on GSA’s UBLinked page.  Please note that you must be signed in to UBLinked and “Join” as a member of GSA in order to be able to access the form on the Homepage.
URL:https://ubwp.buffalo.edu/gsa/event/deadline-for-july-conference-funding-applications-11/
LOCATION:NY
CATEGORIES:Administrative
END:VEVENT
BEGIN:VEVENT
DTSTART;VALUE=DATE:20240619
DTEND;VALUE=DATE:20240620
DTSTAMP:20260423T220225
CREATED:20230629T201142Z
LAST-MODIFIED:20230629T201142Z
UID:28285-1718755200-1718841599@ubwp.buffalo.edu
SUMMARY:GSA Closed
DESCRIPTION:The GSA will be closed for Juneteenth observance.
URL:https://ubwp.buffalo.edu/gsa/event/gsa-closed-80/
LOCATION:NY
CATEGORIES:Administrative
END:VEVENT
BEGIN:VEVENT
DTSTART;VALUE=DATE:20240621
DTEND;VALUE=DATE:20240622
DTSTAMP:20260423T220225
CREATED:20230629T200015Z
LAST-MODIFIED:20230629T200015Z
UID:28277-1718928000-1719014399@ubwp.buffalo.edu
SUMMARY:GSA Closed
DESCRIPTION:GSA Summer Office Hours: Monday – Thursday 8:30am – 4:00pm\, closed on Fridays.
URL:https://ubwp.buffalo.edu/gsa/event/gsa-closed-76/
LOCATION:NY
CATEGORIES:Administrative
END:VEVENT
BEGIN:VEVENT
DTSTART;VALUE=DATE:20240628
DTEND;VALUE=DATE:20240629
DTSTAMP:20260423T220225
CREATED:20230629T195352Z
LAST-MODIFIED:20230629T195352Z
UID:28259-1719532800-1719619199@ubwp.buffalo.edu
SUMMARY:GSA Closed
DESCRIPTION:GSA Summer Office Hours: Monday – Thursday 8:30am – 4:00pm\, closed on Fridays.
URL:https://ubwp.buffalo.edu/gsa/event/gsa-closed-58/
LOCATION:NY
CATEGORIES:Administrative
END:VEVENT
BEGIN:VEVENT
DTSTART;TZID=UTC:20240629T183000
DTEND;TZID=UTC:20240629T223000
DTSTAMP:20260423T220225
CREATED:20240508T183841Z
LAST-MODIFIED:20240521T114544Z
UID:43644-1719685800-1719700200@ubwp.buffalo.edu
SUMMARY:Shakespeare in Delaware Park ~ The Winter's Tale
DESCRIPTION:GSA will be the corporate sponsor of the June 29th presentation of The Winter’s Tale\, 6:30pm at Delaware Park (by the Rose Garden). \nFree tickets available starting June 3rd at the UB Ticket Office (online or in 221 Student Union).  1 max. per UB ID. Limited quantity available.  First come\, first served. \n*Tickets include VIP seating\, complimentary champagne and light hors d’oeuvres in the tent before the show.
URL:https://ubwp.buffalo.edu/gsa/event/shakespeare-in-delaware-park-the-winters-tale/
LOCATION:Delaware Park\, 199 Lincoln Pkwy.\, Buffalo\, NY\, 14222\, United States
CATEGORIES:GSA Event
ATTACH;FMTTYPE=image/jpeg:https://ubwp.buffalo.edu/gsa/wp-content/uploads/sites/137/2014/05/Shakespear-in-Delaware-Park.jpg
ORGANIZER;CN="GSA Programming Coordinator":MAILTO:gsa-programming@buffalo.edu
END:VEVENT
END:VCALENDAR