BEGIN:VCALENDAR
VERSION:2.0
PRODID:-//Graduate Student Association - ECPv6.15.20//NONSGML v1.0//EN
CALSCALE:GREGORIAN
METHOD:PUBLISH
X-ORIGINAL-URL:https://ubwp.buffalo.edu/gsa
X-WR-CALDESC:Events for Graduate Student Association
REFRESH-INTERVAL;VALUE=DURATION:PT1H
X-Robots-Tag:noindex
X-PUBLISHED-TTL:PT1H
BEGIN:VTIMEZONE
TZID:UTC
BEGIN:STANDARD
TZOFFSETFROM:+0000
TZOFFSETTO:+0000
TZNAME:UTC
DTSTART:20220101T000000
END:STANDARD
END:VTIMEZONE
BEGIN:VEVENT
DTSTART;VALUE=DATE:20231212
DTEND;VALUE=DATE:20240102
DTSTAMP:20260423T034255
CREATED:20230629T192621Z
LAST-MODIFIED:20230629T192621Z
UID:28216-1702339200-1704153599@ubwp.buffalo.edu
SUMMARY:GSA Closed for Winter Recess
DESCRIPTION:The GSA will be closed for Winter Recess from Tuesday\, December 12th until Tuesday\, January 2nd. \nThe office will be open for Summer Hours (Monday – Thursday 8:30am – 4:00pm) from January 2nd – 23rd. \nRegular business hours will resume with the start of classes on January 24th.
URL:https://ubwp.buffalo.edu/gsa/event/gsa-closed-for-winter-recess-2/
LOCATION:NY
CATEGORIES:Administrative
END:VEVENT
BEGIN:VEVENT
DTSTART;VALUE=DATE:20240102
DTEND;VALUE=DATE:20240105
DTSTAMP:20260423T034255
CREATED:20230629T192808Z
LAST-MODIFIED:20240618T144234Z
UID:28218-1704153600-1704412799@ubwp.buffalo.edu
SUMMARY:GSA on Summer Hours
DESCRIPTION:The GSA will be open for Summer Hours: Tuesday to Thursday 8:30am – 4:00pm\, closed on Friday\, January 5th.
URL:https://ubwp.buffalo.edu/gsa/event/gsa-on-summer-hours-15/
LOCATION:NY
CATEGORIES:Administrative
END:VEVENT
BEGIN:VEVENT
DTSTART;VALUE=DATE:20240105
DTEND;VALUE=DATE:20240106
DTSTAMP:20260423T034255
CREATED:20230629T193533Z
LAST-MODIFIED:20230629T193533Z
UID:28237-1704412800-1704499199@ubwp.buffalo.edu
SUMMARY:GSA Closed
DESCRIPTION:he GSA will be open for Summer Hours: Tuesday to Thursday 8:30am – 4:00pm\, closed on Friday\, January 5th.
URL:https://ubwp.buffalo.edu/gsa/event/gsa-closed-62/
LOCATION:NY
CATEGORIES:Administrative
END:VEVENT
BEGIN:VEVENT
DTSTART;VALUE=DATE:20240108
DTEND;VALUE=DATE:20240112
DTSTAMP:20260423T034255
CREATED:20230629T193017Z
LAST-MODIFIED:20230629T193017Z
UID:28222-1704672000-1705017599@ubwp.buffalo.edu
SUMMARY:GSA on Summer Hours
DESCRIPTION:The GSA will be open for Summer Hours: Monday to Thursday 8:30am – 4:00pm\, closed on Friday\, January 12th.
URL:https://ubwp.buffalo.edu/gsa/event/gsa-on-summer-hours-16/
LOCATION:NY
CATEGORIES:Administrative
END:VEVENT
BEGIN:VEVENT
DTSTART;VALUE=DATE:20240112
DTEND;VALUE=DATE:20240113
DTSTAMP:20260423T034255
CREATED:20230629T193045Z
LAST-MODIFIED:20230629T193045Z
UID:28224-1705017600-1705103999@ubwp.buffalo.edu
SUMMARY:GSA Closed
DESCRIPTION:The GSA will be open for Summer Hours: Monday to Thursday 8:30am – 4:00pm\, closed on Friday\, January 12th.
URL:https://ubwp.buffalo.edu/gsa/event/gsa-closed-59/
LOCATION:NY
CATEGORIES:Administrative
END:VEVENT
BEGIN:VEVENT
DTSTART;VALUE=DATE:20240115
DTEND;VALUE=DATE:20240116
DTSTAMP:20260423T034255
CREATED:20230627T154240Z
LAST-MODIFIED:20230627T154240Z
UID:28054-1705276800-1705363199@ubwp.buffalo.edu
SUMMARY:Deadline for February Conference Funding Applications
DESCRIPTION:All applications for Conference Funding for conferences during the month of February are due by the close of business at 4:00pm. \nThe GSA Conference Funding Application is now available as an online form on GSA’s UBLinked page.  Please note that you must be signed in to UBLinked and “Join” as a member of GSA in order to be able to access the form on the Homepage.
URL:https://ubwp.buffalo.edu/gsa/event/deadline-for-february-conference-funding-applications-11/
LOCATION:NY
CATEGORIES:Administrative
END:VEVENT
BEGIN:VEVENT
DTSTART;VALUE=DATE:20240115
DTEND;VALUE=DATE:20240116
DTSTAMP:20260423T034255
CREATED:20230629T193138Z
LAST-MODIFIED:20230629T193138Z
UID:28226-1705276800-1705363199@ubwp.buffalo.edu
SUMMARY:GSA Closed
DESCRIPTION:The GSA will be closed for Martin Luther King Jr. Day observance.
URL:https://ubwp.buffalo.edu/gsa/event/gsa-closed-60/
LOCATION:NY
CATEGORIES:Administrative
END:VEVENT
BEGIN:VEVENT
DTSTART;VALUE=DATE:20240116
DTEND;VALUE=DATE:20240119
DTSTAMP:20260423T034255
CREATED:20230629T193233Z
LAST-MODIFIED:20230629T193233Z
UID:28228-1705363200-1705622399@ubwp.buffalo.edu
SUMMARY:GSA on Summer Hours
DESCRIPTION:The GSA office will be open for Summer Hours: Tuesday to Thursday 8:30am – 4:00pm\, closed on Friday\, January 19th.
URL:https://ubwp.buffalo.edu/gsa/event/gsa-on-summer-hours-17/
LOCATION:NY
CATEGORIES:Administrative
END:VEVENT
BEGIN:VEVENT
DTSTART;VALUE=DATE:20240119
DTEND;VALUE=DATE:20240120
DTSTAMP:20260423T034255
CREATED:20230629T193255Z
LAST-MODIFIED:20230629T193255Z
UID:28230-1705622400-1705708799@ubwp.buffalo.edu
SUMMARY:GSA Closed
DESCRIPTION:The GSA office will be open for Summer Hours: Tuesday to Thursday 8:30am – 4:00pm\, closed on Friday\, January 19th.
URL:https://ubwp.buffalo.edu/gsa/event/gsa-closed-61/
LOCATION:NY
CATEGORIES:Administrative
END:VEVENT
BEGIN:VEVENT
DTSTART;VALUE=DATE:20240122
DTEND;VALUE=DATE:20240124
DTSTAMP:20260423T034255
CREATED:20230629T193349Z
LAST-MODIFIED:20230629T193349Z
UID:28232-1705881600-1706054399@ubwp.buffalo.edu
SUMMARY:GSA on Summer Hours
DESCRIPTION:The GSA office will be open for Summer Hours: Monday and Tuesday 8:30am – 4:00pm.
URL:https://ubwp.buffalo.edu/gsa/event/gsa-on-summer-hours-18/
LOCATION:NY
CATEGORIES:Administrative
END:VEVENT
BEGIN:VEVENT
DTSTART;VALUE=DATE:20240124
DTEND;VALUE=DATE:20240125
DTSTAMP:20260423T034255
CREATED:20230629T154551Z
LAST-MODIFIED:20230629T154551Z
UID:28172-1706054400-1706140799@ubwp.buffalo.edu
SUMMARY:February Group Funding Applications Deadline
DESCRIPTION:Application materials are due for Special Activities\, Interdepartmental Activities\, Symposium and Community Outreach funding for events occurring after the February Board of Directors meeting. All application materials due by the close of business at 4:00pm.
URL:https://ubwp.buffalo.edu/gsa/event/february-group-funding-applications-deadline-11/
LOCATION:NY
CATEGORIES:Administrative
END:VEVENT
BEGIN:VEVENT
DTSTART;VALUE=DATE:20240124
DTEND;VALUE=DATE:20240125
DTSTAMP:20260423T034255
CREATED:20230629T193431Z
LAST-MODIFIED:20230629T193431Z
UID:28234-1706054400-1706140799@ubwp.buffalo.edu
SUMMARY:Spring Classes Begin
DESCRIPTION:
URL:https://ubwp.buffalo.edu/gsa/event/spring-classes-begin-9/
LOCATION:NY
CATEGORIES:Administrative
END:VEVENT
BEGIN:VEVENT
DTSTART;TZID=UTC:20240131T183000
DTEND;TZID=UTC:20240131T203000
DTSTAMP:20260423T034255
CREATED:20230629T160718Z
LAST-MODIFIED:20230629T160718Z
UID:28197-1706725800-1706733000@ubwp.buffalo.edu
SUMMARY:Finance Committee Meeting
DESCRIPTION:Finance Committee meeting to review group funding requests for events to take place in February or later.
URL:https://ubwp.buffalo.edu/gsa/event/finance-committee-meeting-74/
LOCATION:NY
CATEGORIES:Administrative
ORGANIZER;CN="GSA Treasurer":MAILTO:gsa-treasurer@buffalo.edu
END:VEVENT
END:VCALENDAR