BEGIN:VCALENDAR
VERSION:2.0
PRODID:-//Graduate Student Association - ECPv6.15.20//NONSGML v1.0//EN
CALSCALE:GREGORIAN
METHOD:PUBLISH
X-ORIGINAL-URL:https://ubwp.buffalo.edu/gsa
X-WR-CALDESC:Events for Graduate Student Association
REFRESH-INTERVAL;VALUE=DURATION:PT1H
X-Robots-Tag:noindex
X-PUBLISHED-TTL:PT1H
BEGIN:VTIMEZONE
TZID:UTC
BEGIN:STANDARD
TZOFFSETFROM:+0000
TZOFFSETTO:+0000
TZNAME:UTC
DTSTART:20220101T000000
END:STANDARD
END:VTIMEZONE
BEGIN:VEVENT
DTSTART;TZID=UTC:20230201T180000
DTEND;TZID=UTC:20230201T210000
DTSTAMP:20260425T134123
CREATED:20220620T162205Z
LAST-MODIFIED:20230124T154838Z
UID:27081-1675274400-1675285200@ubwp.buffalo.edu
SUMMARY:February Board of Directors Meeting
DESCRIPTION:The February 1st Board of Directors meeting will be held online via Zoom.  GSA Board of Directors meetings are open to the public\, but only designated representatives from Departmental and International clubs may vote. Sign-in begins at 6:00pm so that the meeting can begin promptly at 6:30pm. Once the meeting begins no one else will be admitted for attendance purposes. \nPLEASE NOTE: Every club will need to email Stephanie at slfrank@buffalo.edu no later than 12:00pm on Wednesday\, February 1st with who will be attending the meeting on the club’s behalf so that eligible representatives can be verified in advance.  Once representatives are verified they will be sent the Zoom meeting link and password directly\, along with some instructions on how the meeting will be managed\, in order to be able to participate and vote.  Only previously verified representatives will be admitted to participate in the Zoom meeting. \nFor attendance purposes each Special Interest Club may have one representative participate directly in the Zoom meeting\, but they will not have voting privileges.  Additional special requests for guests and/or speakers to be admitted may be sent to gsa-feedback@buffalo.edu. \nThe meeting will also be live streamed via GSA’s Facebook Page for anyone else that is interested in watching the meeting without voting privileges or an official attendance record\, as meetings are open to the public.
URL:https://ubwp.buffalo.edu/gsa/event/february-board-of-directors-meeting-3/
LOCATION:Online via Zoom
CATEGORIES:Administrative,GSA Event
END:VEVENT
BEGIN:VEVENT
DTSTART;TZID=UTC:20230203T110000
DTEND;TZID=UTC:20230203T130000
DTSTAMP:20260425T134123
CREATED:20230110T153452Z
LAST-MODIFIED:20230110T153452Z
UID:27624-1675422000-1675429200@ubwp.buffalo.edu
SUMMARY:Java Junction
DESCRIPTION:Free Tim Horton’s coffee and doughnuts for graduate students in 145C&D Student Union. \nAll participants must review the GSA’s Safety Acknowledgement and Participant Disclaimer before attending.
URL:https://ubwp.buffalo.edu/gsa/event/java-junction-61/
LOCATION:145 Student Union
CATEGORIES:GSA Event
ATTACH;FMTTYPE=image/jpeg:https://ubwp.buffalo.edu/gsa/wp-content/uploads/sites/137/2013/08/java.jpg
ORGANIZER;CN="GSA Programming Coordinator":MAILTO:gsa-programming@buffalo.edu
END:VEVENT
BEGIN:VEVENT
DTSTART;VALUE=DATE:20230206
DTEND;VALUE=DATE:20230207
DTSTAMP:20260425T134123
CREATED:20230110T154211Z
LAST-MODIFIED:20230407T105743Z
UID:27633-1675641600-1675727999@ubwp.buffalo.edu
SUMMARY:Discount AMC Movie Tickets Available
DESCRIPTION:  \nGSA will have discount AMC Movie Tickets available for sale on February 6th  at the UB Ticket Office (online or in 221 Student Union) for $5 each.  1 per UB ID.  Tickets can be used for all movies at AMC theatre locations. Limited quantity available. First come\, first served. \n*PLEASE MAKE SURE TO PICK UP YOUR PHYSICAL TICKET(S) FROM THE UB TICKET OFFICE IN 221 STUDENT UNION.  THE EMAILED TICKET IS ONLY A VOUCHER AND WILL NOT BE ACCEPTED FOR ADMISSION BY THE VENDOR.
URL:https://ubwp.buffalo.edu/gsa/event/discount-amc-movie-tickets-available-43/
LOCATION:NY
CATEGORIES:GSA Event
ATTACH;FMTTYPE=image/jpeg:https://ubwp.buffalo.edu/gsa/wp-content/uploads/sites/137/2015/09/AMC.jpg
ORGANIZER;CN="GSA Programming Coordinator":MAILTO:gsa-programming@buffalo.edu
END:VEVENT
BEGIN:VEVENT
DTSTART;VALUE=DATE:20230215
DTEND;VALUE=DATE:20230216
DTSTAMP:20260425T134123
CREATED:20220620T152701Z
LAST-MODIFIED:20220620T152701Z
UID:26998-1676419200-1676505599@ubwp.buffalo.edu
SUMMARY:Deadline for March Conference Funding Applications
DESCRIPTION:All applications for Conference Funding for conferences during the month of March are due by the close of business at 4:30pm. \nThe GSA Conference Funding Application is now available as an online form on GSA’s UBLinked page.  Please note that you must be signed in to UBLinked and “Join” as a member of GSA in order to be able to access the form on the Homepage.
URL:https://ubwp.buffalo.edu/gsa/event/deadline-for-march-conference-funding-applications-10/
LOCATION:NY
CATEGORIES:Administrative
END:VEVENT
BEGIN:VEVENT
DTSTART;VALUE=DATE:20230215
DTEND;VALUE=DATE:20230216
DTSTAMP:20260425T134123
CREATED:20220620T160717Z
LAST-MODIFIED:20220620T160717Z
UID:27065-1676419200-1676505599@ubwp.buffalo.edu
SUMMARY:March/April Group Funding Applications Deadline
DESCRIPTION:Application materials are due for Special Activities\, Interdepartmental Activities\, Symposium and Community Outreach funding for events occurring after the March Board of Directors meeting. All application materials due by the close of business at 4:30pm.
URL:https://ubwp.buffalo.edu/gsa/event/march-april-group-funding-applications-deadline-4/
LOCATION:NY
CATEGORIES:Administrative
END:VEVENT
BEGIN:VEVENT
DTSTART;TZID=UTC:20230216T190000
DTEND;TZID=UTC:20230216T210000
DTSTAMP:20260425T134123
CREATED:20220830T152538Z
LAST-MODIFIED:20230110T151207Z
UID:27349-1676574000-1676581200@ubwp.buffalo.edu
SUMMARY:Distinguished Speaker Series presents Sherrilyn Ifill
DESCRIPTION:Sherrilyn Ifill\n\n\nCivil Rights Lawyer | Former President and Director-Counsel of NAACP Legal Defense and Educational Fund \n\n\nANNUAL MARTIN LUTHER KING\, JR. COMMEMORATION KEYNOTE SPEAKER \n\n\nFree tickets available for graduate students starting February 1st through the UB Ticket Office.  1 per UB ID.\n\n\n\n\n\n\n\nPublic Ticket Information\nThurs.\, February 16\, 2023 at 7:00 p.m.\nCenter for the Arts\, UB North Campus\n\n\n\n\n\nMore About Sherrilyn Ifill\n\n\nSherrilyn Ifill served as the seventh president and director-counsel of the NAACP Legal Defense Fund (LDF) from 2013 to 2022\, and currently serves as president and director-counsel emeritus. Ifill\, the second woman to ever lead LDF\, provided visionary and transformational leadership during one of the most consequential and intense moments in our nation’s history. She began her career as a fellow at the American Civil Liberties Union\, before joining the staff of the LDF as an assistant counsel in 1988\, where she litigated voting rights cases for five years. \nFor over 20 years\, Ifill taught civil procedure and constitutional law to thousands of law students\, and pioneered a series of law clinics\, including one of the earliest law clinics in the country\, focused on challenging legal barriers to the reentry of ex-offenders at the University of Maryland School of Law in Baltimore. Ifill is also a prolific scholar who has published academic articles in leading law journals\, and op-eds and commentaries in leading newspapers. Her 2007 book\, “On the Courthouse Lawn: Confronting the Legacy of Lynching in the 21st Century\,” was highly acclaimed\, and is credited with laying the foundation for contemporary conversations about lynching and reconciliation. \nIn 2013\, Ifill was invited back to the Legal Defense Fund – this time to lead the organization as its 7th director-counsel. In that role\, Ifill increased the visibility and engagement of the organization in litigating cutting-edge and urgent civil rights issues and elevating the organization’s decades-long leadership fighting voter suppression\, inequity in education and racial discrimination in the criminal justice system. At critical moments during national political and civil rights crises\, Ifill’s voice and vision have powerfully influenced our national dialogue. Ifill is a frequent public commentator on racial justice issues\, known for her fact-based\, richly contextualized analysis of complex racial issues. She is a trusted and valued advisor to civic and community leaders\, national civil rights colleagues\, and business leaders. \nAmong many honors\, Ifill is the recipient of numerous honorary degrees\, and was recently named one of TIME Magazine’s Women of the Year. She was named one of TIME Magazine’s 100 Most Influential People in the world in 2021\, one of Glamour Magazine’s Women of the Year in 2020\, honored with a 2021 Spirit of Excellence Award by the American Bar Association\, and named Attorney of the Year by The American Lawyer in 2020. In 2022\, Ifill will receive the prestigious Brandeis Medal\, named for Supreme Court Justice Louis D. Brandeis\, and recently received the American Bar Association’s Thurgood Marshall Award. \nIfill graduated from Vassar College in 1984 with a BA in English and earned her JD from New York University School of Law in 1987. She has received honorary doctorates from New York University\, Bard College\, Fordham Law School and CUNY Law School. In 2019\, Ifill was inducted into the American Academy of Arts & Sciences. In 2020\, she was named Attorney of the Year by The American Lawyer. In 2021\, Ifill was appointed to President Biden’s Commission on the Supreme Court. She serves on the boards of the Learning Policy Institute\, the NYU Law School of Trustees\, the Baltimore Museum of Art\, and the Profiles in Courage Advisory Board. Ifill joined The Ford Foundation organization as a senior fellow in June 2022.
URL:https://ubwp.buffalo.edu/gsa/event/distinguished-speaker-series-presents-sherrilyn-ifill/
LOCATION:Center for the Arts\, Center for the Arts\, University at Buffalo\, Buffalo\, NY\, 14260\, United States
CATEGORIES:University Event
ATTACH;FMTTYPE=image/jpeg:https://ubwp.buffalo.edu/gsa/wp-content/uploads/sites/137/2022/08/Sherrilyn-Ifill.jpg
END:VEVENT
BEGIN:VEVENT
DTSTART;VALUE=DATE:20230217
DTEND;VALUE=DATE:20230218
DTSTAMP:20260425T134123
CREATED:20220620T153731Z
LAST-MODIFIED:20221031T175520Z
UID:27022-1676592000-1676678399@ubwp.buffalo.edu
SUMMARY:MDRF Spring Application Deadline
DESCRIPTION:Deadline for MDRF grant applications for research to be conducted between April 1\, 2023 and March 31\, 2024. \nComplete grant applications must be submitted online by 3:00pm on Friday\, February 17\, 2023. \nThe last date that applicants may submit their grant to the MDRF Director (gsa-mdrf@buffalo.edu) for review prior to the deadline is Wednesday\, February 1st at 12:00pm.
URL:https://ubwp.buffalo.edu/gsa/event/mdrf-spring-application-deadline-9/
LOCATION:NY
CATEGORIES:Administrative,MDRF
ORGANIZER;CN="MDRF Director":MAILTO:gsa-mdrf@buffalo.edu
END:VEVENT
BEGIN:VEVENT
DTSTART;TZID=UTC:20230222T183000
DTEND;TZID=UTC:20230222T203000
DTSTAMP:20260425T134123
CREATED:20220620T155817Z
LAST-MODIFIED:20220620T155817Z
UID:27055-1677090600-1677097800@ubwp.buffalo.edu
SUMMARY:Finance Committee Meeting
DESCRIPTION:Finance Committee meeting to review group funding requests for events to take place in March or later.
URL:https://ubwp.buffalo.edu/gsa/event/finance-committee-meeting-68/
LOCATION:NY
CATEGORIES:Administrative
ORGANIZER;CN="GSA Treasurer":MAILTO:gsa-treasurer@buffalo.edu
END:VEVENT
END:VCALENDAR