BEGIN:VCALENDAR
VERSION:2.0
PRODID:-//Graduate Student Association - ECPv6.15.20//NONSGML v1.0//EN
CALSCALE:GREGORIAN
METHOD:PUBLISH
X-WR-CALNAME:Graduate Student Association
X-ORIGINAL-URL:https://ubwp.buffalo.edu/gsa
X-WR-CALDESC:Events for Graduate Student Association
REFRESH-INTERVAL;VALUE=DURATION:PT1H
X-Robots-Tag:noindex
X-PUBLISHED-TTL:PT1H
BEGIN:VTIMEZONE
TZID:UTC
BEGIN:STANDARD
TZOFFSETFROM:+0000
TZOFFSETTO:+0000
TZNAME:UTC
DTSTART:20210101T000000
END:STANDARD
END:VTIMEZONE
BEGIN:VEVENT
DTSTART;VALUE=DATE:20220805
DTEND;VALUE=DATE:20220806
DTSTAMP:20260425T115441
CREATED:20210727T195224Z
LAST-MODIFIED:20210727T195224Z
UID:26105-1659657600-1659743999@ubwp.buffalo.edu
SUMMARY:GSA Closed
DESCRIPTION:GSA Summer Office Hours: Monday – Thursday 8:30am – 4:00pm\, closed on Fridays.
URL:https://ubwp.buffalo.edu/gsa/event/gsa-closed-23/
LOCATION:NY
CATEGORIES:Administrative
ORGANIZER;CN="GSA Administrative Team":MAILTO:slfrank@buffalo.edu
END:VEVENT
BEGIN:VEVENT
DTSTART;VALUE=DATE:20220812
DTEND;VALUE=DATE:20220813
DTSTAMP:20260425T115441
CREATED:20210727T195300Z
LAST-MODIFIED:20210727T195300Z
UID:26107-1660262400-1660348799@ubwp.buffalo.edu
SUMMARY:GSA Closed
DESCRIPTION:GSA Summer Office Hours: Monday – Thursday 8:30am – 4:00pm\, closed on Fridays.
URL:https://ubwp.buffalo.edu/gsa/event/gsa-closed-24/
LOCATION:NY
CATEGORIES:Administrative
ORGANIZER;CN="GSA Administrative Team":MAILTO:slfrank@buffalo.edu
END:VEVENT
BEGIN:VEVENT
DTSTART;TZID=UTC:20220813T183000
DTEND;TZID=UTC:20220813T223000
DTSTAMP:20260425T115441
CREATED:20220405T145801Z
LAST-MODIFIED:20220407T165316Z
UID:26841-1660415400-1660429800@ubwp.buffalo.edu
SUMMARY:Shakespeare in Delaware Park ~ A Midsummer Night's Dream
DESCRIPTION:GSA will be the corporate sponsor of the August 13th presentation of A Midsummer Night’s Dream\, 6:45pm at Delaware Park (by the Rose Garden). \nFree tickets available August 1st at the UB Ticket Office (online or in 221 Student Union).  1 max. per UB ID. Limited quantity available.  First come\, first served. \n*Tickets include VIP seating\, complimentary champagne and light hors d’oeuvres in the tent before the show.
URL:https://ubwp.buffalo.edu/gsa/event/shakespeare-in-delaware-park-a-midsummer-nights-dream/
LOCATION:Delaware Park\, 199 Lincoln Pkwy.\, Buffalo\, NY\, 14222\, United States
CATEGORIES:GSA Event
ATTACH;FMTTYPE=image/jpeg:https://ubwp.buffalo.edu/gsa/wp-content/uploads/sites/137/2014/05/Shakespear-in-Delaware-Park.jpg
ORGANIZER;CN="GSA Programming Coordinator":MAILTO:gsa-programming@buffalo.edu
END:VEVENT
BEGIN:VEVENT
DTSTART;VALUE=DATE:20220815
DTEND;VALUE=DATE:20220816
DTSTAMP:20260425T115441
CREATED:20220620T152045Z
LAST-MODIFIED:20220620T152045Z
UID:26984-1660521600-1660607999@ubwp.buffalo.edu
SUMMARY:Deadline for September Conference Funding Applications
DESCRIPTION:All applications for Conference Funding for conferences during the month of September are due by the close of business at 4:00pm. \nThe GSA Conference Funding Application is now available as an online form on GSA’s UBLinked page.  Please note that you must be signed in to UBLinked and “Join” as a member of GSA in order to be able to access the form on the Homepage.
URL:https://ubwp.buffalo.edu/gsa/event/deadline-for-september-conference-funding-applications-9/
LOCATION:NY
CATEGORIES:Administrative
END:VEVENT
BEGIN:VEVENT
DTSTART;TZID=UTC:20220816T150000
DTEND;TZID=UTC:20220816T170000
DTSTAMP:20260425T115441
CREATED:20220811T170345Z
LAST-MODIFIED:20220811T170345Z
UID:27290-1660662000-1660669200@ubwp.buffalo.edu
SUMMARY:Global Speed Friending
DESCRIPTION:Global Speed Friending\n \nAugust 16\, Tuesday\, 3- 5 p.m.\n240 Student Union\, North Campus \nMake friends from all over the world! Both international and domestic students are welcome. With speed friending\, you can talk one-on-one with other students to find interesting and potential friends. Learn from each other about how to make your life at UB successful and fun! \nIf you would like to attend\, please complete the following: https://forms.gle/2vMnVno9PL1cQSoQ8 \n 
URL:https://ubwp.buffalo.edu/gsa/event/global-speed-friending/
LOCATION:240 Student Union\, Buffalo\, 14260\, United States
CATEGORIES:University Event
END:VEVENT
BEGIN:VEVENT
DTSTART;VALUE=DATE:20220819
DTEND;VALUE=DATE:20220820
DTSTAMP:20260425T115441
CREATED:20210727T195344Z
LAST-MODIFIED:20210727T195344Z
UID:26109-1660867200-1660953599@ubwp.buffalo.edu
SUMMARY:GSA Closed
DESCRIPTION:GSA Summer Office Hours: Monday – Thursday 8:30am – 4:00pm\, closed on Fridays.
URL:https://ubwp.buffalo.edu/gsa/event/gsa-closed-25/
LOCATION:NY
CATEGORIES:Administrative
ORGANIZER;CN="GSA Administrative Team":MAILTO:slfrank@buffalo.edu
END:VEVENT
BEGIN:VEVENT
DTSTART;VALUE=DATE:20220826
DTEND;VALUE=DATE:20220827
DTSTAMP:20260425T115441
CREATED:20210727T195422Z
LAST-MODIFIED:20210727T195422Z
UID:26111-1661472000-1661558399@ubwp.buffalo.edu
SUMMARY:GSA Closed
DESCRIPTION:GSA Summer Office Hours: Monday – Thursday 8:30am – 4:00pm\, closed on Fridays.
URL:https://ubwp.buffalo.edu/gsa/event/gsa-closed-26/
LOCATION:NY
CATEGORIES:Administrative
ORGANIZER;CN="GSA Administrative Team":MAILTO:slfrank@buffalo.edu
END:VEVENT
BEGIN:VEVENT
DTSTART;TZID=UTC:20220826T083000
DTEND;TZID=UTC:20220826T120000
DTSTAMP:20260425T115441
CREATED:20220809T134143Z
LAST-MODIFIED:20220809T134143Z
UID:27257-1661502600-1661515200@ubwp.buffalo.edu
SUMMARY:TA Conference
DESCRIPTION:Join UB Curriculum\, Assessment and Teaching Transformation for the 2022 TA Conference\, a virtual event for all UB teaching assistants taking place on August 26 from 8:30 a.m.-noon. Come learn about the critical role that you play in helping to improve student experiences and advance the university’s mission of academic excellence. \nThrough interactive presentations and discussions\, participants will gain knowledge on effective teaching practices\, learn tips and best practices from other TAs\, network with peers and get connected to instruction-related services and resources. This event is free to all UB teaching assistants. \nRegister to attend the conference on August 26 \n 
URL:https://ubwp.buffalo.edu/gsa/event/ta-conference/
LOCATION:Online via Zoom
CATEGORIES:University Event
END:VEVENT
BEGIN:VEVENT
DTSTART;VALUE=DATE:20220829
DTEND;VALUE=DATE:20220830
DTSTAMP:20260425T115441
CREATED:20220620T154159Z
LAST-MODIFIED:20220620T163558Z
UID:27026-1661731200-1661817599@ubwp.buffalo.edu
SUMMARY:Fall Classes Begin
DESCRIPTION:
URL:https://ubwp.buffalo.edu/gsa/event/fall-classes-begin-8/
LOCATION:NY
CATEGORIES:Administrative
END:VEVENT
BEGIN:VEVENT
DTSTART;VALUE=DATE:20220831
DTEND;VALUE=DATE:20220901
DTSTAMP:20260425T115441
CREATED:20220620T154303Z
LAST-MODIFIED:20220620T154303Z
UID:27028-1661904000-1661990399@ubwp.buffalo.edu
SUMMARY:September Group Funding Applications Deadline
DESCRIPTION:Application materials are due for Special Activities\, Interdepartmental Activities\, Symposium\, Community Outreach and Scholarly Publication funding for events occurring after the September Board of Directors meeting. All application materials due by the close of business at 4:30pm.
URL:https://ubwp.buffalo.edu/gsa/event/september-group-funding-applications-deadline-9/
LOCATION:NY
CATEGORIES:Administrative
END:VEVENT
BEGIN:VEVENT
DTSTART;VALUE=DATE:20220831
DTEND;VALUE=DATE:20220901
DTSTAMP:20260425T115441
CREATED:20220620T154428Z
LAST-MODIFIED:20220620T154428Z
UID:27030-1661904000-1661990399@ubwp.buffalo.edu
SUMMARY:Club Recognition Application Deadline
DESCRIPTION:According to the mandate of the Graduate Student Association (GSA) Board of Directors\, Special Interest and International Clubs must apply for annual recognition. Recognition must take place at one of the FALL GSA Board Meetings (September 7\, October 5\, November 2\, or December 7). \nAll application materials are due by the close of business at 4:30pm to have your club’s recognition considered at the September 7th Board Meeting.
URL:https://ubwp.buffalo.edu/gsa/event/club-recognition-application-deadline-35/
LOCATION:NY
CATEGORIES:Administrative
END:VEVENT
BEGIN:VEVENT
DTSTART;TZID=UTC:20220831T183000
DTEND;TZID=UTC:20220831T203000
DTSTAMP:20260425T115441
CREATED:20220620T154811Z
LAST-MODIFIED:20220620T154811Z
UID:27038-1661970600-1661977800@ubwp.buffalo.edu
SUMMARY:Finance Committee Meeting
DESCRIPTION:Finance Committee meeting to review group funding requests for events to take place in September or later.
URL:https://ubwp.buffalo.edu/gsa/event/finance-committee-meeting-60/
LOCATION:NY
CATEGORIES:Administrative
ORGANIZER;CN="GSA Treasurer":MAILTO:gsa-treasurer@buffalo.edu
END:VEVENT
END:VCALENDAR