BEGIN:VCALENDAR
VERSION:2.0
PRODID:-//Graduate Student Association - ECPv6.15.20//NONSGML v1.0//EN
CALSCALE:GREGORIAN
METHOD:PUBLISH
X-WR-CALNAME:Graduate Student Association
X-ORIGINAL-URL:https://ubwp.buffalo.edu/gsa
X-WR-CALDESC:Events for Graduate Student Association
REFRESH-INTERVAL;VALUE=DURATION:PT1H
X-Robots-Tag:noindex
X-PUBLISHED-TTL:PT1H
BEGIN:VTIMEZONE
TZID:America/New_York
BEGIN:DAYLIGHT
TZOFFSETFROM:-0500
TZOFFSETTO:-0400
TZNAME:EDT
DTSTART:20190310T070000
END:DAYLIGHT
BEGIN:STANDARD
TZOFFSETFROM:-0400
TZOFFSETTO:-0500
TZNAME:EST
DTSTART:20191103T060000
END:STANDARD
BEGIN:DAYLIGHT
TZOFFSETFROM:-0500
TZOFFSETTO:-0400
TZNAME:EDT
DTSTART:20200308T070000
END:DAYLIGHT
BEGIN:STANDARD
TZOFFSETFROM:-0400
TZOFFSETTO:-0500
TZNAME:EST
DTSTART:20201101T060000
END:STANDARD
BEGIN:DAYLIGHT
TZOFFSETFROM:-0500
TZOFFSETTO:-0400
TZNAME:EDT
DTSTART:20210314T070000
END:DAYLIGHT
BEGIN:STANDARD
TZOFFSETFROM:-0400
TZOFFSETTO:-0500
TZNAME:EST
DTSTART:20211107T060000
END:STANDARD
END:VTIMEZONE
BEGIN:VEVENT
DTSTART;TZID=America/New_York:20200229T190000
DTEND;TZID=America/New_York:20200229T220000
DTSTAMP:20260423T225458
CREATED:20200114T135345Z
LAST-MODIFIED:20200114T135345Z
UID:10097-1583002800-1583013600@ubwp.buffalo.edu
SUMMARY:Buffalo Bandits Lacrosse Game vs. Halifax Thunderbirds
DESCRIPTION:Tickets on sale January 27th at the UB Ticket Office (online or in 221 Student Union) for $5 each. 2 per UB ID. Limited quantity available. First come\, first served. \n*PLEASE MAKE SURE TO PICK UP YOUR PHYSICAL TICKET(S) FROM THE UB TICKET OFFICE IN 221 STUDENT UNION.  THE EMAILED TICKET IS ONLY A VOUCHER AND WILL NOT BE ACCEPTED FOR ADMISSION BY THE VENDOR.
URL:https://ubwp.buffalo.edu/gsa/event/buffalo-bandits-lacrosse-game-vs-halifax-thunderbirds/
LOCATION:Key Bank Center\, 1 Seymour H Knox III Plaza \, Buffalo\, NY\, 14203\, United States
CATEGORIES:GSA Event
ATTACH;FMTTYPE=image/jpeg:https://ubwp.buffalo.edu/gsa/wp-content/uploads/sites/137/2016/12/Buffalo-Bandits.jpg
ORGANIZER;CN="GSA Programming Coordinator":MAILTO:gsa-programming@buffalo.edu
END:VEVENT
BEGIN:VEVENT
DTSTART;VALUE=DATE:20200302
DTEND;VALUE=DATE:20200303
DTSTAMP:20260423T225458
CREATED:20190627T142907Z
LAST-MODIFIED:20190627T142907Z
UID:9395-1583107200-1583193599@ubwp.buffalo.edu
SUMMARY:Spring Fee Waiver Deadline
DESCRIPTION:Applications for a waiver of any applicable Spring semester student activity fees ($85) are due in the GSA office (310 Student Union) by close of business at 4:30pm. \nFee waivers may be granted to students who are located at least 75 miles from Buffalo\, or who suffer unusual financial hardship. Please note that being an online student only does not necessarily qualify students for a fee waiver.  Graduate students who have their fees waived will be ineligible for all GSA services.
URL:https://ubwp.buffalo.edu/gsa/event/spring-fee-waiver-deadline-7/
LOCATION:GSA Office\, 310 Student Union\, University at Buffalo\, Buffalo\, NY\, 14260-2100\, United States
CATEGORIES:Administrative
ORGANIZER;CN="GSA Administrative Team":MAILTO:slfrank@buffalo.edu
END:VEVENT
BEGIN:VEVENT
DTSTART;VALUE=DATE:20200302
DTEND;VALUE=DATE:20200303
DTSTAMP:20260423T225458
CREATED:20190924T133207Z
LAST-MODIFIED:20190924T133207Z
UID:9747-1583107200-1583193599@ubwp.buffalo.edu
SUMMARY:Discount AMC Movie Tickets Available
DESCRIPTION:GSA will have discount AMC Movie Tickets available for sale on March 2nd at the UB Ticket Office (online or in 221 Student Union) for $5 each.  2 per UB ID.  Tickets can be used for all movies at AMC theatre locations. Limited quantity available. First come\, first served. \n*PLEASE MAKE SURE TO PICK UP YOUR PHYSICAL TICKET(S) FROM THE UB TICKET OFFICE IN 221 STUDENT UNION.  THE EMAILED TICKET IS ONLY A VOUCHER AND WILL NOT BE ACCEPTED FOR ADMISSION BY THE VENDOR.
URL:https://ubwp.buffalo.edu/gsa/event/discount-amc-movie-tickets-available-30/
LOCATION:Buffalo\, NY\, United States
CATEGORIES:GSA Event
ATTACH;FMTTYPE=image/jpeg:https://ubwp.buffalo.edu/gsa/wp-content/uploads/sites/137/2015/09/AMC.jpg
ORGANIZER;CN="GSA Programming Coordinator":MAILTO:gsa-programming@buffalo.edu
END:VEVENT
BEGIN:VEVENT
DTSTART;TZID=America/New_York:20200304T180000
DTEND;TZID=America/New_York:20200304T210000
DTSTAMP:20260423T225458
CREATED:20190627T122307Z
LAST-MODIFIED:20190627T122307Z
UID:9329-1583344800-1583355600@ubwp.buffalo.edu
SUMMARY:March Board of Directors Meeting
DESCRIPTION:GSA Board of Directors meetings are open to the public\, but only designated representatives from Departmental and International clubs may vote. Sign-in begins at 6:00pm so that the meeting can begin promptly at 6:30pm.
URL:https://ubwp.buffalo.edu/gsa/event/march-senate-meeting-7/
LOCATION:330 Student Union\, 330 Student Union\, University at Buffalo\, Buffalo\, NY\, 14260\, United States
CATEGORIES:Administrative,GSA Event
ATTACH;FMTTYPE=image/jpeg:https://ubwp.buffalo.edu/gsa/wp-content/uploads/sites/137/2014/08/Gavel-and-Scale.jpg
ORGANIZER;CN="GSA Administrative Team":MAILTO:slfrank@buffalo.edu
END:VEVENT
BEGIN:VEVENT
DTSTART;VALUE=DATE:20200306
DTEND;VALUE=DATE:20200308
DTSTAMP:20260423T225458
CREATED:20200303T091842Z
LAST-MODIFIED:20200303T091842Z
UID:10240-1583452800-1583625599@ubwp.buffalo.edu
SUMMARY:Milton Plesur Conference
DESCRIPTION:
URL:https://ubwp.buffalo.edu/gsa/event/milton-plesur-conference-3/
LOCATION:South Campus\, Buffalo\, 14214\, United States
CATEGORIES:Club Event
END:VEVENT
BEGIN:VEVENT
DTSTART;TZID=America/New_York:20200306T110000
DTEND;TZID=America/New_York:20200306T130000
DTSTAMP:20260423T225458
CREATED:20190627T151320Z
LAST-MODIFIED:20190627T151320Z
UID:9416-1583492400-1583499600@ubwp.buffalo.edu
SUMMARY:Java Junction
DESCRIPTION:Free Tim Horton’s coffee and doughnuts for graduate students in the GSA office.
URL:https://ubwp.buffalo.edu/gsa/event/java-junction-53/
LOCATION:GSA Conference Room\, 310A Student Union\, University at Buffalo\, Buffalo\, NY\, 14260\, United States
CATEGORIES:GSA Event
ATTACH;FMTTYPE=image/jpeg:https://ubwp.buffalo.edu/gsa/wp-content/uploads/sites/137/2013/08/java.jpg
ORGANIZER;CN="GSA Programming Coordinator":MAILTO:gsa-programming@buffalo.edu
END:VEVENT
BEGIN:VEVENT
DTSTART;TZID=America/New_York:20200306T130000
DTEND;TZID=America/New_York:20200306T150000
DTSTAMP:20260423T225458
CREATED:20200303T092152Z
LAST-MODIFIED:20200303T092152Z
UID:10242-1583499600-1583506800@ubwp.buffalo.edu
SUMMARY:LGBTQ+ General Body Meeting
DESCRIPTION:
URL:https://ubwp.buffalo.edu/gsa/event/lgbtq-general-body-meeting/
LOCATION:106 Talbert Hall\, Buffalo\, NY\, 14260\, United States
CATEGORIES:Club Event
END:VEVENT
BEGIN:VEVENT
DTSTART;TZID=America/New_York:20200306T183000
DTEND;TZID=America/New_York:20200306T210000
DTSTAMP:20260423T225458
CREATED:20200121T100752Z
LAST-MODIFIED:20200121T100752Z
UID:10112-1583519400-1583528400@ubwp.buffalo.edu
SUMMARY:Plant Nite with GSA
DESCRIPTION:Tickets on sale February 3rd at the UB Ticket Office (online or in 221 Student Union) for $15 each. 2 per UB ID. Tickets include admission\, food and drinks. Limited quantity available. First come\, first served.
URL:https://ubwp.buffalo.edu/gsa/event/plant-nite-with-gsa-3/
LOCATION:New York Beer Project\, 6933 S. Transit Rd.\, Lockport\, NY\, 14094\, United States
CATEGORIES:GSA Event
ATTACH;FMTTYPE=image/jpeg:https://ubwp.buffalo.edu/gsa/wp-content/uploads/sites/137/2018/03/Plant-Nite.jpg
ORGANIZER;CN="GSA Programming Coordinator":MAILTO:gsa-programming@buffalo.edu
END:VEVENT
BEGIN:VEVENT
DTSTART;VALUE=DATE:20200310
DTEND;VALUE=DATE:20200311
DTSTAMP:20260423T225458
CREATED:20200212T122314Z
LAST-MODIFIED:20200212T122314Z
UID:10192-1583798400-1583884799@ubwp.buffalo.edu
SUMMARY:GSA South Campus Office Closed
DESCRIPTION:The GSA South Campus Office will be closed on Tuesday\, March 10th. We apologize for any inconvenience.
URL:https://ubwp.buffalo.edu/gsa/event/gsa-south-campus-office-closed-34/
LOCATION:GSA South Campus Satellite Office\, 302 Abbott Hall\, University at Buffalo\, Buffalo\, 14260
CATEGORIES:Administrative
ORGANIZER;CN="GSA Administrative Team":MAILTO:slfrank@buffalo.edu
END:VEVENT
BEGIN:VEVENT
DTSTART;TZID=America/New_York:20200311T193000
DTEND;TZID=America/New_York:20200311T220000
DTSTAMP:20260423T225458
CREATED:20190903T134901Z
LAST-MODIFIED:20190903T134901Z
UID:9637-1583955000-1583964000@ubwp.buffalo.edu
SUMMARY:Distinguished Speaker Series ~ Daymond John
DESCRIPTION:Daymond John | Mar. 11 | Center for the Arts\n\n\n“Shark Tank” Investor\, Entrepreneur and FUBU CEO \nFree tickets will be available for graduate students to reserve online as of February 23rd.  1 per UB ID. Tickets will be available for pickup at the UB Ticket Office (221 Student Union) on March 2nd.  As of March 11th any tickets still available will be given away to any UB GSA student (regardless if they have reserved it online) at the UB Ticket Office until 3pm.  After that\, any remaining tickets will be available at the door. \n*PLEASE MAKE SURE TO PICK UP YOUR PHYSICAL TICKET(S) FROM THE UB TICKET OFFICE IN 221 STUDENT UNION.  THE EMAILED TICKET IS ONLY A VOUCHER AND WILL NOT BE ACCEPTED FOR ADMISSION BY THE VENDOR. \n\n\n\nMore About Daymond John\n\n\nFrom humble beginnings to one of the most sought-after branding and marketing experts in the country and an investor on ABC’s hit show\, “Shark Tank\,” Daymond John is the consummate 21st century renaissance businessman. \nAt a young age\, he created FUBU\, one of the most iconic urban fashion brands in the world. With expertise sought out by global organizations and Fortune 500s\, John now consults through his branding company\, Shark Branding. He is also the best-selling author of four acclaimed books\, the most recent\, “Rise and Grind\,” released in January 2018. In 2015\, President Obama selected him to be a Presidential Ambassador for Global Entrepreneurship.
URL:https://ubwp.buffalo.edu/gsa/event/distinguished-speaker-series-daymond-john/
LOCATION:Center for the Arts\, Buffalo\, NY\, United States
CATEGORIES:University Event
ATTACH;FMTTYPE=image/jpeg:https://ubwp.buffalo.edu/gsa/wp-content/uploads/sites/137/2019/09/Daymond-John.jpg
END:VEVENT
BEGIN:VEVENT
DTSTART;TZID=America/New_York:20200313T130000
DTEND;TZID=America/New_York:20200313T150000
DTSTAMP:20260423T225458
CREATED:20200107T132741Z
LAST-MODIFIED:20200107T132741Z
UID:10084-1584104400-1584111600@ubwp.buffalo.edu
SUMMARY:South Campus Siesta
DESCRIPTION:Free food and beverages for graduate students at South Campus.
URL:https://ubwp.buffalo.edu/gsa/event/south-campus-siesta-37/
LOCATION:105 Harriman Hall\, 105 Harriman Hall\, University at Buffalo\, Buffalo\, NY\, 14260\, United States
CATEGORIES:GSA Event
ATTACH;FMTTYPE=image/jpeg:https://ubwp.buffalo.edu/gsa/wp-content/uploads/sites/137/2017/10/Pizza.jpg
ORGANIZER;CN="GSA Programming Coordinator":MAILTO:gsa-programming@buffalo.edu
END:VEVENT
BEGIN:VEVENT
DTSTART;TZID=America/New_York:20200314T200000
DTEND;TZID=America/New_York:20200314T230000
DTSTAMP:20260423T225458
CREATED:20200107T133226Z
LAST-MODIFIED:20200107T133226Z
UID:10088-1584216000-1584226800@ubwp.buffalo.edu
SUMMARY:Hello\, Dolly!
DESCRIPTION:Refunds will be automatically issued to anyone who purchased a ticket for this event. \n  \nTickets on sale February 10th at the UB Ticket Office (online or at 221 Student Union) for $20 each. 2 per UB ID. Limited quantity available. First come\, first served. \n*PLEASE MAKE SURE TO PICK UP YOUR PHYSICAL TICKET(S) FROM THE UB TICKET OFFICE IN 221 STUDENT UNION.  THE EMAILED TICKET IS ONLY A VOUCHER AND WILL NOT BE ACCEPTED FOR ADMISSION BY THE VENDOR.
URL:https://ubwp.buffalo.edu/gsa/event/hello-dolly/
LOCATION:Shea’s Performing Arts Center\, 646 Main Street\, Buffalo\, NY\, 14202\, United States
CATEGORIES:GSA Event
ATTACH;FMTTYPE=image/jpeg:https://ubwp.buffalo.edu/gsa/wp-content/uploads/sites/137/2020/01/Hello-Dolly.jpg
ORGANIZER;CN="GSA Programming Coordinator":MAILTO:gsa-programming@buffalo.edu
END:VEVENT
BEGIN:VEVENT
DTSTART;VALUE=DATE:20200316
DTEND;VALUE=DATE:20200317
DTSTAMP:20260423T225458
CREATED:20190627T125534Z
LAST-MODIFIED:20190627T125534Z
UID:9358-1584316800-1584403199@ubwp.buffalo.edu
SUMMARY:Deadline for April Conference Funding Applications
DESCRIPTION:All applications for Conference Funding for conferences during the month of April are due in the GSA office (310 Student Union) by the close of business at 4:00pm.
URL:https://ubwp.buffalo.edu/gsa/event/deadline-for-april-conference-funding-applications-7/
LOCATION:GSA Office\, 310 Student Union\, University at Buffalo\, Buffalo\, NY\, 14260-2100\, United States
CATEGORIES:Administrative
ORGANIZER;CN="GSA Administrative Team":MAILTO:slfrank@buffalo.edu
END:VEVENT
BEGIN:VEVENT
DTSTART;VALUE=DATE:20200316
DTEND;VALUE=DATE:20200321
DTSTAMP:20260423T225458
CREATED:20190627T152903Z
LAST-MODIFIED:20190627T152903Z
UID:9425-1584316800-1584748799@ubwp.buffalo.edu
SUMMARY:Spring Recess
DESCRIPTION:
URL:https://ubwp.buffalo.edu/gsa/event/spring-recess-4/
LOCATION:Buffalo\, NY\, United States
CATEGORIES:Administrative
END:VEVENT
BEGIN:VEVENT
DTSTART;VALUE=DATE:20200316
DTEND;VALUE=DATE:20200320
DTSTAMP:20260423T225458
CREATED:20190627T153024Z
LAST-MODIFIED:20190627T153024Z
UID:9428-1584316800-1584662399@ubwp.buffalo.edu
SUMMARY:GSA Office on Summer Hours
DESCRIPTION:Spring Recess: GSA Office open Monday – Thursday 8:30am – 4:00pm\, closed on Friday\, March 2oth.
URL:https://ubwp.buffalo.edu/gsa/event/gsa-office-on-summer-hours-19/
LOCATION:GSA Office\, 310 Student Union\, University at Buffalo\, Buffalo\, NY\, 14260-2100\, United States
CATEGORIES:Administrative
ORGANIZER;CN="GSA Administrative Team":MAILTO:slfrank@buffalo.edu
END:VEVENT
BEGIN:VEVENT
DTSTART;VALUE=DATE:20200318
DTEND;VALUE=DATE:20200319
DTSTAMP:20260423T225458
CREATED:20190627T141308Z
LAST-MODIFIED:20190627T141308Z
UID:9384-1584489600-1584575999@ubwp.buffalo.edu
SUMMARY:May-July Group Funding Applications Deadline
DESCRIPTION:Application materials are due for Special Activities\, Interdepartmental Activities\, Symposium and Community Outreach funding for events occurring after the April Senate meeting. All application materials due in the GSA office by the close of business at 4:00pm.
URL:https://ubwp.buffalo.edu/gsa/event/may-july-group-funding-applications-deadline-3/
LOCATION:GSA Office\, 310 Student Union\, University at Buffalo\, Buffalo\, NY\, 14260-2100\, United States
CATEGORIES:Administrative
ORGANIZER;CN="GSA Administrative Team":MAILTO:slfrank@buffalo.edu
END:VEVENT
BEGIN:VEVENT
DTSTART;VALUE=DATE:20200320
DTEND;VALUE=DATE:20200321
DTSTAMP:20260423T225458
CREATED:20190627T153154Z
LAST-MODIFIED:20190627T153154Z
UID:9430-1584662400-1584748799@ubwp.buffalo.edu
SUMMARY:Office Closed
DESCRIPTION:Spring Recess: GSA Office open Monday – Thursday 8:30am – 4:00pm\, closed on Friday\, March 2oth.
URL:https://ubwp.buffalo.edu/gsa/event/office-closed-60/
LOCATION:GSA Office\, 310 Student Union\, University at Buffalo\, Buffalo\, NY\, 14260-2100\, United States
CATEGORIES:Administrative
ORGANIZER;CN="GSA Administrative Team":MAILTO:slfrank@buffalo.edu
END:VEVENT
BEGIN:VEVENT
DTSTART;TZID=America/New_York:20200325T190000
DTEND;TZID=America/New_York:20200325T210000
DTSTAMP:20260423T225458
CREATED:20190627T124143Z
LAST-MODIFIED:20190627T124143Z
UID:9345-1585162800-1585170000@ubwp.buffalo.edu
SUMMARY:Finance Committee Meeting
DESCRIPTION:This will be the final Finance Committee meeting of the year to review all group funding requests for events taking place between April and July.
URL:https://ubwp.buffalo.edu/gsa/event/finance-committee-meeting-49/
LOCATION:GSA Conference Room\, 310A Student Union\, University at Buffalo\, Buffalo\, NY\, 14260\, United States
CATEGORIES:Administrative,GSA Event
ORGANIZER;CN="GSA Administrative Team":MAILTO:slfrank@buffalo.edu
END:VEVENT
END:VCALENDAR