BEGIN:VCALENDAR
VERSION:2.0
PRODID:-//Graduate Student Association - ECPv6.15.20//NONSGML v1.0//EN
CALSCALE:GREGORIAN
METHOD:PUBLISH
X-WR-CALNAME:Graduate Student Association
X-ORIGINAL-URL:https://ubwp.buffalo.edu/gsa
X-WR-CALDESC:Events for Graduate Student Association
REFRESH-INTERVAL;VALUE=DURATION:PT1H
X-Robots-Tag:noindex
X-PUBLISHED-TTL:PT1H
BEGIN:VTIMEZONE
TZID:America/New_York
BEGIN:DAYLIGHT
TZOFFSETFROM:-0500
TZOFFSETTO:-0400
TZNAME:EDT
DTSTART:20190310T070000
END:DAYLIGHT
BEGIN:STANDARD
TZOFFSETFROM:-0400
TZOFFSETTO:-0500
TZNAME:EST
DTSTART:20191103T060000
END:STANDARD
BEGIN:DAYLIGHT
TZOFFSETFROM:-0500
TZOFFSETTO:-0400
TZNAME:EDT
DTSTART:20200308T070000
END:DAYLIGHT
BEGIN:STANDARD
TZOFFSETFROM:-0400
TZOFFSETTO:-0500
TZNAME:EST
DTSTART:20201101T060000
END:STANDARD
BEGIN:DAYLIGHT
TZOFFSETFROM:-0500
TZOFFSETTO:-0400
TZNAME:EDT
DTSTART:20210314T070000
END:DAYLIGHT
BEGIN:STANDARD
TZOFFSETFROM:-0400
TZOFFSETTO:-0500
TZNAME:EST
DTSTART:20211107T060000
END:STANDARD
END:VTIMEZONE
BEGIN:VEVENT
DTSTART;VALUE=DATE:20200203
DTEND;VALUE=DATE:20200204
DTSTAMP:20260424T105620
CREATED:20190924T132844Z
LAST-MODIFIED:20190924T132844Z
UID:9746-1580688000-1580774399@ubwp.buffalo.edu
SUMMARY:Discount AMC Movie Tickets Available
DESCRIPTION:GSA will have discount AMC Movie Tickets available for sale on February 3rd at the UB Ticket Office (online or in 221 Student Union) for $5 each.  2 per UB ID.  Tickets can be used for all movies at AMC theatre locations. Limited quantity available. First come\, first served. \n*PLEASE MAKE SURE TO PICK UP YOUR PHYSICAL TICKET(S) FROM THE UB TICKET OFFICE IN 221 STUDENT UNION.  THE EMAILED TICKET IS ONLY A VOUCHER AND WILL NOT BE ACCEPTED FOR ADMISSION BY THE VENDOR.
URL:https://ubwp.buffalo.edu/gsa/event/discount-amc-movie-tickets-available-29/
LOCATION:Buffalo\, NY\, United States
CATEGORIES:GSA Event
ATTACH;FMTTYPE=image/jpeg:https://ubwp.buffalo.edu/gsa/wp-content/uploads/sites/137/2015/09/AMC.jpg
ORGANIZER;CN="GSA Programming Coordinator":MAILTO:gsa-programming@buffalo.edu
END:VEVENT
BEGIN:VEVENT
DTSTART;TZID=America/New_York:20200205T180000
DTEND;TZID=America/New_York:20200205T210000
DTSTAMP:20260424T105620
CREATED:20190627T122114Z
LAST-MODIFIED:20190627T122114Z
UID:9327-1580925600-1580936400@ubwp.buffalo.edu
SUMMARY:February Board of Directors Meeting
DESCRIPTION:GSA Board of Directors meetings are open to the public\, but only designated representatives from Departmental and International clubs may vote. Sign-in begins at 6:00pm so that the meeting can begin promptly at 6:30pm.
URL:https://ubwp.buffalo.edu/gsa/event/february-senate-meeting-7/
LOCATION:330 Student Union\, 330 Student Union\, University at Buffalo\, Buffalo\, NY\, 14260\, United States
CATEGORIES:Administrative,GSA Event
ATTACH;FMTTYPE=image/jpeg:https://ubwp.buffalo.edu/gsa/wp-content/uploads/sites/137/2014/08/Gavel-and-Scale.jpg
ORGANIZER;CN="GSA Administrative Team":MAILTO:slfrank@buffalo.edu
END:VEVENT
BEGIN:VEVENT
DTSTART;TZID=America/New_York:20200207T110000
DTEND;TZID=America/New_York:20200207T130000
DTSTAMP:20260424T105620
CREATED:20190627T151216Z
LAST-MODIFIED:20190627T151216Z
UID:9414-1581073200-1581080400@ubwp.buffalo.edu
SUMMARY:Java Junction
DESCRIPTION:Free Tim Horton’s coffee and doughnuts for graduate students in the GSA office.
URL:https://ubwp.buffalo.edu/gsa/event/java-junction-52/
LOCATION:GSA Conference Room\, 310A Student Union\, University at Buffalo\, Buffalo\, NY\, 14260\, United States
CATEGORIES:GSA Event
ATTACH;FMTTYPE=image/jpeg:https://ubwp.buffalo.edu/gsa/wp-content/uploads/sites/137/2013/11/Tim-Hortons-Christmas.jpg
ORGANIZER;CN="GSA Programming Coordinator":MAILTO:gsa-programming@buffalo.edu
END:VEVENT
BEGIN:VEVENT
DTSTART;VALUE=DATE:20200214
DTEND;VALUE=DATE:20200215
DTSTAMP:20260424T105620
CREATED:20190627T142113Z
LAST-MODIFIED:20190627T142113Z
UID:9387-1581638400-1581724799@ubwp.buffalo.edu
SUMMARY:MDRF Spring Application Deadline
DESCRIPTION:Deadline for MDRF grant applications for research to be conducted between April 1\, 2020 and March 31\, 2021. \nElectronic application materials must be submitted online to ubmdrf@gmail.com by 3:00pm on Friday\, February 14\, 2020. \nHard copy application materials with original signatures are due in the GSA office (310 Student Union) by 12:00pm (noon) on Monday\, February 17\, 2020. \n*PLEASE NOTE* Both application deadlines must be met in order for your grant to be considered for funding.  NO EXCEPTIONS! \nThe last date that applicants may submit their grant to the MDRF Director (gsa-mdrf@buffalo.edu) for review prior to the deadline is Wednesday\, February 5th at 4:30pm.
URL:https://ubwp.buffalo.edu/gsa/event/mdrf-spring-application-deadline-6/
LOCATION:GSA Office\, 310 Student Union\, University at Buffalo\, Buffalo\, NY\, 14260-2100\, United States
CATEGORIES:Administrative,MDRF
ORGANIZER;CN="MDRF Director":MAILTO:gsa-mdrf@buffalo.edu
END:VEVENT
BEGIN:VEVENT
DTSTART;TZID=America/New_York:20200214T130000
DTEND;TZID=America/New_York:20200214T150000
DTSTAMP:20260424T105620
CREATED:20200107T132621Z
LAST-MODIFIED:20200107T132621Z
UID:10082-1581685200-1581692400@ubwp.buffalo.edu
SUMMARY:South Campus Siesta
DESCRIPTION:Free food and beverages for graduate students at South Campus.
URL:https://ubwp.buffalo.edu/gsa/event/south-campus-siesta-34/
LOCATION:105 Harriman Hall\, 105 Harriman Hall\, University at Buffalo\, Buffalo\, NY\, 14260\, United States
CATEGORIES:GSA Event
ATTACH;FMTTYPE=image/jpeg:https://ubwp.buffalo.edu/gsa/wp-content/uploads/sites/137/2017/10/Pizza.jpg
ORGANIZER;CN="GSA Programming Coordinator":MAILTO:gsa-programming@buffalo.edu
END:VEVENT
BEGIN:VEVENT
DTSTART;VALUE=DATE:20200217
DTEND;VALUE=DATE:20200218
DTSTAMP:20260424T105620
CREATED:20190627T125310Z
LAST-MODIFIED:20190627T125310Z
UID:9356-1581897600-1581983999@ubwp.buffalo.edu
SUMMARY:Deadline for March Conference Funding Applications
DESCRIPTION:All applications for Conference Funding for conferences during the month of March are due in the GSA office (310 Student Union) by the close of business at 4:30pm.
URL:https://ubwp.buffalo.edu/gsa/event/deadline-for-march-conference-funding-applications-7/
LOCATION:GSA Office\, 310 Student Union\, University at Buffalo\, Buffalo\, NY\, 14260-2100\, United States
CATEGORIES:Administrative
ORGANIZER;CN="GSA Administrative Team":MAILTO:slfrank@buffalo.edu
END:VEVENT
BEGIN:VEVENT
DTSTART;VALUE=DATE:20200218
DTEND;VALUE=DATE:20200219
DTSTAMP:20260424T105620
CREATED:20200212T122243Z
LAST-MODIFIED:20200212T122243Z
UID:10190-1581984000-1582070399@ubwp.buffalo.edu
SUMMARY:GSA South Campus Office Closed
DESCRIPTION:The GSA South Campus Office will be closed on Tuesday\, February 18th. We apologize for any inconvenience.
URL:https://ubwp.buffalo.edu/gsa/event/gsa-south-campus-office-closed-33/
LOCATION:GSA South Campus Satellite Office\, 302 Abbott Hall\, University at Buffalo\, Buffalo\, 14260
CATEGORIES:Administrative
ORGANIZER;CN="GSA Administrative Team":MAILTO:slfrank@buffalo.edu
END:VEVENT
BEGIN:VEVENT
DTSTART;VALUE=DATE:20200219
DTEND;VALUE=DATE:20200220
DTSTAMP:20260424T105620
CREATED:20190627T141126Z
LAST-MODIFIED:20190627T141126Z
UID:9382-1582070400-1582156799@ubwp.buffalo.edu
SUMMARY:March/April Group Funding Applications Deadline
DESCRIPTION:Application materials are due for Special Activities\, Interdepartmental Activities\, Symposium and Community Outreach funding for events occurring after the March Senate meeting. All application materials due in the GSA office by the close of business at 4:30pm.
URL:https://ubwp.buffalo.edu/gsa/event/march-april-group-funding-applications-deadline/
LOCATION:GSA Office\, 310 Student Union\, University at Buffalo\, Buffalo\, NY\, 14260-2100\, United States
CATEGORIES:Administrative
ORGANIZER;CN="GSA Administrative Team":MAILTO:slfrank@buffalo.edu
END:VEVENT
BEGIN:VEVENT
DTSTART;TZID=America/New_York:20200221T130000
DTEND;TZID=America/New_York:20200221T143000
DTSTAMP:20260424T105620
CREATED:20200217T162400Z
LAST-MODIFIED:20200217T162400Z
UID:10208-1582290000-1582295400@ubwp.buffalo.edu
SUMMARY:LGBTQ+ Meeting
DESCRIPTION:
URL:https://ubwp.buffalo.edu/gsa/event/lgbtq-meeting-2/
LOCATION:106 Talbert Hall\, Buffalo\, NY\, 14260\, United States
CATEGORIES:Club Event
END:VEVENT
BEGIN:VEVENT
DTSTART;TZID=America/New_York:20200224T193000
DTEND;TZID=America/New_York:20200224T220000
DTSTAMP:20260424T105620
CREATED:20190903T134733Z
LAST-MODIFIED:20190903T134733Z
UID:9634-1582572600-1582581600@ubwp.buffalo.edu
SUMMARY:Distinguished Speaker Series ~ Yusef Salaam
DESCRIPTION:Yusef Salaam | Feb. 24 | Alumni Arena\n\n\nCriminal Justice Advocate and Member of the Central Park Five \nFree tickets will be available for graduate students to reserve online as of February 9th.  1 per UB ID. Tickets will be available for pickup at the UB Ticket Office (221 Student Union) on February 12th.  As of February 24th any tickets still available will be given away to any UB GSA student (regardless if they have reserved it online) at the UB Ticket Office until 3pm.  After that\, any remaining tickets will be available at the door. \n*PLEASE MAKE SURE TO PICK UP YOUR PHYSICAL TICKET(S) FROM THE UB TICKET OFFICE IN 221 STUDENT UNION.  THE EMAILED TICKET IS ONLY A VOUCHER AND WILL NOT BE ACCEPTED FOR ADMISSION BY THE VENDOR. \n  \n\n\nUB’s 44th Annual Martin Luther King\, Jr. Commemoration Keynote Speaker\n\n\n\nMore About Yusef Salaam\n\n\nOn April 19\, 1989\, a young woman was brutally raped and left for dead in New York City’s Central Park. Five boys—four black and one Latino—were tried and convicted of the crime in a frenzied case that rocked the city. They became known collectively as the Central Park Five. \nTheir convictions were vacated in 2002 after spending between seven and thirteen years of their lives behind bars. The unidentified DNA in the Central Park jogger case\, unlinked to any of the five\, had finally met its owner\, a convicted murderer and serial rapist who confessed. The convictions of the boys\, now men\, were overturned and they were exonerated. One of those boys\, Yusef Salaam\, was just 15 years old when his life was upended and changed forever. \nSince his release\, Salaam has committed himself to advocating and educating people on the issues of false confessions\, police brutality and misconduct\, press ethics and bias\, race and law\, and the disparities in America’s criminal justice system. In 2013\, Ken and Sarah Burns and David McMahon released the documentary “The Central Park Five\,” which told of this travesty from the perspective of Salaam and his cohorts. \nIn 2014\, the Central Park Five received a multi-million dollar settlement from the city of New York for its grievous injustice against them. Salaam was awarded an honorary doctorate that same year and received the President’s Life Time Achievement Award in 2016 from President Barack Obama. \nIn 2018\, he was appointed to the board of the Innocence Project. In May 2019\, Netflix released the limited series titled “When They See Us” based on the true story of Salaam and the other members of the Central Park Five. The series was created and directed by Ava DuVernay; executive producers included Oprah Winfrey and Robert De Niro.
URL:https://ubwp.buffalo.edu/gsa/event/distinguished-speaker-series-yusef-salaam/
LOCATION:Alumni Arena\, Alumni Arena\, University at Buffalo\, Buffalo\, 14260
CATEGORIES:University Event
ATTACH;FMTTYPE=image/jpeg:https://ubwp.buffalo.edu/gsa/wp-content/uploads/sites/137/2019/09/Yusef-Salaam.jpg
END:VEVENT
BEGIN:VEVENT
DTSTART;TZID=America/New_York:20200226T190000
DTEND;TZID=America/New_York:20200226T210000
DTSTAMP:20260424T105620
CREATED:20190627T124005Z
LAST-MODIFIED:20190627T124005Z
UID:9343-1582743600-1582750800@ubwp.buffalo.edu
SUMMARY:Finance Committee Meeting
DESCRIPTION:Finance Committee meeting to review group funding requests for events to take place in March or later.
URL:https://ubwp.buffalo.edu/gsa/event/finance-committee-meeting-48/
LOCATION:GSA Conference Room\, 310A Student Union\, University at Buffalo\, Buffalo\, NY\, 14260\, United States
CATEGORIES:Administrative,GSA Event
ORGANIZER;CN="GSA Administrative Team":MAILTO:slfrank@buffalo.edu
END:VEVENT
BEGIN:VEVENT
DTSTART;TZID=America/New_York:20200228T143000
DTEND;TZID=America/New_York:20200228T163000
DTSTAMP:20260424T105620
CREATED:20200217T162728Z
LAST-MODIFIED:20200217T162728Z
UID:10212-1582900200-1582907400@ubwp.buffalo.edu
SUMMARY:CSSA ~ Keeping a Healthy UB Campus
DESCRIPTION:Event: Keeping a Healthy UB Campus \nLocation: Student Union Lobby \nTime: 2/28/2020 2:30 pm \nGiveaway Packet: one Mask\, one hand sanitizer\, one disposable thermometer\, three flyers (mask instruction\, how to wash the hands\, daily protection) \nTheme: to keep a healthy UB Campus and help UB students stay away from the viruses with some daily protection tips and useful giveaways when people are sick. \n* Each student will need a valid student ID to get giveaway packet as the result of the limited amount  \nEvent: Keeping a Healthy UB Campus \nLocation: Student Union Lobby \nTime: 2/28/2020 2:30 pm \nGiveaway Packet: one Mask\, one hand sanitizer\, one disposable thermometer\, three flyers (mask instruction\, how to wash the hands\, daily protection) \nTheme: to keep a healthy UB Campus and help UB students stay away from the viruses with some daily protection tips and useful giveaways when people are sick. \n* Each student will need a valid student ID to get giveaway packet as the result of the limited amount 
URL:https://ubwp.buffalo.edu/gsa/event/cssa-keeping-a-healthy-ub-campus/
LOCATION:Student Union Lobby\, Buffalo\, NY\, United States
CATEGORIES:Club Event
END:VEVENT
END:VCALENDAR