BEGIN:VCALENDAR
VERSION:2.0
PRODID:-//Graduate Student Association - ECPv6.15.20//NONSGML v1.0//EN
CALSCALE:GREGORIAN
METHOD:PUBLISH
X-WR-CALNAME:Graduate Student Association
X-ORIGINAL-URL:https://ubwp.buffalo.edu/gsa
X-WR-CALDESC:Events for Graduate Student Association
REFRESH-INTERVAL;VALUE=DURATION:PT1H
X-Robots-Tag:noindex
X-PUBLISHED-TTL:PT1H
BEGIN:VTIMEZONE
TZID:America/New_York
BEGIN:DAYLIGHT
TZOFFSETFROM:-0500
TZOFFSETTO:-0400
TZNAME:EDT
DTSTART:20180311T070000
END:DAYLIGHT
BEGIN:STANDARD
TZOFFSETFROM:-0400
TZOFFSETTO:-0500
TZNAME:EST
DTSTART:20181104T060000
END:STANDARD
BEGIN:DAYLIGHT
TZOFFSETFROM:-0500
TZOFFSETTO:-0400
TZNAME:EDT
DTSTART:20190310T070000
END:DAYLIGHT
BEGIN:STANDARD
TZOFFSETFROM:-0400
TZOFFSETTO:-0500
TZNAME:EST
DTSTART:20191103T060000
END:STANDARD
BEGIN:DAYLIGHT
TZOFFSETFROM:-0500
TZOFFSETTO:-0400
TZNAME:EDT
DTSTART:20200308T070000
END:DAYLIGHT
BEGIN:STANDARD
TZOFFSETFROM:-0400
TZOFFSETTO:-0500
TZNAME:EST
DTSTART:20201101T060000
END:STANDARD
BEGIN:DAYLIGHT
TZOFFSETFROM:-0500
TZOFFSETTO:-0400
TZNAME:EDT
DTSTART:20210314T070000
END:DAYLIGHT
BEGIN:STANDARD
TZOFFSETFROM:-0400
TZOFFSETTO:-0500
TZNAME:EST
DTSTART:20211107T060000
END:STANDARD
END:VTIMEZONE
BEGIN:VEVENT
DTSTART;VALUE=DATE:20191217
DTEND;VALUE=DATE:20200104
DTSTAMP:20260423T125406
CREATED:20190627T153351Z
LAST-MODIFIED:20190627T153351Z
UID:9432-1576540800-1578095999@ubwp.buffalo.edu
SUMMARY:Office Closed
DESCRIPTION:The GSA Office will be closed for Winter Recess from Tuesday\, December 17th until Monday\, January 6th. \nThe office will be open for Summer Hours (Monday – Thursday 8:30am – 4:00pm) from January 6th – 24th. \nRegular business hours will resume with the start of classes on January 27th.
URL:https://ubwp.buffalo.edu/gsa/event/office-closed-61/
LOCATION:GSA Office\, 310 Student Union\, University at Buffalo\, Buffalo\, NY\, 14260-2100\, United States
CATEGORIES:Administrative
ORGANIZER;CN="GSA Administrative Team":MAILTO:slfrank@buffalo.edu
END:VEVENT
BEGIN:VEVENT
DTSTART;VALUE=DATE:20200106
DTEND;VALUE=DATE:20200110
DTSTAMP:20260423T125406
CREATED:20190627T153515Z
LAST-MODIFIED:20190627T153515Z
UID:9434-1578268800-1578614399@ubwp.buffalo.edu
SUMMARY:GSA Office on Summer Hours
DESCRIPTION:The GSA office will be open for Summer Hours: Monday to Thursday 8:30am – 4:00pm\, closed on Friday\, January 10th.
URL:https://ubwp.buffalo.edu/gsa/event/gsa-office-on-summer-hours-20/
LOCATION:GSA Office\, 310 Student Union\, University at Buffalo\, Buffalo\, NY\, 14260-2100\, United States
CATEGORIES:Administrative
ORGANIZER;CN="GSA Administrative Team":MAILTO:slfrank@buffalo.edu
END:VEVENT
BEGIN:VEVENT
DTSTART;VALUE=DATE:20200110
DTEND;VALUE=DATE:20200111
DTSTAMP:20260423T125406
CREATED:20190627T153601Z
LAST-MODIFIED:20190627T153601Z
UID:9436-1578614400-1578700799@ubwp.buffalo.edu
SUMMARY:Office Closed
DESCRIPTION:The GSA office will be open for Summer Hours: Monday to Thursday 8:30am – 4:00pm\, closed on Friday\, January 10th.
URL:https://ubwp.buffalo.edu/gsa/event/office-closed-62/
LOCATION:GSA Office\, 310 Student Union\, University at Buffalo\, Buffalo\, NY\, 14260-2100\, United States
CATEGORIES:Administrative
ORGANIZER;CN="GSA Administrative Team":MAILTO:slfrank@buffalo.edu
END:VEVENT
BEGIN:VEVENT
DTSTART;VALUE=DATE:20200113
DTEND;VALUE=DATE:20200117
DTSTAMP:20260423T125406
CREATED:20190627T153710Z
LAST-MODIFIED:20190627T153710Z
UID:9438-1578873600-1579219199@ubwp.buffalo.edu
SUMMARY:GSA Office on Summer Hours
DESCRIPTION:The GSA office will be open for Summer Hours: Monday to Thursday 8:30am – 4:00pm\, closed on Friday\, January 17th.
URL:https://ubwp.buffalo.edu/gsa/event/gsa-office-on-summer-hours-21/
LOCATION:GSA Office\, 310 Student Union\, University at Buffalo\, Buffalo\, NY\, 14260-2100\, United States
CATEGORIES:Administrative
ORGANIZER;CN="GSA Administrative Team":MAILTO:slfrank@buffalo.edu
END:VEVENT
BEGIN:VEVENT
DTSTART;VALUE=DATE:20200115
DTEND;VALUE=DATE:20200116
DTSTAMP:20260423T125406
CREATED:20190627T125141Z
LAST-MODIFIED:20190627T125141Z
UID:9354-1579046400-1579132799@ubwp.buffalo.edu
SUMMARY:Deadline for February Conference Funding Applications
DESCRIPTION:All applications for Conference Funding for conferences during the month of February are due in the GSA office (310 Student Union) by the close of business at 4:00pm.
URL:https://ubwp.buffalo.edu/gsa/event/deadline-for-february-conference-funding-applications-7/
LOCATION:GSA Office\, 310 Student Union\, University at Buffalo\, Buffalo\, NY\, 14260-2100\, United States
CATEGORIES:Administrative
ORGANIZER;CN="GSA Administrative Team":MAILTO:slfrank@buffalo.edu
END:VEVENT
BEGIN:VEVENT
DTSTART;VALUE=DATE:20200117
DTEND;VALUE=DATE:20200118
DTSTAMP:20260423T125406
CREATED:20190627T153750Z
LAST-MODIFIED:20190627T153750Z
UID:9440-1579219200-1579305599@ubwp.buffalo.edu
SUMMARY:Office Closed
DESCRIPTION:The GSA office will be open for Summer Hours: Monday to Thursday 8:30am – 4:00pm\, closed on Friday\, January 17th.
URL:https://ubwp.buffalo.edu/gsa/event/office-closed-63/
LOCATION:GSA Office\, 310 Student Union\, University at Buffalo\, Buffalo\, NY\, 14260-2100\, United States
CATEGORIES:Administrative
ORGANIZER;CN="GSA Administrative Team":MAILTO:slfrank@buffalo.edu
END:VEVENT
BEGIN:VEVENT
DTSTART;VALUE=DATE:20200120
DTEND;VALUE=DATE:20200121
DTSTAMP:20260423T125406
CREATED:20190627T154124Z
LAST-MODIFIED:20190627T154124Z
UID:9447-1579478400-1579564799@ubwp.buffalo.edu
SUMMARY:Office Closed
DESCRIPTION:The GSA office will be closed for Martin Luther King Jr. Day observance.
URL:https://ubwp.buffalo.edu/gsa/event/office-closed-65/
LOCATION:GSA Office\, 310 Student Union\, University at Buffalo\, Buffalo\, NY\, 14260-2100\, United States
CATEGORIES:Administrative
ORGANIZER;CN="GSA Administrative Team":MAILTO:slfrank@buffalo.edu
END:VEVENT
BEGIN:VEVENT
DTSTART;VALUE=DATE:20200121
DTEND;VALUE=DATE:20200124
DTSTAMP:20260423T125406
CREATED:20190627T153920Z
LAST-MODIFIED:20190627T153920Z
UID:9442-1579564800-1579823999@ubwp.buffalo.edu
SUMMARY:GSA Office on Summer Hours
DESCRIPTION:The GSA office will be open for Summer Hours: Tuesday to Thursday 8:30am – 4:00pm\, closed on Friday\, January 24th.
URL:https://ubwp.buffalo.edu/gsa/event/gsa-office-on-summer-hours-22/
LOCATION:GSA Office\, 310 Student Union\, University at Buffalo\, Buffalo\, NY\, 14260-2100\, United States
CATEGORIES:Administrative
ORGANIZER;CN="GSA Administrative Team":MAILTO:slfrank@buffalo.edu
END:VEVENT
BEGIN:VEVENT
DTSTART;VALUE=DATE:20200122
DTEND;VALUE=DATE:20200123
DTSTAMP:20260423T125406
CREATED:20190627T140935Z
LAST-MODIFIED:20190627T140935Z
UID:9380-1579651200-1579737599@ubwp.buffalo.edu
SUMMARY:February Group Funding Applications Deadline
DESCRIPTION:Application materials are due for Special Activities\, Interdepartmental Activities\, Symposium and Community Outreach funding for events occurring after the February Senate meeting. All application materials due in the GSA office by the close of business at 4:0opm.
URL:https://ubwp.buffalo.edu/gsa/event/february-group-funding-applications-deadline-7/
LOCATION:GSA Office\, 310 Student Union\, University at Buffalo\, Buffalo\, NY\, 14260-2100\, United States
CATEGORIES:Administrative
ORGANIZER;CN="GSA Administrative Team":MAILTO:slfrank@buffalo.edu
END:VEVENT
BEGIN:VEVENT
DTSTART;VALUE=DATE:20200124
DTEND;VALUE=DATE:20200125
DTSTAMP:20260423T125406
CREATED:20190627T154010Z
LAST-MODIFIED:20190627T154010Z
UID:9444-1579824000-1579910399@ubwp.buffalo.edu
SUMMARY:Office Closed
DESCRIPTION:The GSA office will be open for Summer Hours: Tuesday to Thursday 8:30am – 4:00pm\, closed on Friday\, January 24th.
URL:https://ubwp.buffalo.edu/gsa/event/office-closed-64/
LOCATION:GSA Office\, 310 Student Union\, University at Buffalo\, Buffalo\, NY\, 14260-2100\, United States
CATEGORIES:Administrative
ORGANIZER;CN="GSA Administrative Team":MAILTO:slfrank@buffalo.edu
END:VEVENT
BEGIN:VEVENT
DTSTART;VALUE=DATE:20200127
DTEND;VALUE=DATE:20200128
DTSTAMP:20260423T125406
CREATED:20190627T154214Z
LAST-MODIFIED:20190627T154214Z
UID:9449-1580083200-1580169599@ubwp.buffalo.edu
SUMMARY:Spring Classes Begin
DESCRIPTION:
URL:https://ubwp.buffalo.edu/gsa/event/spring-classes-begin-5/
LOCATION:Buffalo\, NY\, United States
CATEGORIES:Administrative
END:VEVENT
BEGIN:VEVENT
DTSTART;TZID=America/New_York:20200127T140000
DTEND;TZID=America/New_York:20200127T150000
DTSTAMP:20260423T125406
CREATED:20200116T091350Z
LAST-MODIFIED:20200116T091350Z
UID:10102-1580133600-1580137200@ubwp.buffalo.edu
SUMMARY:MDRF Grant Application Workshop
DESCRIPTION:The Spring deadline for Mark Diamond Research Fund (MDRF) applications is Friday\, February 14\, 2020. Grant applications are for research to be conducted April 1\, 2020 to March 31\, 2021. The MDRF Director will be holding grant writing workshops on the dates below to go over the application\, instructions\, the review process and to answer any questions: \nMonday\, January 27\, 2020 at 2:00pm in 310 Student Union\nWednesday\, January 29. 2020 at 11:00am in 310 Student Union \n*PLEASE NOTE* The last day to submit your application for review by the MDRF Director before submission is Wednesday\, February 5\, 2020 (by 4:30pm).
URL:https://ubwp.buffalo.edu/gsa/event/mdrf-grant-application-workshop-48/
LOCATION:GSA Conference Room\, 310A Student Union\, University at Buffalo\, Buffalo\, NY\, 14260\, United States
CATEGORIES:MDRF
ORGANIZER;CN="MDRF Director":MAILTO:gsa-mdrf@buffalo.edu
END:VEVENT
BEGIN:VEVENT
DTSTART;TZID=America/New_York:20200129T110000
DTEND;TZID=America/New_York:20200129T120000
DTSTAMP:20260423T125406
CREATED:20200116T091400Z
LAST-MODIFIED:20200116T091400Z
UID:10103-1580295600-1580299200@ubwp.buffalo.edu
SUMMARY:MDRF Grant Application Workshop
DESCRIPTION:The Spring deadline for Mark Diamond Research Fund (MDRF) applications is Friday\, February 14\, 2020. Grant applications are for research to be conducted April 1\, 2020 to March 31\, 2021. The MDRF Director will be holding grant writing workshops on the dates below to go over the application\, instructions\, the review process and to answer any questions: \nMonday\, January 27\, 2020 at 2:00pm in 310 Student Union\nWednesday\, January 29. 2020 at 11:00am in 310 Student Union \n*PLEASE NOTE* The last day to submit your application for review by the MDRF Director before submission is Wednesday\, February 5\, 2020 (by 4:30pm).
URL:https://ubwp.buffalo.edu/gsa/event/mdrf-grant-application-workshop-49/
LOCATION:GSA Conference Room\, 310A Student Union\, University at Buffalo\, Buffalo\, NY\, 14260\, United States
CATEGORIES:MDRF
ORGANIZER;CN="MDRF Director":MAILTO:gsa-mdrf@buffalo.edu
END:VEVENT
BEGIN:VEVENT
DTSTART;TZID=America/New_York:20200129T190000
DTEND;TZID=America/New_York:20200129T210000
DTSTAMP:20260423T125406
CREATED:20190627T123259Z
LAST-MODIFIED:20190627T123259Z
UID:9341-1580324400-1580331600@ubwp.buffalo.edu
SUMMARY:Finance Committee Meeting
DESCRIPTION:Finance Committee meeting to review group funding requests for events to take place in February or later.
URL:https://ubwp.buffalo.edu/gsa/event/finance-committee-meeting-47/
LOCATION:GSA Conference Room\, 310A Student Union\, University at Buffalo\, Buffalo\, NY\, 14260\, United States
CATEGORIES:Administrative,GSA Event
ORGANIZER;CN="GSA Administrative Team":MAILTO:slfrank@buffalo.edu
END:VEVENT
END:VCALENDAR