BEGIN:VCALENDAR
VERSION:2.0
PRODID:-//Graduate Student Association - ECPv6.15.20//NONSGML v1.0//EN
CALSCALE:GREGORIAN
METHOD:PUBLISH
X-WR-CALNAME:Graduate Student Association
X-ORIGINAL-URL:https://ubwp.buffalo.edu/gsa
X-WR-CALDESC:Events for Graduate Student Association
REFRESH-INTERVAL;VALUE=DURATION:PT1H
X-Robots-Tag:noindex
X-PUBLISHED-TTL:PT1H
BEGIN:VTIMEZONE
TZID:America/New_York
BEGIN:DAYLIGHT
TZOFFSETFROM:-0500
TZOFFSETTO:-0400
TZNAME:EDT
DTSTART:20160313T070000
END:DAYLIGHT
BEGIN:STANDARD
TZOFFSETFROM:-0400
TZOFFSETTO:-0500
TZNAME:EST
DTSTART:20161106T060000
END:STANDARD
BEGIN:DAYLIGHT
TZOFFSETFROM:-0500
TZOFFSETTO:-0400
TZNAME:EDT
DTSTART:20170312T070000
END:DAYLIGHT
BEGIN:STANDARD
TZOFFSETFROM:-0400
TZOFFSETTO:-0500
TZNAME:EST
DTSTART:20171105T060000
END:STANDARD
BEGIN:DAYLIGHT
TZOFFSETFROM:-0500
TZOFFSETTO:-0400
TZNAME:EDT
DTSTART:20180311T070000
END:DAYLIGHT
BEGIN:STANDARD
TZOFFSETFROM:-0400
TZOFFSETTO:-0500
TZNAME:EST
DTSTART:20181104T060000
END:STANDARD
BEGIN:DAYLIGHT
TZOFFSETFROM:-0500
TZOFFSETTO:-0400
TZNAME:EDT
DTSTART:20190310T070000
END:DAYLIGHT
BEGIN:STANDARD
TZOFFSETFROM:-0400
TZOFFSETTO:-0500
TZNAME:EST
DTSTART:20191103T060000
END:STANDARD
END:VTIMEZONE
BEGIN:VEVENT
DTSTART;VALUE=DATE:20171219
DTEND;VALUE=DATE:20180108
DTSTAMP:20260426T020827
CREATED:20170803T115305Z
LAST-MODIFIED:20170803T115305Z
UID:6424-1513641600-1515369599@ubwp.buffalo.edu
SUMMARY:Office Closed
DESCRIPTION:The GSA Office will be closed for Winter Recess from Tuesday\, December 19th until Monday\, January 8th. \nThe office will be open for Summer Hours (Monday – Thursday 8:30am – 4:00pm) from January 8th – 26th. \nRegular business hours will resume with the start of classes on January 29th.
URL:https://ubwp.buffalo.edu/gsa/event/office-closed-40/
LOCATION:Buffalo\, United States
CATEGORIES:Administrative
ORGANIZER;CN="GSA Administrative Team":MAILTO:slfrank@buffalo.edu
END:VEVENT
BEGIN:VEVENT
DTSTART;VALUE=DATE:20180104
DTEND;VALUE=DATE:20180105
DTSTAMP:20260426T020827
CREATED:20170803T114156Z
LAST-MODIFIED:20170803T114156Z
UID:6400-1515024000-1515110399@ubwp.buffalo.edu
SUMMARY:Winter Classes Begin
DESCRIPTION:
URL:https://ubwp.buffalo.edu/gsa/event/winter-classes-begin-3/
LOCATION:Buffalo\, United States
CATEGORIES:Administrative
ORGANIZER;CN="GSA Administrative Team":MAILTO:slfrank@buffalo.edu
END:VEVENT
BEGIN:VEVENT
DTSTART;VALUE=DATE:20180108
DTEND;VALUE=DATE:20180112
DTSTAMP:20260426T020827
CREATED:20170803T115924Z
LAST-MODIFIED:20170803T115924Z
UID:6437-1515369600-1515715199@ubwp.buffalo.edu
SUMMARY:GSA Office on Summer Hours
DESCRIPTION:The GSA office will be open for Summer Hours: Monday to Thursday 8:30am – 4:00pm\, closed on Friday\, January 12th.
URL:https://ubwp.buffalo.edu/gsa/event/gsa-office-on-summer-hours-12/
LOCATION:Buffalo\, United States
CATEGORIES:Administrative
ORGANIZER;CN="GSA Administrative Team":MAILTO:slfrank@buffalo.edu
END:VEVENT
BEGIN:VEVENT
DTSTART;VALUE=DATE:20180112
DTEND;VALUE=DATE:20180113
DTSTAMP:20260426T020827
CREATED:20170803T120431Z
LAST-MODIFIED:20170803T120431Z
UID:6452-1515715200-1515801599@ubwp.buffalo.edu
SUMMARY:Office Closed
DESCRIPTION:The GSA office will be open for Summer Hours: Monday to Thursday 8:30am – 4:00pm\, closed on Friday\, January 12th.
URL:https://ubwp.buffalo.edu/gsa/event/office-closed-45/
LOCATION:Buffalo\, United States
CATEGORIES:Administrative
ORGANIZER;CN="GSA Administrative Team":MAILTO:slfrank@buffalo.edu
END:VEVENT
BEGIN:VEVENT
DTSTART;VALUE=DATE:20180115
DTEND;VALUE=DATE:20180116
DTSTAMP:20260426T020827
CREATED:20170803T114536Z
LAST-MODIFIED:20170803T114536Z
UID:6412-1515974400-1516060799@ubwp.buffalo.edu
SUMMARY:Office Closed
DESCRIPTION:The GSA office will be closed for Martin Luther King Jr. Day observance.
URL:https://ubwp.buffalo.edu/gsa/event/office-closed-38/
LOCATION:Buffalo\, United States
CATEGORIES:Administrative
ORGANIZER;CN="GSA Administrative Team":MAILTO:slfrank@buffalo.edu
END:VEVENT
BEGIN:VEVENT
DTSTART;VALUE=DATE:20180116
DTEND;VALUE=DATE:20180117
DTSTAMP:20260426T020827
CREATED:20170629T093350Z
LAST-MODIFIED:20170629T093350Z
UID:6175-1516060800-1516147199@ubwp.buffalo.edu
SUMMARY:Deadline for February Conference Funding Applications
DESCRIPTION:All applications for Conference Funding for conferences during the month of February are due in the GSA office (310 Student Union) by the close of business.
URL:https://ubwp.buffalo.edu/gsa/event/deadline-for-february-conference-funding-applications-5/
LOCATION:GSA Office\, 310 Student Union\, University at Buffalo\, Buffalo\, NY\, 14260-2100\, United States
CATEGORIES:Administrative
ORGANIZER;CN="GSA Administrative Team":MAILTO:slfrank@buffalo.edu
END:VEVENT
BEGIN:VEVENT
DTSTART;VALUE=DATE:20180116
DTEND;VALUE=DATE:20180119
DTSTAMP:20260426T020827
CREATED:20170803T120035Z
LAST-MODIFIED:20170803T120035Z
UID:6440-1516060800-1516319999@ubwp.buffalo.edu
SUMMARY:GSA Office on Summer Hours
DESCRIPTION:The GSA office will be open for Summer Hours: Tuesday to Thursday 8:30am – 4:00pm\, closed on Friday\, January 19th.
URL:https://ubwp.buffalo.edu/gsa/event/gsa-office-on-summer-hours-13/
LOCATION:Buffalo\, United States
CATEGORIES:Administrative
ORGANIZER;CN="GSA Administrative Team":MAILTO:slfrank@buffalo.edu
END:VEVENT
BEGIN:VEVENT
DTSTART;VALUE=DATE:20180119
DTEND;VALUE=DATE:20180120
DTSTAMP:20260426T020827
CREATED:20170803T120128Z
LAST-MODIFIED:20170803T120128Z
UID:6443-1516320000-1516406399@ubwp.buffalo.edu
SUMMARY:Office Closed
DESCRIPTION:The GSA office will be open for Summer Hours: Tuesday to Thursday 8:30am – 4:00pm\, closed on Friday\, January 19th.
URL:https://ubwp.buffalo.edu/gsa/event/office-closed-43/
LOCATION:Buffalo\, United States
CATEGORIES:Administrative
ORGANIZER;CN="GSA Administrative Team":MAILTO:slfrank@buffalo.edu
END:VEVENT
BEGIN:VEVENT
DTSTART;VALUE=DATE:20180122
DTEND;VALUE=DATE:20180126
DTSTAMP:20260426T020827
CREATED:20170803T120300Z
LAST-MODIFIED:20170803T120300Z
UID:6446-1516579200-1516924799@ubwp.buffalo.edu
SUMMARY:GSA Office on Summer Hours
DESCRIPTION:The GSA office will be open for Summer Hours: Monday to Thursday 8:30am – 4:00pm\, closed on Friday\, January 26th.
URL:https://ubwp.buffalo.edu/gsa/event/gsa-office-on-summer-hours-14/
LOCATION:Buffalo\, United States
CATEGORIES:Administrative
ORGANIZER;CN="GSA Administrative Team":MAILTO:slfrank@buffalo.edu
END:VEVENT
BEGIN:VEVENT
DTSTART;VALUE=DATE:20180124
DTEND;VALUE=DATE:20180125
DTSTAMP:20260426T020827
CREATED:20170705T124741Z
LAST-MODIFIED:20170705T124741Z
UID:6211-1516752000-1516838399@ubwp.buffalo.edu
SUMMARY:February Group Funding Applications Deadline
DESCRIPTION:Application materials are due for Special Activities\, Interdepartmental Activities\, Symposium and Community Outreach funding for events occurring after the February Senate meeting. All application materials due in the GSA office by the close of business.
URL:https://ubwp.buffalo.edu/gsa/event/february-group-funding-applications-deadline-5/
LOCATION:GSA Office\, 310 Student Union\, University at Buffalo\, Buffalo\, NY\, 14260-2100\, United States
CATEGORIES:Administrative
ORGANIZER;CN="GSA Administrative Team":MAILTO:slfrank@buffalo.edu
END:VEVENT
BEGIN:VEVENT
DTSTART;VALUE=DATE:20180124
DTEND;VALUE=DATE:20180125
DTSTAMP:20260426T020827
CREATED:20170803T114306Z
LAST-MODIFIED:20170803T114306Z
UID:6403-1516752000-1516838399@ubwp.buffalo.edu
SUMMARY:Last Day of Winter Classes
DESCRIPTION:
URL:https://ubwp.buffalo.edu/gsa/event/last-day-of-winter-classes-3/
LOCATION:Buffalo\, United States
CATEGORIES:Administrative
ORGANIZER;CN="GSA Administrative Team":MAILTO:slfrank@buffalo.edu
END:VEVENT
BEGIN:VEVENT
DTSTART;VALUE=DATE:20180124
DTEND;VALUE=DATE:20180126
DTSTAMP:20260426T020827
CREATED:20171031T094846Z
LAST-MODIFIED:20171031T094846Z
UID:6934-1516752000-1516924799@ubwp.buffalo.edu
SUMMARY:Intercultural Leadership Retreat
DESCRIPTION:The Intercultural Leadership Retreat (ILR) is a joint program between the Intercultural and Diversity Center and the Student Engagement office. It is a 2 day (1 night) retreat designed to engage students in meaningful conversations about identity\, values\, beliefs\, and the experiences that affect the ways we lead and the ways in which we view the world. \nThe ILR will help UB students become advocates for change\, encourage them to pursue their passions\, and engage in responsible citizenship as they explore the relationship between leadership and diversity.  Become an advocate for change. Examine your personal identity. Explore how diversity impacts leadership. \nAt the Intercultural Leadership Retreat\, you’ll engage in meaningful conversations about identity\, values\, beliefs and stereotypes as you develop your personal definitions of community\, leadership and diversity. \nThe retreat – which is available to students at no cost – includes meals\, transportation\, lodging\, program materials and supplies. \nApplications open October 6 and close November 17 and can be found by going this form. \nWednesday\, January 24\, 2017 8:00 a.m. – Thursday\, January 25\, 2017 5:00 p.m. \nCollege Lodge\, SUNY Fredonia
URL:https://ubwp.buffalo.edu/gsa/event/intercultural-leadership-retreat/
LOCATION:SUNY Fredonia\, Fredonia\, NY\, United States
CATEGORIES:University Event
END:VEVENT
BEGIN:VEVENT
DTSTART;VALUE=DATE:20180126
DTEND;VALUE=DATE:20180127
DTSTAMP:20260426T020827
CREATED:20170803T120331Z
LAST-MODIFIED:20170803T120331Z
UID:6449-1516924800-1517011199@ubwp.buffalo.edu
SUMMARY:Office Closed
DESCRIPTION:The GSA office will be open for Summer Hours: Monday to Thursday 8:30am – 4:00pm\, closed on Friday\, January 26th.
URL:https://ubwp.buffalo.edu/gsa/event/office-closed-44/
LOCATION:Buffalo\, United States
CATEGORIES:Administrative
ORGANIZER;CN="GSA Administrative Team":MAILTO:slfrank@buffalo.edu
END:VEVENT
BEGIN:VEVENT
DTSTART;VALUE=DATE:20180129
DTEND;VALUE=DATE:20180130
DTSTAMP:20260426T020827
CREATED:20170803T114349Z
LAST-MODIFIED:20170803T114349Z
UID:6406-1517184000-1517270399@ubwp.buffalo.edu
SUMMARY:Spring Classes Begin
DESCRIPTION:
URL:https://ubwp.buffalo.edu/gsa/event/spring-classes-begin-3/
LOCATION:Buffalo\, United States
CATEGORIES:Administrative
ORGANIZER;CN="GSA Administrative Team":MAILTO:slfrank@buffalo.edu
END:VEVENT
BEGIN:VEVENT
DTSTART;VALUE=DATE:20180131
DTEND;VALUE=DATE:20180201
DTSTAMP:20260426T020827
CREATED:20170705T134735Z
LAST-MODIFIED:20170705T134735Z
UID:6259-1517356800-1517443199@ubwp.buffalo.edu
SUMMARY:Fall Paperwork Deadline
DESCRIPTION:All paperwork for pre-encumbered Fall expenditures (August – December) are due by this date\, or the requests will be voided as of February 16\, 2018!
URL:https://ubwp.buffalo.edu/gsa/event/fall-paperwork-deadline-3/
LOCATION:GSA Office\, 310 Student Union\, University at Buffalo\, Buffalo\, NY\, 14260-2100\, United States
CATEGORIES:Administrative
ORGANIZER;CN="GSA Administrative Team":MAILTO:slfrank@buffalo.edu
END:VEVENT
END:VCALENDAR