BEGIN:VCALENDAR
VERSION:2.0
PRODID:-//Graduate Student Association - ECPv6.15.20//NONSGML v1.0//EN
CALSCALE:GREGORIAN
METHOD:PUBLISH
X-ORIGINAL-URL:https://ubwp.buffalo.edu/gsa
X-WR-CALDESC:Events for Graduate Student Association
REFRESH-INTERVAL;VALUE=DURATION:PT1H
X-Robots-Tag:noindex
X-PUBLISHED-TTL:PT1H
BEGIN:VTIMEZONE
TZID:America/New_York
BEGIN:DAYLIGHT
TZOFFSETFROM:-0500
TZOFFSETTO:-0400
TZNAME:EDT
DTSTART:20160313T070000
END:DAYLIGHT
BEGIN:STANDARD
TZOFFSETFROM:-0400
TZOFFSETTO:-0500
TZNAME:EST
DTSTART:20161106T060000
END:STANDARD
BEGIN:DAYLIGHT
TZOFFSETFROM:-0500
TZOFFSETTO:-0400
TZNAME:EDT
DTSTART:20170312T070000
END:DAYLIGHT
BEGIN:STANDARD
TZOFFSETFROM:-0400
TZOFFSETTO:-0500
TZNAME:EST
DTSTART:20171105T060000
END:STANDARD
BEGIN:DAYLIGHT
TZOFFSETFROM:-0500
TZOFFSETTO:-0400
TZNAME:EDT
DTSTART:20180311T070000
END:DAYLIGHT
BEGIN:STANDARD
TZOFFSETFROM:-0400
TZOFFSETTO:-0500
TZNAME:EST
DTSTART:20181104T060000
END:STANDARD
END:VTIMEZONE
BEGIN:VEVENT
DTSTART;VALUE=DATE:20170703
DTEND;VALUE=DATE:20170705
DTSTAMP:20260425T113524
CREATED:20160706T125617Z
LAST-MODIFIED:20160706T125617Z
UID:4715-1499040000-1499212799@ubwp.buffalo.edu
SUMMARY:Office Closed
DESCRIPTION:The GSA offices (North and South Campus) will be closed for Independence Day observance.
URL:https://ubwp.buffalo.edu/gsa/event/office-closed-29/
LOCATION:NY
CATEGORIES:Administrative
ORGANIZER;CN="GSA Administrative Team":MAILTO:slfrank@buffalo.edu
END:VEVENT
BEGIN:VEVENT
DTSTART;TZID=America/New_York:20170708T193000
DTEND;TZID=America/New_York:20170708T223000
DTSTAMP:20260425T113524
CREATED:20170523T091856Z
LAST-MODIFIED:20170523T091856Z
UID:6052-1499542200-1499553000@ubwp.buffalo.edu
SUMMARY:Moondance Cruise
DESCRIPTION:Sunset Cruise on Lake Erie leaving from Templeton Landing.  Boat launches at 8:15pm SHARP\, so please make sure to arrive by 7:45pm.  Tickets include drinks and food on-board.  Tickets on sale June 5th at the SBI Ticket Offices (221 Student Union and 350 Harriman Hall) for $20 each.  2 per UB ID.  Limited quantity available.  First come\, first served.  All sales are non-refundable. \nSBI Ticket Office Summer Office Hours (starting Tuesday\, May 30th) \nNorth Campus (221 Student Union): Monday\, Wednesday and Thursday 11:00am – 3:00pm \nSouth Campus (350 Harriman Hall): Tuesday\, Wednesday and Thursday 11:00am – 3:00pm
URL:https://ubwp.buffalo.edu/gsa/event/moondance-cruise/
LOCATION:Templeton Landing\, 329 Erie St.\, Buffalo\, NY\, 14202\, United States
CATEGORIES:GSA Event
ATTACH;FMTTYPE=image/jpeg:https://ubwp.buffalo.edu/gsa/wp-content/uploads/sites/137/2016/04/Moondance-Sunset.jpg
ORGANIZER;CN="GSA Programming Coordinator":MAILTO:gsa-programming@buffalo.edu
END:VEVENT
BEGIN:VEVENT
DTSTART;TZID=America/New_York:20170714T103000
DTEND;TZID=America/New_York:20170714T220000
DTSTAMP:20260425T113524
CREATED:20170523T093051Z
LAST-MODIFIED:20170523T093051Z
UID:6055-1500028200-1500069600@ubwp.buffalo.edu
SUMMARY:Darien Lake Theme Park
DESCRIPTION:GSA is offering discounted tickets to Darien Lake Theme Park for Friday\, July 14th.  (Park Hours: 10:30am – 10:00pm) \nTickets on sale June 12th at the SBI Ticket Offices (221 Student Union and 350 Harriman Hall) for $15 each.  2 per UB ID.  Limited quantity available.  First come\, first served.  All sales are non-refundable. \n*Tickets include a food voucher and water park admission. \nPlease note that transportation is NOT provided for this event\, it is your own responsibility!  Parking is also not included ($9 per car). \nSBI Ticket Office Summer Hours (starting Tuesday\, May 30th) \nNorth Campus (221 Student Union): Monday\, Wednesday and Thursday 11:00am – 3:00pm \nSouth Campus (350 Harriman Hall): Tuesday\, Wednesday and Thursday 11:00am – 3:00pm
URL:https://ubwp.buffalo.edu/gsa/event/darien-lake-theme-park-2/
LOCATION:Darien Lake Amusement Park\, 9993 Alleghany Rd.\, Darien Center\, NY\, 14040\, United States
CATEGORIES:GSA Event
ATTACH;FMTTYPE=image/jpeg:https://ubwp.buffalo.edu/gsa/wp-content/uploads/sites/137/2014/06/Darien-Lake.jpg
ORGANIZER;CN="GSA Programming Coordinator":MAILTO:gsa-programming@buffalo.edu
END:VEVENT
BEGIN:VEVENT
DTSTART;VALUE=DATE:20170717
DTEND;VALUE=DATE:20170718
DTSTAMP:20260425T113524
CREATED:20160705T115754Z
LAST-MODIFIED:20160705T115754Z
UID:4622-1500249600-1500335999@ubwp.buffalo.edu
SUMMARY:Deadline for August Conference Funding Applications
DESCRIPTION:All applications for Conference Funding for conferences during the month of August are due in the GSA office by the close of business.
URL:https://ubwp.buffalo.edu/gsa/event/deadline-for-august-conference-funding-applications-4/
LOCATION:NY
CATEGORIES:Administrative,Conference Funding
ORGANIZER;CN="GSA Administrative Team":MAILTO:slfrank@buffalo.edu
END:VEVENT
BEGIN:VEVENT
DTSTART;TZID=America/New_York:20170717T080000
DTEND;TZID=America/New_York:20170717T170000
DTSTAMP:20260425T113524
CREATED:20160705T130622Z
LAST-MODIFIED:20160705T130622Z
UID:4628-1500278400-1500310800@ubwp.buffalo.edu
SUMMARY:Summer Fee Waiver Deadline
DESCRIPTION:Applications for a waiver of any applicable Summer semester student activity fees ($3 per session\, not to exceed $9) are due in GSA office by close of business. \nFee waivers may be granted to students who are located at least 75 miles from Buffalo\, or who suffer unusual financial hardship. Graduate students who have their fees waived will be ineligible for all GSA services.
URL:https://ubwp.buffalo.edu/gsa/event/summer-fee-waiver-deadline-4/
LOCATION:NY
CATEGORIES:Administrative
ORGANIZER;CN="GSA Administrative Team":MAILTO:slfrank@buffalo.edu
END:VEVENT
BEGIN:VEVENT
DTSTART;TZID=America/New_York:20170728T183000
DTEND;TZID=America/New_York:20170728T233000
DTSTAMP:20260425T113524
CREATED:20170523T093423Z
LAST-MODIFIED:20170523T093423Z
UID:6064-1501266600-1501284600@ubwp.buffalo.edu
SUMMARY:Shakespeare in Delaware Park ~ Macbeth
DESCRIPTION:GSA will be the corporate sponsor of the July 28th presentation of Macbeth\, 6:45pm at Delaware Park (by the Rose Garden). \nFree tickets available June 26th at the SBI Ticket Offices (221 Student Union and 350 Harriman Hall).  2 max. per UB ID. Limited quantity available.  First come\, first served. \n*Tickets include VIP seating\, complimentary champagne and light hors d’oeuvres in the tent before the show. \nSBI Ticket Office Summer Office Hours (starting Tuesday\, May 30th) \nNorth Campus (221 Student Union): Monday\, Wednesday and Thursday 11:00am – 3:00pm \nSouth Campus (350 Harriman Hall): Tuesday\, Wednesday and Thursday 11:00am – 3:00pm
URL:https://ubwp.buffalo.edu/gsa/event/shakespeare-in-delaware-park-macbeth/
LOCATION:Delaware Park\, 199 Lincoln Pkwy.\, Buffalo\, NY\, 14222\, United States
CATEGORIES:GSA Event
ATTACH;FMTTYPE=image/jpeg:https://ubwp.buffalo.edu/gsa/wp-content/uploads/sites/137/2014/05/Shakespear-in-Delaware-Park.jpg
ORGANIZER;CN="GSA Programming Coordinator":MAILTO:gsa-programming@buffalo.edu
END:VEVENT
END:VCALENDAR