BEGIN:VCALENDAR
VERSION:2.0
PRODID:-//Graduate Student Association - ECPv6.15.20//NONSGML v1.0//EN
CALSCALE:GREGORIAN
METHOD:PUBLISH
X-ORIGINAL-URL:https://ubwp.buffalo.edu/gsa
X-WR-CALDESC:Events for Graduate Student Association
REFRESH-INTERVAL;VALUE=DURATION:PT1H
X-Robots-Tag:noindex
X-PUBLISHED-TTL:PT1H
BEGIN:VTIMEZONE
TZID:America/New_York
BEGIN:DAYLIGHT
TZOFFSETFROM:-0500
TZOFFSETTO:-0400
TZNAME:EDT
DTSTART:20150308T070000
END:DAYLIGHT
BEGIN:STANDARD
TZOFFSETFROM:-0400
TZOFFSETTO:-0500
TZNAME:EST
DTSTART:20151101T060000
END:STANDARD
BEGIN:DAYLIGHT
TZOFFSETFROM:-0500
TZOFFSETTO:-0400
TZNAME:EDT
DTSTART:20160313T070000
END:DAYLIGHT
BEGIN:STANDARD
TZOFFSETFROM:-0400
TZOFFSETTO:-0500
TZNAME:EST
DTSTART:20161106T060000
END:STANDARD
BEGIN:DAYLIGHT
TZOFFSETFROM:-0500
TZOFFSETTO:-0400
TZNAME:EDT
DTSTART:20170312T070000
END:DAYLIGHT
BEGIN:STANDARD
TZOFFSETFROM:-0400
TZOFFSETTO:-0500
TZNAME:EST
DTSTART:20171105T060000
END:STANDARD
END:VTIMEZONE
BEGIN:VEVENT
DTSTART;TZID=America/New_York:20160302T170000
DTEND;TZID=America/New_York:20160302T180000
DTSTAMP:20260421T145945
CREATED:20160222T102524Z
LAST-MODIFIED:20160222T102524Z
UID:4177-1456938000-1456941600@ubwp.buffalo.edu
SUMMARY:UB-SoFem General Meeting
DESCRIPTION:UB-SoFem will hold the next meeting on March 2nd at 5pm in Clemens 117 (North Campus). This will be a joint meeting with the new undergraduate Society of Feminists\, and we will have a shared topical discussion that the undergrad SoFems will lead. Please come out and join us on March 2 and contribute your ideas\, thoughts\, and comments!
URL:https://ubwp.buffalo.edu/gsa/event/ub-sofem-general-meeting-2/
LOCATION:117 Clemens Hall\, NY\, 14260
CATEGORIES:Club Event
ORGANIZER;CN="UBSoFem":MAILTO:tanjanii@buffalo.edu
END:VEVENT
BEGIN:VEVENT
DTSTART;TZID=America/New_York:20160304T090000
DTEND;TZID=America/New_York:20160304T170000
DTSTAMP:20260421T145945
CREATED:20160208T153419Z
LAST-MODIFIED:20160208T153419Z
UID:4112-1457082000-1457110800@ubwp.buffalo.edu
SUMMARY:Convergence Symposium ~ Anthropology
DESCRIPTION:
URL:https://ubwp.buffalo.edu/gsa/event/convergence-symposium-anthropology/
LOCATION:B120 Greiner Hall\, NY\, 14261
CATEGORIES:Club Event
END:VEVENT
BEGIN:VEVENT
DTSTART;TZID=America/New_York:20160305T130000
DTEND;TZID=America/New_York:20160305T160000
DTSTAMP:20260421T145945
CREATED:20151208T113505Z
LAST-MODIFIED:20151208T113505Z
UID:3883-1457182800-1457193600@ubwp.buffalo.edu
SUMMARY:Buffalo Sabres Hockey Game vs. Minnesota Wild
DESCRIPTION:Tickets on sale February 8th at the SBI Ticket Offices (221 Student Union and 350 Harriman Hall) for $20 each.  2 per UB ID.  Limited quantity available.  First come\, first served.
URL:https://ubwp.buffalo.edu/gsa/event/buffalo-sabres-hockey-game-vs-minnesota-wild/
LOCATION:First Niagara Center
CATEGORIES:GSA Event
ATTACH;FMTTYPE=image/jpeg:https://ubwp.buffalo.edu/gsa/wp-content/uploads/sites/137/2013/09/Buffalo-Sabres-New.jpg
ORGANIZER;CN="GSA Programming Coordinator":MAILTO:gsa-programming@buffalo.edu
END:VEVENT
BEGIN:VEVENT
DTSTART;VALUE=DATE:20160307
DTEND;VALUE=DATE:20160308
DTSTAMP:20260421T145945
CREATED:20151208T135257Z
LAST-MODIFIED:20151208T135257Z
UID:3893-1457308800-1457395199@ubwp.buffalo.edu
SUMMARY:Discount AMC Movie Tickets Available
DESCRIPTION:GSA will have discount AMC Movie Tickets available for sale on March 7th at the SBI Ticket Offices (221 Student Union and 350 Harriman Hall) for $5 each.  1 per UB ID.  Tickets can be used for most movies at AMC theatre locations.  Limited quantity available.  First come\, first served.
URL:https://ubwp.buffalo.edu/gsa/event/discount-amc-movie-tickets-available-4/
CATEGORIES:GSA Event
ATTACH;FMTTYPE=image/jpeg:https://ubwp.buffalo.edu/gsa/wp-content/uploads/sites/137/2015/09/AMC.jpg
ORGANIZER;CN="GSA Programming Coordinator":MAILTO:gsa-programming@buffalo.edu
END:VEVENT
BEGIN:VEVENT
DTSTART;TZID=America/New_York:20160307T173000
DTEND;TZID=America/New_York:20160307T200000
DTSTAMP:20260421T145945
CREATED:20160307T141624Z
LAST-MODIFIED:20160307T141624Z
UID:4228-1457371800-1457380800@ubwp.buffalo.edu
SUMMARY:"Fed Up" Movie Screening
DESCRIPTION:Fed Up Movie Screening and Expert Panel to be held Thursday April 7th\, 2016 from 5:30 PM – 8:00 PM in 150 Farber Hall (UB’s South Campus). Parking is open in Michael-Farber lot because it is after 5 PM. Food will be provided. \nhttps://www.facebook.com/events/712479795555385/ \n \nVery brief film synoposis: “Upending the conventional wisdom of why we gain weight and how to lose it\, Fed Up unearths a dirty secret of the American food industry – far more of us get sick from what we eat than anyone has previously realized.” \nCo-sponsors: This event is presented by the Community Health and Health Behavior Graduate Student Association\, and is co-sponsered by: the university-wide Graduate Student Association\, the Exercise and Nutrition Sciences Graduate Student Association\, and the School of Public Health and Health Professions Departments of Exercise and Nutrition Sciences and Community Health and Health Behavior.
URL:https://ubwp.buffalo.edu/gsa/event/fed-up-movie-screening/
LOCATION:150 Farber Hall (Butler Auditorium)\, Buffalo\, NY\, United States
CATEGORIES:Club Event
END:VEVENT
BEGIN:VEVENT
DTSTART;VALUE=DATE:20160322
DTEND;VALUE=DATE:20160323
DTSTAMP:20260421T145945
CREATED:20160308T154915Z
LAST-MODIFIED:20160308T154915Z
UID:4242-1458604800-1458691199@ubwp.buffalo.edu
SUMMARY:South Campus Office Closed
DESCRIPTION:The GSA South Campus Office will be closed on Tuesday\, March 22nd.  We apologize for any inconvenience.
URL:https://ubwp.buffalo.edu/gsa/event/south-campus-office-closed-10/
LOCATION:Unnamed Venue\, Buffalo\, NY\, United States
CATEGORIES:Administrative
ORGANIZER;CN="GSA Administrative Team":MAILTO:slfrank@buffalo.edu
END:VEVENT
BEGIN:VEVENT
DTSTART;TZID=America/New_York:20160323T150000
DTEND;TZID=America/New_York:20160323T160000
DTSTAMP:20260421T145945
CREATED:20160223T152452Z
LAST-MODIFIED:20160223T152452Z
UID:4189-1458745200-1458748800@ubwp.buffalo.edu
SUMMARY:Fellowships and Scholarships for Study Abroad Workshop
DESCRIPTION:
URL:https://ubwp.buffalo.edu/gsa/event/fellowships-and-scholarships-for-study-abroad-workshop-2/
LOCATION:107 Capen Hall\, Buffalo\, NY\, United States
CATEGORIES:University Event
END:VEVENT
BEGIN:VEVENT
DTSTART;TZID=America/New_York:20160323T173000
DTEND;TZID=America/New_York:20160323T183000
DTSTAMP:20260421T145945
CREATED:20160317T161223Z
LAST-MODIFIED:20160317T161223Z
UID:4279-1458754200-1458757800@ubwp.buffalo.edu
SUMMARY:UB-SoFem General Meeting
DESCRIPTION:Our next meeting will be held March 23 at 5:30 pm in Clemens 117. Please stop by and contribute your organizing talents\, ideas for new projects\, and thoughts on what promises to be another stimulating discussion!
URL:https://ubwp.buffalo.edu/gsa/event/ub-sofem-general-meeting-3/
LOCATION:117 Clemens Hall\, NY\, 14260
CATEGORIES:Club Event
ORGANIZER;CN="UBSoFem":MAILTO:tanjanii@buffalo.edu
END:VEVENT
BEGIN:VEVENT
DTSTART;TZID=America/New_York:20160324T153000
DTEND;TZID=America/New_York:20160324T173000
DTSTAMP:20260421T145945
CREATED:20151208T111054Z
LAST-MODIFIED:20151208T111054Z
UID:3878-1458833400-1458840600@ubwp.buffalo.edu
SUMMARY:South Campus Siesta
DESCRIPTION:Free food and beverages for graduate students at South Campus.
URL:https://ubwp.buffalo.edu/gsa/event/south-campus-siesta-14/
LOCATION:105 Harriman Hall\, 105 Harriman Hall\, University at Buffalo\, Buffalo\, NY\, 14260\, United States
CATEGORIES:GSA Event
ATTACH;FMTTYPE=image/jpeg:https://ubwp.buffalo.edu/gsa/wp-content/uploads/sites/137/2015/01/South-Siesta2.jpg
ORGANIZER;CN="GSA Programming Coordinator":MAILTO:gsa-programming@buffalo.edu
END:VEVENT
BEGIN:VEVENT
DTSTART;TZID=America/New_York:20160324T170000
DTEND;TZID=America/New_York:20160324T183000
DTSTAMP:20260421T145945
CREATED:20160315T153251Z
LAST-MODIFIED:20160315T153251Z
UID:4255-1458838800-1458844200@ubwp.buffalo.edu
SUMMARY:Career Services Workshop ~ LinkedIn for Graduate Students
DESCRIPTION:  \n \nLinkedIn for Graduate Students: Five strategies for finding your dream job or internship \nBring your laptop…learn how to create a great Linkedin profile and reach out to thousands of UB alumni. You might be on Linkedin already but this workshop will show you how to really use it. \nREGISTER HERE!
URL:https://ubwp.buffalo.edu/gsa/event/career-services-workshop-linkedin-for-graduate-students/
LOCATION:216 Natural Sciences Complex\, Buffalo\, NY\, United States
CATEGORIES:University Event
END:VEVENT
BEGIN:VEVENT
DTSTART;TZID=America/New_York:20160326T110000
DTEND;TZID=America/New_York:20160326T130000
DTSTAMP:20260421T145945
CREATED:20160321T151334Z
LAST-MODIFIED:20160321T151334Z
UID:4310-1458990000-1458997200@ubwp.buffalo.edu
SUMMARY:Free Turkish Breakfast Event
DESCRIPTION:Turkish GSA invites you to the Breakfast event on Saturday. Come enjoy free breakfast and meet Turkish friends! It will start at 11:00am. Please RSVP from this link: http://goo.gl/forms/nkvo63QDLQ \nDate: Saturday\, March 26\nTime: 11:00am\nPlace: SU 145
URL:https://ubwp.buffalo.edu/gsa/event/4310/
LOCATION:145 Student Union\, Buffalo
CATEGORIES:Club Event
ORGANIZER;CN="Turkish GSA":MAILTO:enginars@buffalo.edu
END:VEVENT
BEGIN:VEVENT
DTSTART;TZID=America/New_York:20160328T180000
DTEND;TZID=America/New_York:20160328T194500
DTSTAMP:20260421T145945
CREATED:20160328T151411Z
LAST-MODIFIED:20160328T151411Z
UID:4362-1459188000-1459194300@ubwp.buffalo.edu
SUMMARY:Tango Beginners Class
DESCRIPTION:Starting March 28th from 6:00 to 6:45pm the Argentine Tango club will start a 6 weeks Beginners Level II class\, followed by Beginners Level I from 6:45 to 7:45pm at UB South\, 105 Harriman Hall \nhttps://buffalo.collegiatelink.net/organization/ATC/events
URL:https://ubwp.buffalo.edu/gsa/event/tango-beginners-class-4/
LOCATION:105 Harriman Hall\, 105 Harriman Hall\, University at Buffalo\, Buffalo\, NY\, 14260\, United States
CATEGORIES:Club Event
ORGANIZER;CN="Argentine Tango":MAILTO:dsavija@buffalo.edu
END:VEVENT
BEGIN:VEVENT
DTSTART;TZID=America/New_York:20160329T190000
DTEND;TZID=America/New_York:20160329T210000
DTSTAMP:20260421T145945
CREATED:20160328T150415Z
LAST-MODIFIED:20160328T150415Z
UID:4360-1459278000-1459285200@ubwp.buffalo.edu
SUMMARY:La Soiree Africain
DESCRIPTION:
URL:https://ubwp.buffalo.edu/gsa/event/la-soiree-africain/
LOCATION:904 Clemens\, Buffalo\, NY\, 14260\, United States
CATEGORIES:Club Event
ORGANIZER;CN="French Connection":MAILTO:ocle@buffalo.edu
END:VEVENT
BEGIN:VEVENT
DTSTART;TZID=America/New_York:20160330T190000
DTEND;TZID=America/New_York:20160330T210000
DTSTAMP:20260421T145945
CREATED:20150723T110213Z
LAST-MODIFIED:20150723T110213Z
UID:3174-1459364400-1459371600@ubwp.buffalo.edu
SUMMARY:Finance Committee Meeting
DESCRIPTION:This will be the final Finance Committee meeting of the year to review all funding requests for events taking place between April and July.
URL:https://ubwp.buffalo.edu/gsa/event/finance-committee-meeting-21/
LOCATION:GSA Conference Room\, 310A Student Union\, University at Buffalo\, Buffalo\, NY\, 14260\, United States
CATEGORIES:Administrative,GSA Event
ORGANIZER;CN="GSA Treasurer":MAILTO:gsa-treasurer@buffalo.edu
END:VEVENT
BEGIN:VEVENT
DTSTART;TZID=America/New_York:20160331T160000
DTEND;TZID=America/New_York:20160331T180000
DTSTAMP:20260421T145945
CREATED:20160307T142118Z
LAST-MODIFIED:20160307T142118Z
UID:4233-1459440000-1459447200@ubwp.buffalo.edu
SUMMARY:Personal Website Tutorial
DESCRIPTION:The GSA Webmasters would like to invite you to a Personal Website Tutorial. Come to mini-workshops where the Webmasters will help you activate your UBIT space\, design a website\, and post it. We want to help you put your professional face online! \nThe tutorials are scheduled for March 31st at 4:00 and April 7th at 4:00 in the GSA office\, 310 Student Union. If you are interested but cannot attend either of these\, send us an email at (gsa-webmaster@buffalo.edu). If there is enough interest\, we’ll hold additional tutorials on different days. \nTo sign up\, please use the following Doodle Poll: http://doodle.com/poll/z7v8rgifwqgxnp3n \nSpace is limited! Only 9 people can register for the tutorial at a time\, so if you’re interested\, sign up and let us know! \nHolly & John
URL:https://ubwp.buffalo.edu/gsa/event/personal-website-tutorial/
LOCATION:GSA Conference Room\, 310A Student Union\, University at Buffalo\, Buffalo\, NY\, 14260\, United States
CATEGORIES:GSA Event
END:VEVENT
END:VCALENDAR