BEGIN:VCALENDAR
VERSION:2.0
PRODID:-//Graduate Student Association - ECPv6.15.20//NONSGML v1.0//EN
CALSCALE:GREGORIAN
METHOD:PUBLISH
X-ORIGINAL-URL:https://ubwp.buffalo.edu/gsa
X-WR-CALDESC:Events for Graduate Student Association
REFRESH-INTERVAL;VALUE=DURATION:PT1H
X-Robots-Tag:noindex
X-PUBLISHED-TTL:PT1H
BEGIN:VTIMEZONE
TZID:America/New_York
BEGIN:DAYLIGHT
TZOFFSETFROM:-0500
TZOFFSETTO:-0400
TZNAME:EDT
DTSTART:20150308T070000
END:DAYLIGHT
BEGIN:STANDARD
TZOFFSETFROM:-0400
TZOFFSETTO:-0500
TZNAME:EST
DTSTART:20151101T060000
END:STANDARD
BEGIN:DAYLIGHT
TZOFFSETFROM:-0500
TZOFFSETTO:-0400
TZNAME:EDT
DTSTART:20160313T070000
END:DAYLIGHT
BEGIN:STANDARD
TZOFFSETFROM:-0400
TZOFFSETTO:-0500
TZNAME:EST
DTSTART:20161106T060000
END:STANDARD
BEGIN:DAYLIGHT
TZOFFSETFROM:-0500
TZOFFSETTO:-0400
TZNAME:EDT
DTSTART:20170312T070000
END:DAYLIGHT
BEGIN:STANDARD
TZOFFSETFROM:-0400
TZOFFSETTO:-0500
TZNAME:EST
DTSTART:20171105T060000
END:STANDARD
END:VTIMEZONE
BEGIN:VEVENT
DTSTART;TZID=America/New_York:20161205T140000
DTEND;TZID=America/New_York:20161205T150000
DTSTAMP:20260421T195858
CREATED:20161121T110945Z
LAST-MODIFIED:20161121T110945Z
UID:5267-1480946400-1480950000@ubwp.buffalo.edu
SUMMARY:MDRF Grant Application Workshop
DESCRIPTION:The Spring deadline for Mark Diamond Research Fund (MDRF) applications is Friday\, February 17\, 2017. Grant applications are for research to be conducted April 1\, 2017 to March 31\, 2018. The MDRF Director will be holding grant writing workshops on the dates below to go over the application\, instructions\, the review process and to answer any questions: \nMonday\, December 5th at 2:00pm and 3:00pm in 310 Student Union\nTuesday\, December 6th at 10:00am and 11:00am in 310 Student Union \nIf you have any questions\, please contact Jennifer at gsa-mdrf@buffalo.edu.
URL:https://ubwp.buffalo.edu/gsa/event/mdrf-grant-application-workshop-14/
LOCATION:GSA Conference Room\, 310A Student Union\, University at Buffalo\, Buffalo\, NY\, 14260\, United States
CATEGORIES:MDRF
ORGANIZER;CN="MDRF Director":MAILTO:gsa-mdrf@buffalo.edu
END:VEVENT
BEGIN:VEVENT
DTSTART;VALUE=DATE:20160923
DTEND;VALUE=DATE:20160924
DTSTAMP:20260421T195858
CREATED:20160705T131805Z
LAST-MODIFIED:20160705T131805Z
UID:4644-1474588800-1474675199@ubwp.buffalo.edu
SUMMARY:MDRF Fall Application Deadline
DESCRIPTION:Deadline for MDRF grant applications for research to be conducted between November 1\, 2016 and October 31\, 2017. \nAll application materials are due to the GSA office by 3pm.
URL:https://ubwp.buffalo.edu/gsa/event/mdrf-fall-application-deadline-5/
LOCATION:NY
CATEGORIES:Administrative,MDRF
ORGANIZER;CN="MDRF Director":MAILTO:gsa-mdrf@buffalo.edu
END:VEVENT
BEGIN:VEVENT
DTSTART;TZID=America/New_York:20160907T170000
DTEND;TZID=America/New_York:20160907T183000
DTSTAMP:20260421T195858
CREATED:20160803T151608Z
LAST-MODIFIED:20160803T151608Z
UID:4827-1473267600-1473273000@ubwp.buffalo.edu
SUMMARY:MDRF Grant Application Workshop
DESCRIPTION:The Fall deadline for Mark Diamond Research Fund (MDRF) applications is Friday\, September 23\, 2016. Grant applications are for research to be conducted November 1\, 2016 to October 31\, 2017. The MDRF Director will be holding grant writing workshops on the dates below to go over the application\, instructions\, the review process and to answer any questions: \nTuesday\, September 6th at 11:00am in 310 Student Union\nWednesday\, September 7th at 5:00pm in 310 Student Union \nAttendees should bring a copy of the most recent application and instructions. \nIf you have any questions\, please contact Jennifer at gsa-mdrf@buffalo.edu.
URL:https://ubwp.buffalo.edu/gsa/event/mdrf-grant-application-workshop-13/
LOCATION:GSA Conference Room\, 310A Student Union\, University at Buffalo\, Buffalo\, NY\, 14260\, United States
CATEGORIES:MDRF
ORGANIZER;CN="MDRF Director":MAILTO:gsa-mdrf@buffalo.edu
END:VEVENT
BEGIN:VEVENT
DTSTART;TZID=America/New_York:20160906T110000
DTEND;TZID=America/New_York:20160906T123000
DTSTAMP:20260421T195859
CREATED:20160803T151330Z
LAST-MODIFIED:20160803T151330Z
UID:4826-1473159600-1473165000@ubwp.buffalo.edu
SUMMARY:MDRF Grant Application Workshop
DESCRIPTION:The Fall deadline for Mark Diamond Research Fund (MDRF) applications is Friday\, September 23\, 2016. Grant applications are for research to be conducted November 1\, 2016 to October 31\, 2017. The MDRF Director will be holding grant writing workshops on the dates below to go over the application\, instructions\, the review process and to answer any questions: \nTuesday\, September 6th at 11:00am in 310 Student Union\nWednesday\, September 7th at 5:00pm in 310 Student Union \nAttendees should bring a copy of the most recent application and instructions. \nIf you have any questions\, please contact Jennifer at gsa-mdrf@buffalo.edu.
URL:https://ubwp.buffalo.edu/gsa/event/mdrf-grant-application-workshop-12/
LOCATION:GSA Conference Room\, 310A Student Union\, University at Buffalo\, Buffalo\, NY\, 14260\, United States
CATEGORIES:MDRF
ORGANIZER;CN="MDRF Director":MAILTO:gsa-mdrf@buffalo.edu
END:VEVENT
BEGIN:VEVENT
DTSTART;TZID=America/New_York:20160428T163000
DTEND;TZID=America/New_York:20160428T180000
DTSTAMP:20260421T195859
CREATED:20160425T110006Z
LAST-MODIFIED:20160425T110006Z
UID:4483-1461861000-1461866400@ubwp.buffalo.edu
SUMMARY:MDRF Grant Application Workshop
DESCRIPTION:The Summer deadline for Mark Diamond Research Fund (MDRF) applications is Thursday\, May 26th\, 2016. Grant applications are for research to be conducted July 1\, 2016 to June 30\, 2017. The MDRF Director will be holding grant writing workshops on the dates below to go over the application\, instructions\, the review process and to answer any questions: \nWednesday\, April 27th at 4:30pm in 311 Student Union\nThursday\, April 28th at 4:30pm in 311 Student Union \nAttendees should bring a copy of the most recent application and instructions. \nIf you have any questions\, please contact Sierra at gsa-mdrf@buffalo.edu.
URL:https://ubwp.buffalo.edu/gsa/event/mdrf-grant-application-workshop-11/
LOCATION:311 Student Union\, Buffalo\, NY\, United States
CATEGORIES:GSA Event,MDRF
ORGANIZER;CN="MDRF Director":MAILTO:gsa-mdrf@buffalo.edu
END:VEVENT
BEGIN:VEVENT
DTSTART;TZID=America/New_York:20160427T163000
DTEND;TZID=America/New_York:20160427T180000
DTSTAMP:20260421T195859
CREATED:20160425T105757Z
LAST-MODIFIED:20160425T105757Z
UID:4479-1461774600-1461780000@ubwp.buffalo.edu
SUMMARY:MDRF Grant Application Workshop
DESCRIPTION:The Summer deadline for Mark Diamond Research Fund (MDRF) applications is Thursday\, May 26th\, 2016. Grant applications are for research to be conducted July 1\, 2016 to June 30\, 2017. The MDRF Director will be holding grant writing workshops on the dates below to go over the application\, instructions\, the review process and to answer any questions: \nWednesday\, April 27th at 4:30pm in 311 Student Union\nThursday\, April 28th at 4:30pm in 311 Student Union \nAttendees should bring a copy of the most recent application and instructions. \nIf you have any questions\, please contact Sierra at gsa-mdrf@buffalo.edu.
URL:https://ubwp.buffalo.edu/gsa/event/mdrf-grant-application-workshop-10/
LOCATION:311 Student Union\, Buffalo\, NY\, United States
CATEGORIES:GSA Event,MDRF
ORGANIZER;CN="MDRF Director":MAILTO:gsa-mdrf@buffalo.edu
END:VEVENT
BEGIN:VEVENT
DTSTART;TZID=America/New_York:20160128T163000
DTEND;TZID=America/New_York:20160128T180000
DTSTAMP:20260421T195859
CREATED:20160119T105604Z
LAST-MODIFIED:20160119T105604Z
UID:3947-1453998600-1454004000@ubwp.buffalo.edu
SUMMARY:MDRF Grant Application Workshop
DESCRIPTION:The Spring deadline for Mark Diamond Research Fund (MDRF) applications is Friday\, February 19\, 2016. Grant applications are for research to be conducted April 1\, 2016 to March 31\, 2017. The MDRF Director will be holding grant writing workshops on the dates below to go over the application\, instructions\, the review process and to answer any questions: \nThursday\, January 21st at 4:30pm in 311 Student Union\nThursday\, January 28th at 4:30pm in 311 Student Union \nAttendees should bring a copy of the most recent application and instructions. \nIf you have any questions\, please contact Kathryn at gsa-mdrf@buffalo.edu.
URL:https://ubwp.buffalo.edu/gsa/event/mdrf-grant-application-workshop-9/
LOCATION:311 Student Union\, Buffalo\, NY\, United States
CATEGORIES:MDRF
ORGANIZER;CN="MDRF Director":MAILTO:gsa-mdrf@buffalo.edu
END:VEVENT
BEGIN:VEVENT
DTSTART;TZID=America/New_York:20160121T163000
DTEND;TZID=America/New_York:20160121T180000
DTSTAMP:20260421T195859
CREATED:20160119T105517Z
LAST-MODIFIED:20160119T105517Z
UID:3946-1453393800-1453399200@ubwp.buffalo.edu
SUMMARY:MDRF Grant Application Workshop
DESCRIPTION:The Spring deadline for Mark Diamond Research Fund (MDRF) applications is Friday\, February 19\, 2016. Grant applications are for research to be conducted April 1\, 2016 to March 31\, 2017. The MDRF Director will be holding grant writing workshops on the dates below to go over the application\, instructions\, the review process and to answer any questions: \nThursday\, January 21st at 4:30pm in 311 Student Union\nTuesday\, January 26th at 4:30pm in 311 Student Union \nAttendees should bring a copy of the most recent application and instructions. \nIf you have any questions\, please contact Kathryn at gsa-mdrf@buffalo.edu.
URL:https://ubwp.buffalo.edu/gsa/event/mdrf-grant-application-workshop-8/
LOCATION:311 Student Union\, Buffalo\, NY\, United States
CATEGORIES:MDRF
ORGANIZER;CN="MDRF Director":MAILTO:gsa-mdrf@buffalo.edu
END:VEVENT
END:VCALENDAR