BEGIN:VCALENDAR
VERSION:2.0
PRODID:-//Graduate Student Association - ECPv6.15.20//NONSGML v1.0//EN
CALSCALE:GREGORIAN
METHOD:PUBLISH
X-ORIGINAL-URL:https://ubwp.buffalo.edu/gsa
X-WR-CALDESC:Events for Graduate Student Association
REFRESH-INTERVAL;VALUE=DURATION:PT1H
X-Robots-Tag:noindex
X-PUBLISHED-TTL:PT1H
BEGIN:VTIMEZONE
TZID:UTC
BEGIN:STANDARD
TZOFFSETFROM:+0000
TZOFFSETTO:+0000
TZNAME:UTC
DTSTART:20250101T000000
END:STANDARD
END:VTIMEZONE
BEGIN:VEVENT
DTSTART;TZID=UTC:20260327T140000
DTEND;TZID=UTC:20260327T153000
DTSTAMP:20260419T235104
CREATED:20260303T195109Z
LAST-MODIFIED:20260303T195109Z
UID:94404-1774620000-1774625400@ubwp.buffalo.edu
SUMMARY:Know Your Rights Workshop
DESCRIPTION:Amanda Opperman\, Staff Attorney for Journey’s End Refugee Services will be giving a Know Your Rights workshop.  Topics covered will include: \n\nTypes of immigration and law enforcement agents\nYour rights in different spaces and situations\nInteractions with ICE\, Border Patrol\, and local police\nHow to be prepared\n\nJoin here!
URL:https://ubwp.buffalo.edu/gsa/event/know-your-rights-workshop-4/
LOCATION:Online via Zoom
CATEGORIES:GSA Event
END:VEVENT
BEGIN:VEVENT
DTSTART;TZID=UTC:20260327T140000
DTEND;TZID=UTC:20260327T153000
DTSTAMP:20260419T235104
CREATED:20260303T195738Z
LAST-MODIFIED:20260303T195738Z
UID:94408-1774620000-1774625400@ubwp.buffalo.edu
SUMMARY:Know Your Rights Workshop
DESCRIPTION:Amanda Opperman\, Staff Attorney for Journey’s End Refugee Services\, will be giving a Know Your Rights workshop.  Topics covered will include: \n\nTypes of immigration and law enforcement agents\nYour rights in different spaces and situations\nInteractions with ICE\, Border Patrol\, and local police\nHow to be prepared\n\nJoin here!
URL:https://ubwp.buffalo.edu/gsa/event/know-your-rights-workshop-6/
LOCATION:Online via Zoom
CATEGORIES:GSA Event
ORGANIZER;CN="GSA President":MAILTO:gsa-president@buffalo.edu
END:VEVENT
BEGIN:VEVENT
DTSTART;TZID=UTC:20260327T190000
DTEND;TZID=UTC:20260327T220000
DTSTAMP:20260419T235104
CREATED:20260203T173004Z
LAST-MODIFIED:20260224T150515Z
UID:94235-1774638000-1774648800@ubwp.buffalo.edu
SUMMARY:Buffalo Sabres Hockey Game vs. Detroit Redwings
DESCRIPTION:Tickets on sale February 23rd at the UB Ticket Office (online or at 221 Student Union) for $10 each. 2 per UB ID. Limited quantity available. First come\, first served. \n**DIGITAL ADMISSION TICKETS WILL BE EMAILED OUT 24 HOURS PRIOR TO THE GAME.  PLEASE NOTE THAT THE EMAILED TICKET FROM THE UB TICKET OFFICE IS ONLY A VOUCHER\, AND WILL NOT BE ACCEPTED FOR ADMISSION BY THE VENDOR.** \n**For ticketing/seating questions or requests\, please contact the GSA Programming Coordinator (gsa-programming@buffalo.edu) prior to the ticket distribution.  All requests will be reviewed on a first come\, first served basis.** \n**All sales are non-refundable**
URL:https://ubwp.buffalo.edu/gsa/event/buffalo-sabres-hockey-game-vs-detroit-redwings/
LOCATION:Key Bank Center\, 1 Seymour H Knox III Plaza \, Buffalo\, NY\, 14203\, United States
CATEGORIES:GSA Event
ATTACH;FMTTYPE=image/jpeg:https://ubwp.buffalo.edu/gsa/wp-content/uploads/sites/137/2013/09/Buffalo-Sabres-New.jpg
ORGANIZER;CN="GSA Programming Coordinator":MAILTO:gsa-programming@buffalo.edu
END:VEVENT
END:VCALENDAR