BEGIN:VCALENDAR
VERSION:2.0
PRODID:-//Graduate Student Association - ECPv6.15.20//NONSGML v1.0//EN
CALSCALE:GREGORIAN
METHOD:PUBLISH
X-WR-CALNAME:Graduate Student Association
X-ORIGINAL-URL:https://ubwp.buffalo.edu/gsa
X-WR-CALDESC:Events for Graduate Student Association
REFRESH-INTERVAL;VALUE=DURATION:PT1H
X-Robots-Tag:noindex
X-PUBLISHED-TTL:PT1H
BEGIN:VTIMEZONE
TZID:UTC
BEGIN:STANDARD
TZOFFSETFROM:+0000
TZOFFSETTO:+0000
TZNAME:UTC
DTSTART:20240101T000000
END:STANDARD
END:VTIMEZONE
BEGIN:VEVENT
DTSTART;TZID=UTC:20251025T110000
DTEND;TZID=UTC:20251025T170000
DTSTAMP:20260419T130422
CREATED:20251007T175459Z
LAST-MODIFIED:20251015T144137Z
UID:93969-1761390000-1761411600@ubwp.buffalo.edu
SUMMARY:Fall Fun at Becker Farms
DESCRIPTION:SALE DELAYED!  Tickets now on sale October 15th at the UB Ticket Office (online or at 221 Student Union) for $10 each.  1 per UB ID.  Tickets must be used on Saturday\, October 25th only (from 11:00am to 5:00pm).  First come\, first served.  Tickets include a pumpkin or apple picking\, 1 beer or wine token\, and access to all other available farm activities.  Check out www.beckerfarms.com for more information. \nAll GSA sales are non-refundable.
URL:https://ubwp.buffalo.edu/gsa/event/fall-fun-at-becker-farms/
LOCATION:Becker Farms\, 3724 Quaker Rd\, \, Gasport\, NY\, 14067\, United States
CATEGORIES:GSA Event
ATTACH;FMTTYPE=image/jpeg:https://ubwp.buffalo.edu/gsa/wp-content/uploads/sites/137/2018/06/Becker-Farms.jpg
ORGANIZER;CN="GSA Programming Coordinator":MAILTO:gsa-programming@buffalo.edu
END:VEVENT
END:VCALENDAR