BEGIN:VCALENDAR
VERSION:2.0
PRODID:-//Graduate Student Association - ECPv6.15.20//NONSGML v1.0//EN
CALSCALE:GREGORIAN
METHOD:PUBLISH
X-ORIGINAL-URL:https://ubwp.buffalo.edu/gsa
X-WR-CALDESC:Events for Graduate Student Association
REFRESH-INTERVAL;VALUE=DURATION:PT1H
X-Robots-Tag:noindex
X-PUBLISHED-TTL:PT1H
BEGIN:VTIMEZONE
TZID:UTC
BEGIN:STANDARD
TZOFFSETFROM:+0000
TZOFFSETTO:+0000
TZNAME:UTC
DTSTART:20220101T000000
END:STANDARD
END:VTIMEZONE
BEGIN:VEVENT
DTSTART;TZID=UTC:20230505T110000
DTEND;TZID=UTC:20230505T130000
DTSTAMP:20260425T122622
CREATED:20230110T153751Z
LAST-MODIFIED:20230110T153751Z
UID:27630-1683284400-1683291600@ubwp.buffalo.edu
SUMMARY:Java Junction
DESCRIPTION:Free Tim Horton’s coffee and doughnuts for graduate students in 145C&D Student Union. \nAll participants must review the GSA’s Safety Acknowledgement and Participant Disclaimer before attending.
URL:https://ubwp.buffalo.edu/gsa/event/java-junction-64/
LOCATION:145 Student Union
CATEGORIES:GSA Event
ORGANIZER;CN="GSA Programming Coordinator":MAILTO:gsa-programming@buffalo.edu
END:VEVENT
BEGIN:VEVENT
DTSTART;TZID=UTC:20230505T110000
DTEND;TZID=UTC:20230505T130000
DTSTAMP:20260425T122622
CREATED:20230405T171939Z
LAST-MODIFIED:20230405T171958Z
UID:27847-1683284400-1683291600@ubwp.buffalo.edu
SUMMARY:Professional Headshots
DESCRIPTION:Photographer will be offering 5 minute time slots during the GSA’s May Java Junction.  Purchase your time slot through the UB Ticket Office website.
URL:https://ubwp.buffalo.edu/gsa/event/professional-headshots-2/
LOCATION:145 Student Union
CATEGORIES:GSA Event
ORGANIZER;CN="GSA Programming Coordinator":MAILTO:gsa-programming@buffalo.edu
END:VEVENT
END:VCALENDAR