BEGIN:VCALENDAR
VERSION:2.0
PRODID:-//Graduate Student Association - ECPv6.15.20//NONSGML v1.0//EN
CALSCALE:GREGORIAN
METHOD:PUBLISH
X-ORIGINAL-URL:https://ubwp.buffalo.edu/gsa
X-WR-CALDESC:Events for Graduate Student Association
REFRESH-INTERVAL;VALUE=DURATION:PT1H
X-Robots-Tag:noindex
X-PUBLISHED-TTL:PT1H
BEGIN:VTIMEZONE
TZID:UTC
BEGIN:STANDARD
TZOFFSETFROM:+0000
TZOFFSETTO:+0000
TZNAME:UTC
DTSTART:20220101T000000
END:STANDARD
END:VTIMEZONE
BEGIN:VEVENT
DTSTART;VALUE=DATE:20230501
DTEND;VALUE=DATE:20230502
DTSTAMP:20260424T214101
CREATED:20230110T154807Z
LAST-MODIFIED:20230509T143437Z
UID:27640-1682899200-1682985599@ubwp.buffalo.edu
SUMMARY:Discount AMC Movie Tickets Available
DESCRIPTION:GSA will have discount AMC Movie Tickets available for sale on May 1st at the UB Ticket Office (online or in 221 Student Union) for $5 each. 1 per UB ID. Tickets can be used for all movies at AMC theatre locations. Limited quantity available. First come\, first served. \n*PLEASE MAKE SURE TO PICK UP YOUR PHYSICAL TICKET(S) FROM THE UB TICKET OFFICE IN 221 STUDENT UNION. THE EMAILED TICKET IS ONLY A VOUCHER AND WILL NOT BE ACCEPTED FOR ADMISSION BY THE VENDOR.
URL:https://ubwp.buffalo.edu/gsa/event/discount-amc-movie-tickets-available-46/
LOCATION:NY
CATEGORIES:GSA Event
ORGANIZER;CN="GSA Programming Coordinator":MAILTO:gsa-programming@buffalo.edu
END:VEVENT
BEGIN:VEVENT
DTSTART;VALUE=DATE:20230501
DTEND;VALUE=DATE:20230502
DTSTAMP:20260424T214101
CREATED:20230215T155934Z
LAST-MODIFIED:20230509T143328Z
UID:27724-1682899200-1682985599@ubwp.buffalo.edu
SUMMARY:Discount Buffalo Zoo Tickets Available
DESCRIPTION:GSA will be selling discount Buffalo Zoo tickets!   Tickets can be used anytime before December 31\, 2023. Tickets will be on sale at the UB Ticket Office (online or in 221 Student Union) for $8 each.  2 per UB ID.  Limited quantity available.  First come\, first served. \n*Please make sure to pick up your physical ticket from the UB Ticket Office in 221 Student Union.  The emailed receipt from the UB Ticket Office is only a voucher and will not be accepted for admission by the vendor!* \nAll sales are non-refundable.
URL:https://ubwp.buffalo.edu/gsa/event/discount-buffalo-zoo-tickets-available-6/
LOCATION:Buffalo Zoo\, 300 Parkside Ave.\, Buffalo\, NY\, 14214\, United States
CATEGORIES:GSA Event
ATTACH;FMTTYPE=image/jpeg:https://ubwp.buffalo.edu/gsa/wp-content/uploads/sites/137/2015/05/Buffalo-Zoo.jpg
ORGANIZER;CN="GSA Programming Coordinator":MAILTO:gsa-programming@buffalo.edu
END:VEVENT
END:VCALENDAR