BEGIN:VCALENDAR
VERSION:2.0
PRODID:-//Graduate Student Association - ECPv6.15.20//NONSGML v1.0//EN
CALSCALE:GREGORIAN
METHOD:PUBLISH
X-WR-CALNAME:Graduate Student Association
X-ORIGINAL-URL:https://ubwp.buffalo.edu/gsa
X-WR-CALDESC:Events for Graduate Student Association
REFRESH-INTERVAL;VALUE=DURATION:PT1H
X-Robots-Tag:noindex
X-PUBLISHED-TTL:PT1H
BEGIN:VTIMEZONE
TZID:UTC
BEGIN:STANDARD
TZOFFSETFROM:+0000
TZOFFSETTO:+0000
TZNAME:UTC
DTSTART:20220101T000000
END:STANDARD
END:VTIMEZONE
BEGIN:VEVENT
DTSTART;VALUE=DATE:20230417
DTEND;VALUE=DATE:20230418
DTSTAMP:20260424T201551
CREATED:20230405T172755Z
LAST-MODIFIED:20230522T131757Z
UID:27853-1681689600-1681775999@ubwp.buffalo.edu
SUMMARY:Discount Buffalo Museum of Science Reinventing Reality Tickets
DESCRIPTION:GSA will have passes for the Buffalo Museum of Science’s Reinventing Reality exhibit on sale for $10 each starting on April 17th at the UB Ticket Office (online or in 221 Student Union).  2 per UB ID.  Limited quantity available. First come\, first served. \nPasses include admission to the museum and to the special exhibition\, however students must use their voucher to book their entrance time with the Buffalo Science Museum directly.  Vouchers will expire on June 18\, 2023. \n\nTickets have designated entry times with the last time slot an hour and fifteen minutes before close.\nOnce entered\, you may stay in the exhibition for as long as you’d like\, or until the Museum closes\, whichever comes first.\n\n*PLEASE MAKE SURE TO PICK UP YOUR PHYSICAL VOUCHERS FROM THE UB TICKET OFFICE IN 221 STUDENT UNION.  THE EMAIL CONFIRMATION WILL NOT BE ACCEPTED BY THE VENDOR.
URL:https://ubwp.buffalo.edu/gsa/event/discount-buffalo-museum-of-science-reinventing-reality-tickets/
LOCATION:Buffalo Museum of Science\, 1020 Humbolt Parkway\, Buffalo\, New York\, 14211\, United States
CATEGORIES:GSA Event
ORGANIZER;CN="GSA Programming Coordinator":MAILTO:gsa-programming@buffalo.edu
END:VEVENT
END:VCALENDAR