BEGIN:VCALENDAR
VERSION:2.0
PRODID:-//Graduate Student Association - ECPv6.15.20//NONSGML v1.0//EN
CALSCALE:GREGORIAN
METHOD:PUBLISH
X-ORIGINAL-URL:https://ubwp.buffalo.edu/gsa
X-WR-CALDESC:Events for Graduate Student Association
REFRESH-INTERVAL;VALUE=DURATION:PT1H
X-Robots-Tag:noindex
X-PUBLISHED-TTL:PT1H
BEGIN:VTIMEZONE
TZID:UTC
BEGIN:STANDARD
TZOFFSETFROM:+0000
TZOFFSETTO:+0000
TZNAME:UTC
DTSTART:20220101T000000
END:STANDARD
END:VTIMEZONE
BEGIN:VEVENT
DTSTART;TZID=UTC:20230331T190000
DTEND;TZID=UTC:20230331T220000
DTSTAMP:20260425T110453
CREATED:20230117T130800Z
LAST-MODIFIED:20230309T174735Z
UID:27647-1680289200-1680300000@ubwp.buffalo.edu
SUMMARY:Buffalo Sabres Hockey Game vs. New York Rangers
DESCRIPTION:  \nTickets on sale February 27th at the UB Ticket Office (online or in 221 Student Union) for $10 each. 2 per UB ID. Limited quantity available. First come\, first served. \n*ELECTRONIC TICKETS WILL BE DISTRIBUTED TO PURCHASERS THE DAY BEFORE THE GAME.*
URL:https://ubwp.buffalo.edu/gsa/event/buffalo-sabres-hockey-game-vs-new-york-rangers-2/
LOCATION:Key Bank Center\, 1 Seymour H Knox III Plaza \, Buffalo\, NY\, 14203\, United States
CATEGORIES:GSA Event
ATTACH;FMTTYPE=image/jpeg:https://ubwp.buffalo.edu/gsa/wp-content/uploads/sites/137/2013/09/Buffalo-Sabres-New.jpg
ORGANIZER;CN="GSA Programming Coordinator":MAILTO:gsa-programming@buffalo.edu
END:VEVENT
END:VCALENDAR