BEGIN:VCALENDAR
VERSION:2.0
PRODID:-//Graduate Student Association - ECPv6.15.20//NONSGML v1.0//EN
CALSCALE:GREGORIAN
METHOD:PUBLISH
X-WR-CALNAME:Graduate Student Association
X-ORIGINAL-URL:https://ubwp.buffalo.edu/gsa
X-WR-CALDESC:Events for Graduate Student Association
REFRESH-INTERVAL;VALUE=DURATION:PT1H
X-Robots-Tag:noindex
X-PUBLISHED-TTL:PT1H
BEGIN:VTIMEZONE
TZID:America/New_York
BEGIN:DAYLIGHT
TZOFFSETFROM:-0500
TZOFFSETTO:-0400
TZNAME:EDT
DTSTART:20170312T070000
END:DAYLIGHT
BEGIN:STANDARD
TZOFFSETFROM:-0400
TZOFFSETTO:-0500
TZNAME:EST
DTSTART:20171105T060000
END:STANDARD
BEGIN:DAYLIGHT
TZOFFSETFROM:-0500
TZOFFSETTO:-0400
TZNAME:EDT
DTSTART:20180311T070000
END:DAYLIGHT
BEGIN:STANDARD
TZOFFSETFROM:-0400
TZOFFSETTO:-0500
TZNAME:EST
DTSTART:20181104T060000
END:STANDARD
BEGIN:DAYLIGHT
TZOFFSETFROM:-0500
TZOFFSETTO:-0400
TZNAME:EDT
DTSTART:20190310T070000
END:DAYLIGHT
BEGIN:STANDARD
TZOFFSETFROM:-0400
TZOFFSETTO:-0500
TZNAME:EST
DTSTART:20191103T060000
END:STANDARD
END:VTIMEZONE
BEGIN:VEVENT
DTSTART;TZID=America/New_York:20180831T180000
DTEND;TZID=America/New_York:20180831T210000
DTSTAMP:20260421T234214
CREATED:20180619T134935Z
LAST-MODIFIED:20180619T134935Z
UID:8023-1535738400-1535749200@ubwp.buffalo.edu
SUMMARY:Welcome Back Bash
DESCRIPTION:Join the GSA as we celebrate the beginning of the new academic year! \nFriday\, August 31st from 6:00 – 9:00pm at the Courtyard at Hotel Lafayette\n \n391 Washington St. Buffalo\, NY 14203 (Downtown Buffalo; use the Court & Franklin Sts. Metro Rail Station) \n2 free drink tickets and food will be included\, along with a live DJ.  Tickets on sale August 6th at the SBI Ticket Offices (221 Student Union and 135 Diefendorf Hall) for $10 each/$12 at the door (if tickets are still available).  2 per UB ID.  Limited quantity available. \n*PLEASE NOTE* You will need to bring photo identification with proof of age in order to receive drink tickets!
URL:https://ubwp.buffalo.edu/gsa/event/welcome-back-bash-6/
LOCATION:Courtyard at Hotel Lafayette\, 391 Washington St.\, Buffalo\, 14203\, United States
CATEGORIES:GSA Event
ATTACH;FMTTYPE=image/jpeg:https://ubwp.buffalo.edu/gsa/wp-content/uploads/sites/137/2018/08/Hotel-Lafayette.jpg
ORGANIZER;CN="GSA Programming Coordinator":MAILTO:gsa-programming@buffalo.edu
END:VEVENT
END:VCALENDAR