BEGIN:VCALENDAR
VERSION:2.0
PRODID:-//Graduate Student Association - ECPv6.15.20//NONSGML v1.0//EN
CALSCALE:GREGORIAN
METHOD:PUBLISH
X-ORIGINAL-URL:https://ubwp.buffalo.edu/gsa
X-WR-CALDESC:Events for Graduate Student Association
REFRESH-INTERVAL;VALUE=DURATION:PT1H
X-Robots-Tag:noindex
X-PUBLISHED-TTL:PT1H
BEGIN:VTIMEZONE
TZID:America/New_York
BEGIN:DAYLIGHT
TZOFFSETFROM:-0500
TZOFFSETTO:-0400
TZNAME:EDT
DTSTART:20170312T070000
END:DAYLIGHT
BEGIN:STANDARD
TZOFFSETFROM:-0400
TZOFFSETTO:-0500
TZNAME:EST
DTSTART:20171105T060000
END:STANDARD
BEGIN:DAYLIGHT
TZOFFSETFROM:-0500
TZOFFSETTO:-0400
TZNAME:EDT
DTSTART:20180311T070000
END:DAYLIGHT
BEGIN:STANDARD
TZOFFSETFROM:-0400
TZOFFSETTO:-0500
TZNAME:EST
DTSTART:20181104T060000
END:STANDARD
BEGIN:DAYLIGHT
TZOFFSETFROM:-0500
TZOFFSETTO:-0400
TZNAME:EDT
DTSTART:20190310T070000
END:DAYLIGHT
BEGIN:STANDARD
TZOFFSETFROM:-0400
TZOFFSETTO:-0500
TZNAME:EST
DTSTART:20191103T060000
END:STANDARD
END:VTIMEZONE
BEGIN:VEVENT
DTSTART;TZID=America/New_York:20180825T150000
DTEND;TZID=America/New_York:20180825T173000
DTSTAMP:20260421T103405
CREATED:20180522T150517Z
LAST-MODIFIED:20180522T150517Z
UID:7769-1535209200-1535218200@ubwp.buffalo.edu
SUMMARY:Whirlpool Jet Boat Tour
DESCRIPTION:Join the GSA for a wild and wet adventure on the Niagara River! \nBoat ride departs at 4:00pm\, but all riders must arrive at least 45 minutes early in order to complete the liability waiver form and receive the safety training.  There will be NO REFUNDS for late arrivals! \nTickets on sale August 1st at the SBI Ticket offices (221 Student Union and 135 Diefendorf Hall) for $20 each.  2 per UB ID. \nLimited quantity available.  First come\, first served. \n*PLEASE NOTE* Transportation is NOT provided for this event.  It is your own responsibility! \nTour leaves from 115 South Water St. Lewiston\, NY 14092 \nMake sure to bring a towel and a change of clothes\, YOU WILL GET WET! \nSBI Ticket Office Summer Hours (starting Monday\, May 21st ) \nNorth Campus (221 Student Union): Monday\, Wednesday and Thursday 11:00am – 3:00pm \nSouth Campus (135 Diefendorf Hall): Tuesday\, Wednesday and Thursday 11:00am – 3:00pm
URL:https://ubwp.buffalo.edu/gsa/event/7769/
LOCATION:Whirlpool Jet Boat Tours\, 115 South Water St.  \, Lewiston\, NY\, 14092\, United States
CATEGORIES:GSA Event
ATTACH;FMTTYPE=image/jpeg:https://ubwp.buffalo.edu/gsa/wp-content/uploads/sites/137/2015/06/Whirlpool-Logo.jpg
ORGANIZER;CN="GSA Programming Coordinator":MAILTO:gsa-programming@buffalo.edu
END:VEVENT
END:VCALENDAR