BEGIN:VCALENDAR
VERSION:2.0
PRODID:-//Graduate Student Association - ECPv6.15.20//NONSGML v1.0//EN
CALSCALE:GREGORIAN
METHOD:PUBLISH
X-ORIGINAL-URL:https://ubwp.buffalo.edu/gsa
X-WR-CALDESC:Events for Graduate Student Association
REFRESH-INTERVAL;VALUE=DURATION:PT1H
X-Robots-Tag:noindex
X-PUBLISHED-TTL:PT1H
BEGIN:VTIMEZONE
TZID:America/New_York
BEGIN:DAYLIGHT
TZOFFSETFROM:-0500
TZOFFSETTO:-0400
TZNAME:EDT
DTSTART:20170312T070000
END:DAYLIGHT
BEGIN:STANDARD
TZOFFSETFROM:-0400
TZOFFSETTO:-0500
TZNAME:EST
DTSTART:20171105T060000
END:STANDARD
BEGIN:DAYLIGHT
TZOFFSETFROM:-0500
TZOFFSETTO:-0400
TZNAME:EDT
DTSTART:20180311T070000
END:DAYLIGHT
BEGIN:STANDARD
TZOFFSETFROM:-0400
TZOFFSETTO:-0500
TZNAME:EST
DTSTART:20181104T060000
END:STANDARD
BEGIN:DAYLIGHT
TZOFFSETFROM:-0500
TZOFFSETTO:-0400
TZNAME:EDT
DTSTART:20190310T070000
END:DAYLIGHT
BEGIN:STANDARD
TZOFFSETFROM:-0400
TZOFFSETTO:-0500
TZNAME:EST
DTSTART:20191103T060000
END:STANDARD
END:VTIMEZONE
BEGIN:VEVENT
DTSTART;TZID=America/New_York:20180623T183000
DTEND;TZID=America/New_York:20180623T223000
DTSTAMP:20260420T224335
CREATED:20180417T102332Z
LAST-MODIFIED:20180417T102332Z
UID:7591-1529778600-1529793000@ubwp.buffalo.edu
SUMMARY:Shakespeare in Delaware Park ~ King Lear
DESCRIPTION:GSA will be the corporate sponsor of the June 23rd presentation of King Lear\, 6:45pm at Delaware Park (by the Rose Garden). \nFree tickets available May 21st at the SBI Ticket Offices (221 Student Union and 135 Diefendorf Hall).  2 max. per UB ID. Limited quantity available.  First come\, first served. \n*Tickets include VIP seating\, complimentary champagne and light hors d’oeuvres in the tent before the show. \nSBI Ticket Office Summer Hours (starting Monday\, May 21st) \nNorth Campus (221 Student Union): Monday\, Wednesday and Thursday 11:00am – 3:00pm \nSouth Campus (135 Diefendorf Hall): Tuesday\, Wednesday and Thursday 11:00am – 3:00pm
URL:https://ubwp.buffalo.edu/gsa/event/shakespeare-in-delaware-park-king-lear/
LOCATION:Delaware Park\, 199 Lincoln Pkwy.\, Buffalo\, NY\, 14222\, United States
CATEGORIES:GSA Event
ATTACH;FMTTYPE=image/jpeg:https://ubwp.buffalo.edu/gsa/wp-content/uploads/sites/137/2014/05/Shakespear-in-Delaware-Park.jpg
ORGANIZER;CN="GSA Programming Coordinator":MAILTO:gsa-programming@buffalo.edu
END:VEVENT
END:VCALENDAR