BEGIN:VCALENDAR
VERSION:2.0
PRODID:-//Graduate Student Association - ECPv6.15.20//NONSGML v1.0//EN
CALSCALE:GREGORIAN
METHOD:PUBLISH
X-ORIGINAL-URL:https://ubwp.buffalo.edu/gsa
X-WR-CALDESC:Events for Graduate Student Association
REFRESH-INTERVAL;VALUE=DURATION:PT1H
X-Robots-Tag:noindex
X-PUBLISHED-TTL:PT1H
BEGIN:VTIMEZONE
TZID:America/New_York
BEGIN:DAYLIGHT
TZOFFSETFROM:-0500
TZOFFSETTO:-0400
TZNAME:EDT
DTSTART:20170312T070000
END:DAYLIGHT
BEGIN:STANDARD
TZOFFSETFROM:-0400
TZOFFSETTO:-0500
TZNAME:EST
DTSTART:20171105T060000
END:STANDARD
BEGIN:DAYLIGHT
TZOFFSETFROM:-0500
TZOFFSETTO:-0400
TZNAME:EDT
DTSTART:20180311T070000
END:DAYLIGHT
BEGIN:STANDARD
TZOFFSETFROM:-0400
TZOFFSETTO:-0500
TZNAME:EST
DTSTART:20181104T060000
END:STANDARD
BEGIN:DAYLIGHT
TZOFFSETFROM:-0500
TZOFFSETTO:-0400
TZNAME:EDT
DTSTART:20190310T070000
END:DAYLIGHT
BEGIN:STANDARD
TZOFFSETFROM:-0400
TZOFFSETTO:-0500
TZNAME:EST
DTSTART:20191103T060000
END:STANDARD
END:VTIMEZONE
BEGIN:VEVENT
DTSTART;TZID=America/New_York:20180404T183000
DTEND;TZID=America/New_York:20180404T213000
DTSTAMP:20260420T195404
CREATED:20170705T130015Z
LAST-MODIFIED:20170705T130015Z
UID:6229-1522866600-1522877400@ubwp.buffalo.edu
SUMMARY:April Senate Meeting
DESCRIPTION:GSA Senate meetings are open to the public\, but only designated representatives from Departmental and International clubs may vote. Sign-in begins at 6:00pm so that the meeting can begin promptly at 6:30pm. \n*PLEASE NOTE* The official GSA Officer Candidate Debate will take place at this meeting.  Moderated by the GSA Election Committee\, students will have the opportunity to interact with and ask questions of the candidates for each office.
URL:https://ubwp.buffalo.edu/gsa/event/april-senate-meeting-3/
LOCATION:330 Student Union\, 330 Student Union\, University at Buffalo\, Buffalo\, NY\, 14260\, United States
CATEGORIES:Administrative,GSA Event
ATTACH;FMTTYPE=image/jpeg:https://ubwp.buffalo.edu/gsa/wp-content/uploads/sites/137/2014/08/Gavel-and-Scale.jpg
ORGANIZER;CN="GSA Administrative Team":MAILTO:slfrank@buffalo.edu
END:VEVENT
END:VCALENDAR