BEGIN:VCALENDAR
VERSION:2.0
PRODID:-//Graduate Student Association - ECPv6.15.20//NONSGML v1.0//EN
CALSCALE:GREGORIAN
METHOD:PUBLISH
X-ORIGINAL-URL:https://ubwp.buffalo.edu/gsa
X-WR-CALDESC:Events for Graduate Student Association
REFRESH-INTERVAL;VALUE=DURATION:PT1H
X-Robots-Tag:noindex
X-PUBLISHED-TTL:PT1H
BEGIN:VTIMEZONE
TZID:America/New_York
BEGIN:DAYLIGHT
TZOFFSETFROM:-0500
TZOFFSETTO:-0400
TZNAME:EDT
DTSTART:20160313T070000
END:DAYLIGHT
BEGIN:STANDARD
TZOFFSETFROM:-0400
TZOFFSETTO:-0500
TZNAME:EST
DTSTART:20161106T060000
END:STANDARD
BEGIN:DAYLIGHT
TZOFFSETFROM:-0500
TZOFFSETTO:-0400
TZNAME:EDT
DTSTART:20170312T070000
END:DAYLIGHT
BEGIN:STANDARD
TZOFFSETFROM:-0400
TZOFFSETTO:-0500
TZNAME:EST
DTSTART:20171105T060000
END:STANDARD
BEGIN:DAYLIGHT
TZOFFSETFROM:-0500
TZOFFSETTO:-0400
TZNAME:EDT
DTSTART:20180311T070000
END:DAYLIGHT
BEGIN:STANDARD
TZOFFSETFROM:-0400
TZOFFSETTO:-0500
TZNAME:EST
DTSTART:20181104T060000
END:STANDARD
END:VTIMEZONE
BEGIN:VEVENT
DTSTART;TZID=America/New_York:20171201T110000
DTEND;TZID=America/New_York:20171201T130000
DTSTAMP:20260420T050224
CREATED:20170803T102322Z
LAST-MODIFIED:20170803T102322Z
UID:6379-1512126000-1512133200@ubwp.buffalo.edu
SUMMARY:Java Junction
DESCRIPTION:Free Tim Horton’s coffee and doughnuts for graduate students in the GSA office.
URL:https://ubwp.buffalo.edu/gsa/event/java-junction-35/
LOCATION:GSA Conference Room\, 310A Student Union\, University at Buffalo\, Buffalo\, NY\, 14260\, United States
CATEGORIES:GSA Event
ATTACH;FMTTYPE=image/jpeg:https://ubwp.buffalo.edu/gsa/wp-content/uploads/sites/137/2013/11/Tim-Hortons-Christmas.jpg
ORGANIZER;CN="GSA Programming Coordinator":MAILTO:gsa-programming@buffalo.edu
END:VEVENT
BEGIN:VEVENT
DTSTART;TZID=America/New_York:20171201T190000
DTEND;TZID=America/New_York:20171201T230000
DTSTAMP:20260420T050224
CREATED:20171020T092633Z
LAST-MODIFIED:20171020T092633Z
UID:6896-1512154800-1512169200@ubwp.buffalo.edu
SUMMARY:Jingle Jangle Jam
DESCRIPTION:OPEN BAR\, FOOD\, DJ AND PRIZES!!! \nTickets on sale October 30th at the SBI Ticket Offices (221 Student Union and 135 Diefendorf Hall) for $20 each/$25 at the door (if tickets are still available).  Limited quantity available.  First come\, first served. \n*Please remember to bring photo ID as proof of age to the event.  EVERYONE WILL BE CARDED AT THE DOOR!*
URL:https://ubwp.buffalo.edu/gsa/event/jingle-jangle-jam-5/
LOCATION:Templeton Landing\, 329 Erie St.\, Buffalo\, NY\, 14202\, United States
CATEGORIES:GSA Event
ORGANIZER;CN="GSA Programming Coordinator":MAILTO:gsa-programming@buffalo.edu
END:VEVENT
END:VCALENDAR