BEGIN:VCALENDAR
VERSION:2.0
PRODID:-//Graduate Student Association - ECPv6.15.20//NONSGML v1.0//EN
CALSCALE:GREGORIAN
METHOD:PUBLISH
X-WR-CALNAME:Graduate Student Association
X-ORIGINAL-URL:https://ubwp.buffalo.edu/gsa
X-WR-CALDESC:Events for Graduate Student Association
REFRESH-INTERVAL;VALUE=DURATION:PT1H
X-Robots-Tag:noindex
X-PUBLISHED-TTL:PT1H
BEGIN:VTIMEZONE
TZID:America/New_York
BEGIN:DAYLIGHT
TZOFFSETFROM:-0500
TZOFFSETTO:-0400
TZNAME:EDT
DTSTART:20160313T070000
END:DAYLIGHT
BEGIN:STANDARD
TZOFFSETFROM:-0400
TZOFFSETTO:-0500
TZNAME:EST
DTSTART:20161106T060000
END:STANDARD
BEGIN:DAYLIGHT
TZOFFSETFROM:-0500
TZOFFSETTO:-0400
TZNAME:EDT
DTSTART:20170312T070000
END:DAYLIGHT
BEGIN:STANDARD
TZOFFSETFROM:-0400
TZOFFSETTO:-0500
TZNAME:EST
DTSTART:20171105T060000
END:STANDARD
BEGIN:DAYLIGHT
TZOFFSETFROM:-0500
TZOFFSETTO:-0400
TZNAME:EDT
DTSTART:20180311T070000
END:DAYLIGHT
BEGIN:STANDARD
TZOFFSETFROM:-0400
TZOFFSETTO:-0500
TZNAME:EST
DTSTART:20181104T060000
END:STANDARD
END:VTIMEZONE
BEGIN:VEVENT
DTSTART;TZID=America/New_York:20171110T180000
DTEND;TZID=America/New_York:20171110T200000
DTSTAMP:20260420T063048
CREATED:20171003T103430Z
LAST-MODIFIED:20171003T103430Z
UID:6834-1510336800-1510344000@ubwp.buffalo.edu
SUMMARY:Escape Room Buffalo Event
DESCRIPTION:GSA will be having an escape room event at Escape Room Buffalo (290 Oliver St.\, North Tonawanda).  There will be 3 rooms available to escape from\, and we will have timed slots (24 people each hour\, 8 per room) at 6:00pm and 7:00pm.   Groups will be organized at the event\, and pizza and wings will be served. \nTickets on sale October 9th at the SBI Ticket Offices (221 Student Union and 135 Diefendorf Hall) for $10 each. 2 per UB ID.
URL:https://ubwp.buffalo.edu/gsa/event/escape-room-buffalo-event/
LOCATION:Escape Room Buffalo\, 290 Oliver St.\, North Tonawanda\, NY\, 14120\, United States
CATEGORIES:GSA Event
ATTACH;FMTTYPE=image/jpeg:https://ubwp.buffalo.edu/gsa/wp-content/uploads/sites/137/2017/10/Escape-Room-Buffalo.jpg
ORGANIZER;CN="GSA Programming Coordinator":MAILTO:gsa-programming@buffalo.edu
END:VEVENT
END:VCALENDAR