BEGIN:VCALENDAR
VERSION:2.0
PRODID:-//Graduate Student Association - ECPv6.15.20//NONSGML v1.0//EN
CALSCALE:GREGORIAN
METHOD:PUBLISH
X-ORIGINAL-URL:https://ubwp.buffalo.edu/gsa
X-WR-CALDESC:Events for Graduate Student Association
REFRESH-INTERVAL;VALUE=DURATION:PT1H
X-Robots-Tag:noindex
X-PUBLISHED-TTL:PT1H
BEGIN:VTIMEZONE
TZID:America/New_York
BEGIN:DAYLIGHT
TZOFFSETFROM:-0500
TZOFFSETTO:-0400
TZNAME:EDT
DTSTART:20160313T070000
END:DAYLIGHT
BEGIN:STANDARD
TZOFFSETFROM:-0400
TZOFFSETTO:-0500
TZNAME:EST
DTSTART:20161106T060000
END:STANDARD
BEGIN:DAYLIGHT
TZOFFSETFROM:-0500
TZOFFSETTO:-0400
TZNAME:EDT
DTSTART:20170312T070000
END:DAYLIGHT
BEGIN:STANDARD
TZOFFSETFROM:-0400
TZOFFSETTO:-0500
TZNAME:EST
DTSTART:20171105T060000
END:STANDARD
BEGIN:DAYLIGHT
TZOFFSETFROM:-0500
TZOFFSETTO:-0400
TZNAME:EDT
DTSTART:20180311T070000
END:DAYLIGHT
BEGIN:STANDARD
TZOFFSETFROM:-0400
TZOFFSETTO:-0500
TZNAME:EST
DTSTART:20181104T060000
END:STANDARD
END:VTIMEZONE
BEGIN:VEVENT
DTSTART;VALUE=DATE:20170508
DTEND;VALUE=DATE:20170509
DTSTAMP:20260420T033548
CREATED:20170420T151734Z
LAST-MODIFIED:20170420T151734Z
UID:5941-1494201600-1494287999@ubwp.buffalo.edu
SUMMARY:Discount Buffalo Zoo Tickets Available
DESCRIPTION:Bring your family out for a day at the Buffalo Zoo! \nTickets can be used anytime between May 15th and December 31st. Tickets on sale at the SBI Ticket Offices (221 Student Union and 350 Harriman Hall) starting May 8th until July 31st (or until sold out) for $10 each. 2 per UB ID. Limited quantity available. First come\, first served.  *Tickets include $10 food voucher.*  All sales are non-refundable. \nSBI Ticket Office Summer Office Hours (starting Tuesday\, May 30th) \nNorth Campus (221 Student Union): Monday\, Wednesday and Thursday 11:00am – 3:00pm \nSouth Campus (350 Harriman Hall): Tuesday\, Wednesday and Thursday 11:00am – 3:00pm
URL:https://ubwp.buffalo.edu/gsa/event/discount-buffalo-zoo-tickets-available/
LOCATION:Buffalo Zoo\, 300 Parkside Ave.\, Buffalo\, NY\, 14214\, United States
CATEGORIES:GSA Event
ATTACH;FMTTYPE=image/jpeg:https://ubwp.buffalo.edu/gsa/wp-content/uploads/sites/137/2015/05/Buffalo-Zoo.jpg
ORGANIZER;CN="GSA Programming Coordinator":MAILTO:gsa-programming@buffalo.edu
END:VEVENT
END:VCALENDAR