BEGIN:VCALENDAR
VERSION:2.0
PRODID:-//Graduate Student Association - ECPv6.15.20//NONSGML v1.0//EN
CALSCALE:GREGORIAN
METHOD:PUBLISH
X-WR-CALNAME:Graduate Student Association
X-ORIGINAL-URL:https://ubwp.buffalo.edu/gsa
X-WR-CALDESC:Events for Graduate Student Association
REFRESH-INTERVAL;VALUE=DURATION:PT1H
X-Robots-Tag:noindex
X-PUBLISHED-TTL:PT1H
BEGIN:VTIMEZONE
TZID:America/New_York
BEGIN:DAYLIGHT
TZOFFSETFROM:-0500
TZOFFSETTO:-0400
TZNAME:EDT
DTSTART:20160313T070000
END:DAYLIGHT
BEGIN:STANDARD
TZOFFSETFROM:-0400
TZOFFSETTO:-0500
TZNAME:EST
DTSTART:20161106T060000
END:STANDARD
BEGIN:DAYLIGHT
TZOFFSETFROM:-0500
TZOFFSETTO:-0400
TZNAME:EDT
DTSTART:20170312T070000
END:DAYLIGHT
BEGIN:STANDARD
TZOFFSETFROM:-0400
TZOFFSETTO:-0500
TZNAME:EST
DTSTART:20171105T060000
END:STANDARD
BEGIN:DAYLIGHT
TZOFFSETFROM:-0500
TZOFFSETTO:-0400
TZNAME:EDT
DTSTART:20180311T070000
END:DAYLIGHT
BEGIN:STANDARD
TZOFFSETFROM:-0400
TZOFFSETTO:-0500
TZNAME:EST
DTSTART:20181104T060000
END:STANDARD
END:VTIMEZONE
BEGIN:VEVENT
DTSTART;TZID=America/New_York:20170421T180000
DTEND;TZID=America/New_York:20170421T200000
DTSTAMP:20260421T191233
CREATED:20170320T150928Z
LAST-MODIFIED:20170320T150928Z
UID:5729-1492797600-1492804800@ubwp.buffalo.edu
SUMMARY:Healthy Options Cooking Class
DESCRIPTION:Private cooking class at D’Avolio (535 Main St. in Downtown Buffalo) including appetizer\, entree\, side and dessert.  Tickets on sale March 27th at the SBI Ticket Offices (221 Student Union and 350 Harriman Hall) for $15 each.  2 per UB ID.  Limited quantity available.  First come\, first served. \nMenu \nAppetizer: Black Bean and Couscous Salad \nEntree: Chicken Marsala \nVegetarian Entree: Sweet Potato Gnocchi \nSide: Roasted Vegetables \nDessert: Frozen Yogurt with Raspberry Sundae Sauce \n*Paid for by your Mandatory Student Activity Fee*
URL:https://ubwp.buffalo.edu/gsa/event/healthy-options-cooking-class/
LOCATION:D’Avolio\, 535 Main St.\, Buffalo\, NY\, 14203\, United States
CATEGORIES:GSA Event
ATTACH;FMTTYPE=image/jpeg:https://ubwp.buffalo.edu/gsa/wp-content/uploads/sites/137/2017/03/Healthy-Options.jpg
ORGANIZER;CN="GSA Programming Coordinator":MAILTO:gsa-programming@buffalo.edu
END:VEVENT
END:VCALENDAR