BEGIN:VCALENDAR
VERSION:2.0
PRODID:-//Graduate Student Association - ECPv6.15.20//NONSGML v1.0//EN
CALSCALE:GREGORIAN
METHOD:PUBLISH
X-WR-CALNAME:Graduate Student Association
X-ORIGINAL-URL:https://ubwp.buffalo.edu/gsa
X-WR-CALDESC:Events for Graduate Student Association
REFRESH-INTERVAL;VALUE=DURATION:PT1H
X-Robots-Tag:noindex
X-PUBLISHED-TTL:PT1H
BEGIN:VTIMEZONE
TZID:America/New_York
BEGIN:DAYLIGHT
TZOFFSETFROM:-0500
TZOFFSETTO:-0400
TZNAME:EDT
DTSTART:20160313T070000
END:DAYLIGHT
BEGIN:STANDARD
TZOFFSETFROM:-0400
TZOFFSETTO:-0500
TZNAME:EST
DTSTART:20161106T060000
END:STANDARD
BEGIN:DAYLIGHT
TZOFFSETFROM:-0500
TZOFFSETTO:-0400
TZNAME:EDT
DTSTART:20170312T070000
END:DAYLIGHT
BEGIN:STANDARD
TZOFFSETFROM:-0400
TZOFFSETTO:-0500
TZNAME:EST
DTSTART:20171105T060000
END:STANDARD
BEGIN:DAYLIGHT
TZOFFSETFROM:-0500
TZOFFSETTO:-0400
TZNAME:EDT
DTSTART:20180311T070000
END:DAYLIGHT
BEGIN:STANDARD
TZOFFSETFROM:-0400
TZOFFSETTO:-0500
TZNAME:EST
DTSTART:20181104T060000
END:STANDARD
END:VTIMEZONE
BEGIN:VEVENT
DTSTART;VALUE=DATE:20170410
DTEND;VALUE=DATE:20170414
DTSTAMP:20260421T134340
CREATED:20170404T092833Z
LAST-MODIFIED:20170404T092833Z
UID:5805-1491782400-1492127999@ubwp.buffalo.edu
SUMMARY:GSA Officer Elections and Referendum Vote
DESCRIPTION:GSA Officer Elections and the Referendum Vote\n \nThe vote will take place via a link on the GSA website.  Polls will be open at 12:00am on Monday\, April 10th until 11:59pm on Thursday\, April 13th.  Results will be announced on Friday\, April 14th. \nFor more information about the candidates for office\, please visit our Election Page.
URL:https://ubwp.buffalo.edu/gsa/event/gsa-officer-elections-and-referendum-vote-2/
LOCATION:Buffalo\, United States
CATEGORIES:Administrative,GSA Event
ORGANIZER;CN="GSA Administrative Team":MAILTO:slfrank@buffalo.edu
END:VEVENT
BEGIN:VEVENT
DTSTART;TZID=America/New_York:20170413T160000
DTEND;TZID=America/New_York:20170413T180000
DTSTAMP:20260421T134340
CREATED:20170112T104011Z
LAST-MODIFIED:20170112T104011Z
UID:5360-1492099200-1492106400@ubwp.buffalo.edu
SUMMARY:South Campus Siesta
DESCRIPTION:Free food and beverages for graduate students at South Campus.
URL:https://ubwp.buffalo.edu/gsa/event/south-campus-siesta-21/
LOCATION:105 Harriman Hall\, 105 Harriman Hall\, University at Buffalo\, Buffalo\, NY\, 14260\, United States
CATEGORIES:GSA Event
ATTACH;FMTTYPE=image/jpeg:https://ubwp.buffalo.edu/gsa/wp-content/uploads/sites/137/2015/01/South-Siesta2.jpg
ORGANIZER;CN="GSA Programming Coordinator":MAILTO:gsa-programming@buffalo.edu
END:VEVENT
BEGIN:VEVENT
DTSTART;TZID=America/New_York:20170413T163000
DTEND;TZID=America/New_York:20170413T173000
DTSTAMP:20260421T134340
CREATED:20170404T090207Z
LAST-MODIFIED:20170404T090207Z
UID:5791-1492101000-1492104600@ubwp.buffalo.edu
SUMMARY:Informal Session with Roxane Gay
DESCRIPTION:RESCHEDULED DATE AND LOCATION! \nMeet Roxane Gay in an intimate setting and ask her all the questions you might have for this bad feminist\, Marvel comic writer\, academic\, author\, and public intellectual! \nThe informal session will be held Wednesday\, April 5 Thursday\, April 13 from 4:30 – 5:30 pm in Baird 250 210 Student Union. \nPlease use the following link to register: https://www.ubevents.org/event/RoxaneInformal
URL:https://ubwp.buffalo.edu/gsa/event/informal-session-with-roxane-gay/
LOCATION:210 Student Union\, 210 Student Union\, University at Buffalo\, Buffalo\, NY\, 14260\, United States
CATEGORIES:GSA Event,University Event
END:VEVENT
END:VCALENDAR