BEGIN:VCALENDAR
VERSION:2.0
PRODID:-//Graduate Student Association - ECPv6.15.20//NONSGML v1.0//EN
CALSCALE:GREGORIAN
METHOD:PUBLISH
X-ORIGINAL-URL:https://ubwp.buffalo.edu/gsa
X-WR-CALDESC:Events for Graduate Student Association
REFRESH-INTERVAL;VALUE=DURATION:PT1H
X-Robots-Tag:noindex
X-PUBLISHED-TTL:PT1H
BEGIN:VTIMEZONE
TZID:America/New_York
BEGIN:DAYLIGHT
TZOFFSETFROM:-0500
TZOFFSETTO:-0400
TZNAME:EDT
DTSTART:20160313T070000
END:DAYLIGHT
BEGIN:STANDARD
TZOFFSETFROM:-0400
TZOFFSETTO:-0500
TZNAME:EST
DTSTART:20161106T060000
END:STANDARD
BEGIN:DAYLIGHT
TZOFFSETFROM:-0500
TZOFFSETTO:-0400
TZNAME:EDT
DTSTART:20170312T070000
END:DAYLIGHT
BEGIN:STANDARD
TZOFFSETFROM:-0400
TZOFFSETTO:-0500
TZNAME:EST
DTSTART:20171105T060000
END:STANDARD
BEGIN:DAYLIGHT
TZOFFSETFROM:-0500
TZOFFSETTO:-0400
TZNAME:EDT
DTSTART:20180311T070000
END:DAYLIGHT
BEGIN:STANDARD
TZOFFSETFROM:-0400
TZOFFSETTO:-0500
TZNAME:EST
DTSTART:20181104T060000
END:STANDARD
END:VTIMEZONE
BEGIN:VEVENT
DTSTART;TZID=America/New_York:20170404T183000
DTEND;TZID=America/New_York:20170404T223000
DTSTAMP:20260421T165653
CREATED:20160705T133859Z
LAST-MODIFIED:20160705T133859Z
UID:4658-1491330600-1491345000@ubwp.buffalo.edu
SUMMARY:April Senate Meeting and Candidate Debate
DESCRIPTION:*PLEASE NOTE THE DATE AND LOCATION CHANGES FOR THIS MEETING!* \nGSA Senate meetings are open to the public\, but only designated representatives from Departmental and International clubs may vote. Sign-in begins at 6:00 pm so that the meeting can begin promptly at 6:30 pm. \n*PLEASE NOTE* The official GSA Officer Candidate Debate will take place at this meeting.  Moderated by the GSA Election Committee\, students will have the opportunity to interact with and ask questions of the candidates for each office.
URL:https://ubwp.buffalo.edu/gsa/event/april-senate-meeting-and-candidate-debate-2/
LOCATION:Student Union Theater\, 201 Student Union\, University at Buffalo\, Buffalo\, NY\, 14260\, United States
CATEGORIES:Administrative,GSA Event
ATTACH;FMTTYPE=image/jpeg:https://ubwp.buffalo.edu/gsa/wp-content/uploads/sites/137/2014/08/Gavel-and-Scale.jpg
ORGANIZER;CN="GSA Administrative Team":MAILTO:slfrank@buffalo.edu
END:VEVENT
END:VCALENDAR