BEGIN:VCALENDAR
VERSION:2.0
PRODID:-//Graduate Student Association - ECPv6.15.20//NONSGML v1.0//EN
CALSCALE:GREGORIAN
METHOD:PUBLISH
X-WR-CALNAME:Graduate Student Association
X-ORIGINAL-URL:https://ubwp.buffalo.edu/gsa
X-WR-CALDESC:Events for Graduate Student Association
REFRESH-INTERVAL;VALUE=DURATION:PT1H
X-Robots-Tag:noindex
X-PUBLISHED-TTL:PT1H
BEGIN:VTIMEZONE
TZID:America/New_York
BEGIN:DAYLIGHT
TZOFFSETFROM:-0500
TZOFFSETTO:-0400
TZNAME:EDT
DTSTART:20160313T070000
END:DAYLIGHT
BEGIN:STANDARD
TZOFFSETFROM:-0400
TZOFFSETTO:-0500
TZNAME:EST
DTSTART:20161106T060000
END:STANDARD
BEGIN:DAYLIGHT
TZOFFSETFROM:-0500
TZOFFSETTO:-0400
TZNAME:EDT
DTSTART:20170312T070000
END:DAYLIGHT
BEGIN:STANDARD
TZOFFSETFROM:-0400
TZOFFSETTO:-0500
TZNAME:EST
DTSTART:20171105T060000
END:STANDARD
BEGIN:DAYLIGHT
TZOFFSETFROM:-0500
TZOFFSETTO:-0400
TZNAME:EDT
DTSTART:20180311T070000
END:DAYLIGHT
BEGIN:STANDARD
TZOFFSETFROM:-0400
TZOFFSETTO:-0500
TZNAME:EST
DTSTART:20181104T060000
END:STANDARD
END:VTIMEZONE
BEGIN:VEVENT
DTSTART;VALUE=DATE:20170403
DTEND;VALUE=DATE:20170404
DTSTAMP:20260421T134341
CREATED:20160816T141445Z
LAST-MODIFIED:20160816T141445Z
UID:4862-1491177600-1491263999@ubwp.buffalo.edu
SUMMARY:Discount AMC Movie Tickets Available
DESCRIPTION:GSA will have discount AMC Movie Tickets available for sale on September 6th at the SBI Ticket Offices (221 Student Union and 350 Harriman Hall) for $6 each.  1 per UB ID.  Tickets can be used for all movies at AMC theatre locations.  Limited quantity available.  First come\, first served.
URL:https://ubwp.buffalo.edu/gsa/event/discount-amc-movie-tickets-available-11/
LOCATION:NY
CATEGORIES:GSA Event
ATTACH;FMTTYPE=image/jpeg:https://ubwp.buffalo.edu/gsa/wp-content/uploads/sites/137/2015/09/AMC.jpg
ORGANIZER;CN="GSA Programming Coordinator":MAILTO:gsa-programming@buffalo.edu
END:VEVENT
BEGIN:VEVENT
DTSTART;TZID=America/New_York:20170403T100000
DTEND;TZID=America/New_York:20170403T113000
DTSTAMP:20260421T134341
CREATED:20170328T105501Z
LAST-MODIFIED:20170328T105501Z
UID:5745-1491213600-1491219000@ubwp.buffalo.edu
SUMMARY:MDRF Grant Application Workshop
DESCRIPTION:The Summer deadline for Mark Diamond Research Fund (MDRF) applications is Thursday\, May 25\, 2017. Grant applications are for research to be conducted July 1\, 2017 to June 30\, 2018. The MDRF Director will be holding grant writing workshops on the dates below to go over the application\, instructions\, the review process and to answer any questions: \nApril \nMonday\, April 3rd at 10:00am in 310 Student Union\nWednesday\, April 5th at 1:00pm in 310 Student Union\nTuesday\, April 11th at 3:00pm in 310 Student Union\nWednesday\, April 12th at 11:00am in 310 Student Union\nFriday\, April 14th at 10:00am in 310 Student Union\nTuesday\, April 18th at 11:00am in 310 Student Union \nMay \nMonday\, May 1st at 1:00pm in 310 Student Union\nWednesday\, May 3rd at 10:00am in 310 Student Union\nTuesday\, May 9th at 10:00am in 310 Student Union\nThursday\, May 11th at 2:00pm in 310 Student Union \nIf you have any questions\, please contact Jennifer at gsa-mdrf@buffalo.edu. \n*PLEASE NOTE* The last day to have your application reviewed by the MDRF Director before submission is Monday\, May 15th.
URL:https://ubwp.buffalo.edu/gsa/event/mdrf-grant-application-workshop-21/
LOCATION:GSA Conference Room\, 310A Student Union\, University at Buffalo\, Buffalo\, NY\, 14260\, United States
CATEGORIES:GSA Event,MDRF
ORGANIZER;CN="MDRF Director":MAILTO:gsa-mdrf@buffalo.edu
END:VEVENT
END:VCALENDAR