BEGIN:VCALENDAR
VERSION:2.0
PRODID:-//Graduate Student Association - ECPv6.15.20//NONSGML v1.0//EN
CALSCALE:GREGORIAN
METHOD:PUBLISH
X-WR-CALNAME:Graduate Student Association
X-ORIGINAL-URL:https://ubwp.buffalo.edu/gsa
X-WR-CALDESC:Events for Graduate Student Association
REFRESH-INTERVAL;VALUE=DURATION:PT1H
X-Robots-Tag:noindex
X-PUBLISHED-TTL:PT1H
BEGIN:VTIMEZONE
TZID:America/New_York
BEGIN:DAYLIGHT
TZOFFSETFROM:-0500
TZOFFSETTO:-0400
TZNAME:EDT
DTSTART:20160313T070000
END:DAYLIGHT
BEGIN:STANDARD
TZOFFSETFROM:-0400
TZOFFSETTO:-0500
TZNAME:EST
DTSTART:20161106T060000
END:STANDARD
BEGIN:DAYLIGHT
TZOFFSETFROM:-0500
TZOFFSETTO:-0400
TZNAME:EDT
DTSTART:20170312T070000
END:DAYLIGHT
BEGIN:STANDARD
TZOFFSETFROM:-0400
TZOFFSETTO:-0500
TZNAME:EST
DTSTART:20171105T060000
END:STANDARD
BEGIN:DAYLIGHT
TZOFFSETFROM:-0500
TZOFFSETTO:-0400
TZNAME:EDT
DTSTART:20180311T070000
END:DAYLIGHT
BEGIN:STANDARD
TZOFFSETFROM:-0400
TZOFFSETTO:-0500
TZNAME:EST
DTSTART:20181104T060000
END:STANDARD
END:VTIMEZONE
BEGIN:VEVENT
DTSTART;TZID=America/New_York:20170227T150000
DTEND;TZID=America/New_York:20170227T170000
DTSTAMP:20260420T051204
CREATED:20170209T103708Z
LAST-MODIFIED:20170209T103708Z
UID:5468-1488207600-1488214800@ubwp.buffalo.edu
SUMMARY:GSA Editorial Assistance Program ~ Writing Workshop
DESCRIPTION:Cost: Free for fee-paying graduate students (space is limited\, please RSVP no later than February 24 to gsaedit@buffalo.edu) \nPlease join your copy editors for a workshop on dissertation revision best practices\, with exercises drawn from our experience working with your papers. For the first hour\, editors will lead the group through a series of short lessons designed to help students locate errors in the future and on their own. The second hour will be devoted to one-on-one assistance with any current in-process work that students bring. Students may choose to stay for one or both portions of the workshop\, depending on availability and interest. \nAs this is our first workshop\, we are gauging interest through a reservation process. Space is limited\, and space will be granted to those on a first come\, first served basis. However\, depending on interest\, we may hold a second event for those unable to attend the first. Please direct all questions to the above email. \n— \nTo participate\, please email gsaedit@buffalo.edu as soon as possible to confirm your seat. On the day of the workshop\, please bring a printed chapter or article with you. We look forward to working with you.
URL:https://ubwp.buffalo.edu/gsa/event/gsa-editorial-assistance-program-writing-workshop/
LOCATION:GSA Conference Room\, 310A Student Union\, University at Buffalo\, Buffalo\, NY\, 14260\, United States
CATEGORIES:GSA Event
ORGANIZER;CN="GSA Editorial Assistance":MAILTO:gsaedit@buffalo.edu
END:VEVENT
END:VCALENDAR