BEGIN:VCALENDAR
VERSION:2.0
PRODID:-//Graduate Student Association - ECPv6.15.20//NONSGML v1.0//EN
CALSCALE:GREGORIAN
METHOD:PUBLISH
X-ORIGINAL-URL:https://ubwp.buffalo.edu/gsa
X-WR-CALDESC:Events for Graduate Student Association
REFRESH-INTERVAL;VALUE=DURATION:PT1H
X-Robots-Tag:noindex
X-PUBLISHED-TTL:PT1H
BEGIN:VTIMEZONE
TZID:America/New_York
BEGIN:DAYLIGHT
TZOFFSETFROM:-0500
TZOFFSETTO:-0400
TZNAME:EDT
DTSTART:20150308T070000
END:DAYLIGHT
BEGIN:STANDARD
TZOFFSETFROM:-0400
TZOFFSETTO:-0500
TZNAME:EST
DTSTART:20151101T060000
END:STANDARD
BEGIN:DAYLIGHT
TZOFFSETFROM:-0500
TZOFFSETTO:-0400
TZNAME:EDT
DTSTART:20160313T070000
END:DAYLIGHT
BEGIN:STANDARD
TZOFFSETFROM:-0400
TZOFFSETTO:-0500
TZNAME:EST
DTSTART:20161106T060000
END:STANDARD
BEGIN:DAYLIGHT
TZOFFSETFROM:-0500
TZOFFSETTO:-0400
TZNAME:EDT
DTSTART:20170312T070000
END:DAYLIGHT
BEGIN:STANDARD
TZOFFSETFROM:-0400
TZOFFSETTO:-0500
TZNAME:EST
DTSTART:20171105T060000
END:STANDARD
END:VTIMEZONE
BEGIN:VEVENT
DTSTART;TZID=America/New_York:20160917T120000
DTEND;TZID=America/New_York:20160917T150000
DTSTAMP:20260423T062005
CREATED:20160803T152209Z
LAST-MODIFIED:20160803T152209Z
UID:4828-1474113600-1474124400@ubwp.buffalo.edu
SUMMARY:Brewery Tour and Beer Tasting
DESCRIPTION:Tickets include a tour of the facility\, 4 beer samplings\, and snacks. \nTickets on sale August 29th at the SBI Ticket Offices (221 Student Union and 350 Harriman Hall) for $12 each.  2 per UB ID. \nLimited quantity available.  First come\, first served. \n*PLEASE NOTE THAT YOU WILL NEED PHOTO ID FOR PROOF OF AGE FOR SAMPLES*
URL:https://ubwp.buffalo.edu/gsa/event/brewery-tour-and-beer-tasting/
LOCATION:Big Ditch Brewery\, 55 E. Huron St.\, Buffalo\, NY\, 14203\, United States
CATEGORIES:GSA Event
ATTACH;FMTTYPE=image/jpeg:https://ubwp.buffalo.edu/gsa/wp-content/uploads/sites/137/2016/08/Big-Ditch-Brewery.jpg
ORGANIZER;CN="GSA Programming Coordinator":MAILTO:gsa-programming@buffalo.edu
END:VEVENT
END:VCALENDAR