BEGIN:VCALENDAR
VERSION:2.0
PRODID:-//Graduate Student Association - ECPv6.15.20//NONSGML v1.0//EN
CALSCALE:GREGORIAN
METHOD:PUBLISH
X-ORIGINAL-URL:https://ubwp.buffalo.edu/gsa
X-WR-CALDESC:Events for Graduate Student Association
REFRESH-INTERVAL;VALUE=DURATION:PT1H
X-Robots-Tag:noindex
X-PUBLISHED-TTL:PT1H
BEGIN:VTIMEZONE
TZID:America/New_York
BEGIN:DAYLIGHT
TZOFFSETFROM:-0500
TZOFFSETTO:-0400
TZNAME:EDT
DTSTART:20150308T070000
END:DAYLIGHT
BEGIN:STANDARD
TZOFFSETFROM:-0400
TZOFFSETTO:-0500
TZNAME:EST
DTSTART:20151101T060000
END:STANDARD
BEGIN:DAYLIGHT
TZOFFSETFROM:-0500
TZOFFSETTO:-0400
TZNAME:EDT
DTSTART:20160313T070000
END:DAYLIGHT
BEGIN:STANDARD
TZOFFSETFROM:-0400
TZOFFSETTO:-0500
TZNAME:EST
DTSTART:20161106T060000
END:STANDARD
BEGIN:DAYLIGHT
TZOFFSETFROM:-0500
TZOFFSETTO:-0400
TZNAME:EDT
DTSTART:20170312T070000
END:DAYLIGHT
BEGIN:STANDARD
TZOFFSETFROM:-0400
TZOFFSETTO:-0500
TZNAME:EST
DTSTART:20171105T060000
END:STANDARD
END:VTIMEZONE
BEGIN:VEVENT
DTSTART;TZID=America/New_York:20160625T180000
DTEND;TZID=America/New_York:20160625T230000
DTSTAMP:20260425T162954
CREATED:20160412T103554Z
LAST-MODIFIED:20160412T103554Z
UID:4441-1466877600-1466895600@ubwp.buffalo.edu
SUMMARY:Shakespeare in Delaware Park ~ A Winter's Tale
DESCRIPTION:GSA will be the corporate sponsor of the June 25th presentation of A Winter’s Tale\, 6pm at Delaware Park (by the Rose Garden). \nFree tickets available May 23rd at the SBI Ticket Offices (221 Student Union and 350 Harriman Hall).  Limited quantity available.  2 max. per UB ID. \n*Tickets include VIP seating\, complimentary champagne and light hors d’oeuvres in the tent before the show. \nSBI Ticket Office Summer Office Hours (starting Monday\, May 16th): \nNorth Campus (221 Student Union): Tuesday\, Wednesday\, Thursday: 12:00 – 3:00pm \nSouth Campus (350 Harriman Hall): Monday: 10:00am – 3:00pm and Friday: 10:00am – 1:00pm
URL:https://ubwp.buffalo.edu/gsa/event/shakespeare-in-delaware-park-a-winters-tale/
LOCATION:Deleware Park\, Buffalo\, NY\, United States
CATEGORIES:GSA Event
ORGANIZER;CN="GSA Programming Coordinator":MAILTO:gsa-programming@buffalo.edu
END:VEVENT
END:VCALENDAR