BEGIN:VCALENDAR
VERSION:2.0
PRODID:-//Graduate Student Association - ECPv6.15.20//NONSGML v1.0//EN
CALSCALE:GREGORIAN
METHOD:PUBLISH
X-ORIGINAL-URL:https://ubwp.buffalo.edu/gsa
X-WR-CALDESC:Events for Graduate Student Association
REFRESH-INTERVAL;VALUE=DURATION:PT1H
X-Robots-Tag:noindex
X-PUBLISHED-TTL:PT1H
BEGIN:VTIMEZONE
TZID:America/New_York
BEGIN:DAYLIGHT
TZOFFSETFROM:-0500
TZOFFSETTO:-0400
TZNAME:EDT
DTSTART:20150308T070000
END:DAYLIGHT
BEGIN:STANDARD
TZOFFSETFROM:-0400
TZOFFSETTO:-0500
TZNAME:EST
DTSTART:20151101T060000
END:STANDARD
BEGIN:DAYLIGHT
TZOFFSETFROM:-0500
TZOFFSETTO:-0400
TZNAME:EDT
DTSTART:20160313T070000
END:DAYLIGHT
BEGIN:STANDARD
TZOFFSETFROM:-0400
TZOFFSETTO:-0500
TZNAME:EST
DTSTART:20161106T060000
END:STANDARD
BEGIN:DAYLIGHT
TZOFFSETFROM:-0500
TZOFFSETTO:-0400
TZNAME:EDT
DTSTART:20170312T070000
END:DAYLIGHT
BEGIN:STANDARD
TZOFFSETFROM:-0400
TZOFFSETTO:-0500
TZNAME:EST
DTSTART:20171105T060000
END:STANDARD
END:VTIMEZONE
BEGIN:VEVENT
DTSTART;TZID=America/New_York:20160612T120000
DTEND;TZID=America/New_York:20160612T140000
DTSTAMP:20260425T162949
CREATED:20160412T102748Z
LAST-MODIFIED:20160412T102748Z
UID:4440-1465732800-1465740000@ubwp.buffalo.edu
SUMMARY:Resurgence Brewery Tour and Beer Tasting
DESCRIPTION:*Tickets include a tour of the facility\, 3 beer samplings\, one full sized beer and a $5 food voucher. \nTickets on sale May 16th at the SBI Ticket Offices (221 Student Union and 350 Harriman Hall) for $10 each.  2 per UB ID.  Tickets are non-refundable.  Limited quantity available.  First come\, first served. \n*Please make sure to bring photo ID with proof of age in order to sample the beer!* \nSBI Ticket Office Summer Office Hours (starting Monday\, May 16th): \nNorth Campus (221 Student Union): Tuesday\, Wednesday\, Thursday: 12:00 – 3:00pm \nSouth Campus (350 Harriman Hall): Monday: 10:00am – 3:00pm and Friday: 10:00am – 1:00pm
URL:https://ubwp.buffalo.edu/gsa/event/resurgence-brewery-tour-and-beer-tasting-2/
LOCATION:Resurgence Brewing Co.\, 1250 Niagara St.\, Buffalo\, NY\, 14213\, United States
CATEGORIES:GSA Event
ORGANIZER;CN="GSA Programming Coordinator":MAILTO:gsa-programming@buffalo.edu
END:VEVENT
END:VCALENDAR