BEGIN:VCALENDAR
VERSION:2.0
PRODID:-//Graduate Student Association - ECPv6.15.20//NONSGML v1.0//EN
CALSCALE:GREGORIAN
METHOD:PUBLISH
X-ORIGINAL-URL:https://ubwp.buffalo.edu/gsa
X-WR-CALDESC:Events for Graduate Student Association
REFRESH-INTERVAL;VALUE=DURATION:PT1H
X-Robots-Tag:noindex
X-PUBLISHED-TTL:PT1H
BEGIN:VTIMEZONE
TZID:America/New_York
BEGIN:DAYLIGHT
TZOFFSETFROM:-0500
TZOFFSETTO:-0400
TZNAME:EDT
DTSTART:20150308T070000
END:DAYLIGHT
BEGIN:STANDARD
TZOFFSETFROM:-0400
TZOFFSETTO:-0500
TZNAME:EST
DTSTART:20151101T060000
END:STANDARD
BEGIN:DAYLIGHT
TZOFFSETFROM:-0500
TZOFFSETTO:-0400
TZNAME:EDT
DTSTART:20160313T070000
END:DAYLIGHT
BEGIN:STANDARD
TZOFFSETFROM:-0400
TZOFFSETTO:-0500
TZNAME:EST
DTSTART:20161106T060000
END:STANDARD
BEGIN:DAYLIGHT
TZOFFSETFROM:-0500
TZOFFSETTO:-0400
TZNAME:EDT
DTSTART:20170312T070000
END:DAYLIGHT
BEGIN:STANDARD
TZOFFSETFROM:-0400
TZOFFSETTO:-0500
TZNAME:EST
DTSTART:20171105T060000
END:STANDARD
END:VTIMEZONE
BEGIN:VEVENT
DTSTART;TZID=America/New_York:20160410T150000
DTEND;TZID=America/New_York:20160410T190000
DTSTAMP:20260425T134727
CREATED:20160323T120337Z
LAST-MODIFIED:20160323T120337Z
UID:4333-1460300400-1460314800@ubwp.buffalo.edu
SUMMARY:Buffalo Untapped
DESCRIPTION:Live Music\, Wineries\, Breweries\, Food Trucks and Local Vendors! \n$5 food vouchers and a bracelet allowing for 5 beer and/or wine tastings will be given out for FREE to the first 200 graduate students in attendance. \n*PLEASE BRING PHOTO ID SHOWING PROOF OF AGE FOR TASTING BRACELETS*
URL:https://ubwp.buffalo.edu/gsa/event/buffalo-untapped/
LOCATION:Ed Wright Practice Facility\, UB North Campus\, Buffalo\, NY\, 14260\, United States
CATEGORIES:GSA Event,SA Event
ORGANIZER;CN="GSA Programming Coordinator":MAILTO:gsa-programming@buffalo.edu
END:VEVENT
END:VCALENDAR