BEGIN:VCALENDAR
VERSION:2.0
PRODID:-//Graduate Student Association - ECPv6.15.20//NONSGML v1.0//EN
CALSCALE:GREGORIAN
METHOD:PUBLISH
X-WR-CALNAME:Graduate Student Association
X-ORIGINAL-URL:https://ubwp.buffalo.edu/gsa
X-WR-CALDESC:Events for Graduate Student Association
REFRESH-INTERVAL;VALUE=DURATION:PT1H
X-Robots-Tag:noindex
X-PUBLISHED-TTL:PT1H
BEGIN:VTIMEZONE
TZID:America/New_York
BEGIN:DAYLIGHT
TZOFFSETFROM:-0500
TZOFFSETTO:-0400
TZNAME:EDT
DTSTART:20150308T070000
END:DAYLIGHT
BEGIN:STANDARD
TZOFFSETFROM:-0400
TZOFFSETTO:-0500
TZNAME:EST
DTSTART:20151101T060000
END:STANDARD
BEGIN:DAYLIGHT
TZOFFSETFROM:-0500
TZOFFSETTO:-0400
TZNAME:EDT
DTSTART:20160313T070000
END:DAYLIGHT
BEGIN:STANDARD
TZOFFSETFROM:-0400
TZOFFSETTO:-0500
TZNAME:EST
DTSTART:20161106T060000
END:STANDARD
BEGIN:DAYLIGHT
TZOFFSETFROM:-0500
TZOFFSETTO:-0400
TZNAME:EDT
DTSTART:20170312T070000
END:DAYLIGHT
BEGIN:STANDARD
TZOFFSETFROM:-0400
TZOFFSETTO:-0500
TZNAME:EST
DTSTART:20171105T060000
END:STANDARD
END:VTIMEZONE
BEGIN:VEVENT
DTSTART;TZID=America/New_York:20160331T160000
DTEND;TZID=America/New_York:20160331T180000
DTSTAMP:20260425T134707
CREATED:20160307T142118Z
LAST-MODIFIED:20160307T142118Z
UID:4233-1459440000-1459447200@ubwp.buffalo.edu
SUMMARY:Personal Website Tutorial
DESCRIPTION:The GSA Webmasters would like to invite you to a Personal Website Tutorial. Come to mini-workshops where the Webmasters will help you activate your UBIT space\, design a website\, and post it. We want to help you put your professional face online! \nThe tutorials are scheduled for March 31st at 4:00 and April 7th at 4:00 in the GSA office\, 310 Student Union. If you are interested but cannot attend either of these\, send us an email at (gsa-webmaster@buffalo.edu). If there is enough interest\, we’ll hold additional tutorials on different days. \nTo sign up\, please use the following Doodle Poll: http://doodle.com/poll/z7v8rgifwqgxnp3n \nSpace is limited! Only 9 people can register for the tutorial at a time\, so if you’re interested\, sign up and let us know! \nHolly & John
URL:https://ubwp.buffalo.edu/gsa/event/personal-website-tutorial/
LOCATION:GSA Conference Room\, 310A Student Union\, University at Buffalo\, Buffalo\, NY\, 14260\, United States
CATEGORIES:GSA Event
END:VEVENT
END:VCALENDAR