BEGIN:VCALENDAR
VERSION:2.0
PRODID:-//Graduate Student Association - ECPv6.15.20//NONSGML v1.0//EN
CALSCALE:GREGORIAN
METHOD:PUBLISH
X-ORIGINAL-URL:https://ubwp.buffalo.edu/gsa
X-WR-CALDESC:Events for Graduate Student Association
REFRESH-INTERVAL;VALUE=DURATION:PT1H
X-Robots-Tag:noindex
X-PUBLISHED-TTL:PT1H
BEGIN:VTIMEZONE
TZID:UTC
BEGIN:STANDARD
TZOFFSETFROM:+0000
TZOFFSETTO:+0000
TZNAME:UTC
DTSTART:20210101T000000
END:STANDARD
END:VTIMEZONE
BEGIN:VEVENT
DTSTART;TZID=UTC:20221202T110000
DTEND;TZID=UTC:20221202T130000
DTSTAMP:20260426T023432
CREATED:20221108T121759Z
LAST-MODIFIED:20221108T121759Z
UID:27528-1669978800-1669986000@ubwp.buffalo.edu
SUMMARY:Java Junction
DESCRIPTION:Free Tim Horton’s coffee and doughnuts for graduate students in 145C&D Student Union. \nAll participants must review the GSA’s Safety Acknowledgement and Participant Disclaimer before attending.
URL:https://ubwp.buffalo.edu/gsa/event/java-junction-60/
LOCATION:145 Student Union
CATEGORIES:GSA Event
ATTACH;FMTTYPE=image/jpeg:https://ubwp.buffalo.edu/gsa/wp-content/uploads/sites/137/2013/11/Tim-Hortons-Christmas.jpg
ORGANIZER;CN="GSA Programming Coordinator":MAILTO:gsa-programming@buffalo.edu
END:VEVENT
BEGIN:VEVENT
DTSTART;VALUE=DATE:20221205
DTEND;VALUE=DATE:20221206
DTSTAMP:20260426T023432
CREATED:20220811T164058Z
LAST-MODIFIED:20230407T105827Z
UID:27282-1670198400-1670284799@ubwp.buffalo.edu
SUMMARY:Discount AMC Movie Tickets Available
DESCRIPTION:GSA will have discount AMC Movie Tickets available for sale on December 5th at the UB Ticket Office (online or in 221 Student Union) for $5 each.  1 per UB ID.  Tickets can be used for all movies at AMC theatre locations. Limited quantity available. First come\, first served. \n*PLEASE MAKE SURE TO PICK UP YOUR PHYSICAL TICKET(S) FROM THE UB TICKET OFFICE IN 221 STUDENT UNION.  THE EMAILED TICKET IS ONLY A VOUCHER AND WILL NOT BE ACCEPTED FOR ADMISSION BY THE VENDOR.
URL:https://ubwp.buffalo.edu/gsa/event/discount-amc-movie-tickets-available-42/
LOCATION:NY
CATEGORIES:GSA Event
ATTACH;FMTTYPE=image/jpeg:https://ubwp.buffalo.edu/gsa/wp-content/uploads/sites/137/2015/09/AMC.jpg
ORGANIZER;CN="GSA Programming Coordinator":MAILTO:gsa-programming@buffalo.edu
END:VEVENT
BEGIN:VEVENT
DTSTART;TZID=UTC:20221207T180000
DTEND;TZID=UTC:20221207T210000
DTSTAMP:20260426T023432
CREATED:20220620T162101Z
LAST-MODIFIED:20230124T154448Z
UID:27079-1670436000-1670446800@ubwp.buffalo.edu
SUMMARY:December Board of Directors Meeting
DESCRIPTION:The December 7th Board of Directors meeting will be held online via Zoom.  GSA Board of Directors meetings are open to the public\, but only designated representatives from Departmental and International clubs may vote. Sign-in begins at 6:00pm so that the meeting can begin promptly at 6:30pm. Once the meeting begins no one else will be admitted for attendance purposes. \nPLEASE NOTE: Every club will need to email Stephanie at slfrank@buffalo.edu no later than 12:00pm on Wednesday\, December 7th with who will be attending the meeting on the club’s behalf so that eligible representatives can be verified in advance.  Once representatives are verified they will be sent the Zoom meeting link and password directly\, along with some instructions on how the meeting will be managed\, in order to be able to participate and vote.  Only previously verified representatives will be admitted to participate in the Zoom meeting. \nFor attendance purposes each Special Interest Club may have one representative participate directly in the Zoom meeting\, but they will not have voting privileges.  Additional special requests for guests and/or speakers to be admitted may be sent to gsa-feedback@buffalo.edu. \nThe meeting will also be live streamed via GSA’s Facebook Page for anyone else that is interested in watching the meeting without voting privileges or an official attendance record\, as meetings are open to the public.
URL:https://ubwp.buffalo.edu/gsa/event/december-board-of-directors-meeting-3/
LOCATION:Online via Zoom
CATEGORIES:Administrative,GSA Event
END:VEVENT
BEGIN:VEVENT
DTSTART;TZID=UTC:20221211T130000
DTEND;TZID=UTC:20221211T170000
DTSTAMP:20260426T023432
CREATED:20221001T142931Z
LAST-MODIFIED:20221108T121441Z
UID:27452-1670763600-1670778000@ubwp.buffalo.edu
SUMMARY:Buffalo Bills Football Game vs. New York Jets
DESCRIPTION:Tickets on sale November 7th at the UB Ticket Office (online or at 221 Student Union) for $25 each. 1 per UB ID. Limited quantity available. First come\, first served. \n*The UB Ticket Office will be sending out digital tickets to the game.  Please just note that the emailed receipt from the UB Ticket Office is only a voucher to secure your purchase and will not be accepted for admission by the vendor.* \nAll sales are non-refundable.
URL:https://ubwp.buffalo.edu/gsa/event/buffalo-bills-football-game-vs-new-york-jets-2/
LOCATION:Highmark Stadium\, 1 Bills Dr.\, Orchard Park\, 14127\, United States
CATEGORIES:GSA Event
ATTACH;FMTTYPE=image/jpeg:https://ubwp.buffalo.edu/gsa/wp-content/uploads/sites/137/2014/09/Buffalo-Bills.jpg
ORGANIZER;CN="GSA Programming Coordinator":MAILTO:gsa-programming@buffalo.edu
END:VEVENT
END:VCALENDAR