BEGIN:VCALENDAR
VERSION:2.0
PRODID:-//Graduate Student Association - ECPv6.15.20//NONSGML v1.0//EN
CALSCALE:GREGORIAN
METHOD:PUBLISH
X-WR-CALNAME:Graduate Student Association
X-ORIGINAL-URL:https://ubwp.buffalo.edu/gsa
X-WR-CALDESC:Events for Graduate Student Association
REFRESH-INTERVAL;VALUE=DURATION:PT1H
X-Robots-Tag:noindex
X-PUBLISHED-TTL:PT1H
BEGIN:VTIMEZONE
TZID:America/New_York
BEGIN:DAYLIGHT
TZOFFSETFROM:-0500
TZOFFSETTO:-0400
TZNAME:EDT
DTSTART:20170312T070000
END:DAYLIGHT
BEGIN:STANDARD
TZOFFSETFROM:-0400
TZOFFSETTO:-0500
TZNAME:EST
DTSTART:20171105T060000
END:STANDARD
BEGIN:DAYLIGHT
TZOFFSETFROM:-0500
TZOFFSETTO:-0400
TZNAME:EDT
DTSTART:20180311T070000
END:DAYLIGHT
BEGIN:STANDARD
TZOFFSETFROM:-0400
TZOFFSETTO:-0500
TZNAME:EST
DTSTART:20181104T060000
END:STANDARD
BEGIN:DAYLIGHT
TZOFFSETFROM:-0500
TZOFFSETTO:-0400
TZNAME:EDT
DTSTART:20190310T070000
END:DAYLIGHT
BEGIN:STANDARD
TZOFFSETFROM:-0400
TZOFFSETTO:-0500
TZNAME:EST
DTSTART:20191103T060000
END:STANDARD
END:VTIMEZONE
BEGIN:VEVENT
DTSTART;TZID=America/New_York:20181201T200000
DTEND;TZID=America/New_York:20181201T220000
DTSTAMP:20260423T130541
CREATED:20180919T150436Z
LAST-MODIFIED:20180919T150436Z
UID:8313-1543694400-1543701600@ubwp.buffalo.edu
SUMMARY:Holidays\, Hatchets and Hops
DESCRIPTION:Students will get to try their hand at axe throwing and enjoy a drink and snacks! \nTickets on sale November 5th at the SBI Ticket Offices (221 Student Union and 135 Diefendorf Hall) for $10 each.  2 per UB ID.
URL:https://ubwp.buffalo.edu/gsa/event/holidays-hatchet-and-hops/
LOCATION:Hatchet & Hops\, 505 Main St.\, Buffalo\, NY\, 14203\, United States
CATEGORIES:GSA Event
ATTACH;FMTTYPE=image/jpeg:https://ubwp.buffalo.edu/gsa/wp-content/uploads/sites/137/2018/09/Hatchet-Hops.jpg
ORGANIZER;CN="GSA Administrative Team":MAILTO:slfrank@buffalo.edu
END:VEVENT
BEGIN:VEVENT
DTSTART;VALUE=DATE:20181203
DTEND;VALUE=DATE:20181204
DTSTAMP:20260423T130541
CREATED:20180807T103143Z
LAST-MODIFIED:20180807T103143Z
UID:8144-1543795200-1543881599@ubwp.buffalo.edu
SUMMARY:Discount AMC Movie Tickets Available
DESCRIPTION:GSA will have discount AMC Movie Tickets available for sale on December 3rd at the SBI Ticket Offices (221 Student Union and 135 Diefendorf Hall) for $6 each.  1 per UB ID.  Tickets can be used for all movies at AMC theatre locations.  Limited quantity available.  First come\, first served.
URL:https://ubwp.buffalo.edu/gsa/event/discount-amc-movie-tickets-available-21/
LOCATION:Buffalo\, United States
CATEGORIES:GSA Event
ATTACH;FMTTYPE=image/jpeg:https://ubwp.buffalo.edu/gsa/wp-content/uploads/sites/137/2015/09/AMC.jpg
ORGANIZER;CN="GSA Programming Coordinator":MAILTO:gsa-programming@buffalo.edu
END:VEVENT
BEGIN:VEVENT
DTSTART;VALUE=DATE:20181203
DTEND;VALUE=DATE:20181204
DTSTAMP:20260423T130541
CREATED:20181115T121022Z
LAST-MODIFIED:20181115T121022Z
UID:8540-1543795200-1543881599@ubwp.buffalo.edu
SUMMARY:Discount Canalside Ice Skating Packages Available
DESCRIPTION:Tickets on sale at the SBI Ticket Offices (221 Student Union and 135\nDeifendorf Hall) for $5 each. 2 per UB ID. Tickets include admission\, skate rental and $10 food voucher that can be used any time during the 2018-2019 skating season.
URL:https://ubwp.buffalo.edu/gsa/event/discount-canalside-ice-skating-packages-available/
LOCATION:Canalside Ice Rink\, 44 Prime St.\, Buffalo\, NY\, 14202\, United States
CATEGORIES:GSA Event
ATTACH;FMTTYPE=image/jpeg:https://ubwp.buffalo.edu/gsa/wp-content/uploads/sites/137/2018/11/Canalside-Ice-Skating.jpg
ORGANIZER;CN="GSA Programming Coordinator":MAILTO:gsa-programming@buffalo.edu
END:VEVENT
BEGIN:VEVENT
DTSTART;TZID=America/New_York:20181205T183000
DTEND;TZID=America/New_York:20181205T213000
DTSTAMP:20260423T130541
CREATED:20180619T103629Z
LAST-MODIFIED:20180619T103629Z
UID:7839-1544034600-1544045400@ubwp.buffalo.edu
SUMMARY:December Senate Meeting
DESCRIPTION:GSA Senate meetings are open to the public\, but only designated representatives from Departmental and International clubs may vote. Sign-in begins at 6:00pm so that the meeting can begin promptly at 6:30pm.
URL:https://ubwp.buffalo.edu/gsa/event/december-senate-meeting-6/
LOCATION:330 Student Union\, 330 Student Union\, University at Buffalo\, Buffalo\, NY\, 14260\, United States
CATEGORIES:Administrative,GSA Event
ATTACH;FMTTYPE=image/jpeg:https://ubwp.buffalo.edu/gsa/wp-content/uploads/sites/137/2014/08/Gavel-and-Scale.jpg
ORGANIZER;CN="GSA Administrative Team":MAILTO:slfrank@buffalo.edu
END:VEVENT
BEGIN:VEVENT
DTSTART;TZID=America/New_York:20181207T110000
DTEND;TZID=America/New_York:20181207T130000
DTSTAMP:20260423T130541
CREATED:20180619T133456Z
LAST-MODIFIED:20180619T133456Z
UID:8013-1544180400-1544187600@ubwp.buffalo.edu
SUMMARY:Java Junction
DESCRIPTION:Free Tim Horton’s coffee and doughnuts for graduate students in the GSA office.
URL:https://ubwp.buffalo.edu/gsa/event/java-junction-43/
LOCATION:GSA Conference Room\, 310A Student Union\, University at Buffalo\, Buffalo\, NY\, 14260\, United States
CATEGORIES:GSA Event
ATTACH;FMTTYPE=image/jpeg:https://ubwp.buffalo.edu/gsa/wp-content/uploads/sites/137/2013/11/Tim-Hortons-Christmas.jpg
ORGANIZER;CN="GSA Programming Coordinator":MAILTO:gsa-programming@buffalo.edu
END:VEVENT
END:VCALENDAR