BEGIN:VCALENDAR
VERSION:2.0
PRODID:-//Graduate Student Association - ECPv6.15.20//NONSGML v1.0//EN
CALSCALE:GREGORIAN
METHOD:PUBLISH
X-ORIGINAL-URL:https://ubwp.buffalo.edu/gsa
X-WR-CALDESC:Events for Graduate Student Association
REFRESH-INTERVAL;VALUE=DURATION:PT1H
X-Robots-Tag:noindex
X-PUBLISHED-TTL:PT1H
BEGIN:VTIMEZONE
TZID:America/New_York
BEGIN:DAYLIGHT
TZOFFSETFROM:-0500
TZOFFSETTO:-0400
TZNAME:EDT
DTSTART:20170312T070000
END:DAYLIGHT
BEGIN:STANDARD
TZOFFSETFROM:-0400
TZOFFSETTO:-0500
TZNAME:EST
DTSTART:20171105T060000
END:STANDARD
BEGIN:DAYLIGHT
TZOFFSETFROM:-0500
TZOFFSETTO:-0400
TZNAME:EDT
DTSTART:20180311T070000
END:DAYLIGHT
BEGIN:STANDARD
TZOFFSETFROM:-0400
TZOFFSETTO:-0500
TZNAME:EST
DTSTART:20181104T060000
END:STANDARD
BEGIN:DAYLIGHT
TZOFFSETFROM:-0500
TZOFFSETTO:-0400
TZNAME:EDT
DTSTART:20190310T070000
END:DAYLIGHT
BEGIN:STANDARD
TZOFFSETFROM:-0400
TZOFFSETTO:-0500
TZNAME:EST
DTSTART:20191103T060000
END:STANDARD
END:VTIMEZONE
BEGIN:VEVENT
DTSTART;VALUE=DATE:20181001
DTEND;VALUE=DATE:20181002
DTSTAMP:20260421T070958
CREATED:20180807T102917Z
LAST-MODIFIED:20180807T102917Z
UID:8137-1538352000-1538438399@ubwp.buffalo.edu
SUMMARY:Discount AMC Movie Tickets Available
DESCRIPTION:GSA will have discount AMC Movie Tickets available for sale on October 1st at the SBI Ticket Offices (221 Student Union and 135 Diefendorf Hall) for $6 each.  1 per UB ID.  Tickets can be used for all movies at AMC theatre locations.  Limited quantity available.  First come\, first served.
URL:https://ubwp.buffalo.edu/gsa/event/discount-amc-movie-tickets-available-19/
LOCATION:Buffalo\, United States
CATEGORIES:GSA Event
ATTACH;FMTTYPE=image/jpeg:https://ubwp.buffalo.edu/gsa/wp-content/uploads/sites/137/2015/09/AMC.jpg
ORGANIZER;CN="GSA Programming Coordinator":MAILTO:gsa-programming@buffalo.edu
END:VEVENT
BEGIN:VEVENT
DTSTART;TZID=America/New_York:20181003T183000
DTEND;TZID=America/New_York:20181003T213000
DTSTAMP:20260421T070958
CREATED:20180619T103455Z
LAST-MODIFIED:20180619T103455Z
UID:7835-1538591400-1538602200@ubwp.buffalo.edu
SUMMARY:October Senate Meeting
DESCRIPTION:GSA Senate meetings are open to the public\, but only designated representatives from Departmental and International clubs may vote. Sign-in begins at 6:00pm so that the meeting can begin promptly at 6:30pm.
URL:https://ubwp.buffalo.edu/gsa/event/october-senate-meeting-6/
LOCATION:330 Student Union\, 330 Student Union\, University at Buffalo\, Buffalo\, NY\, 14260\, United States
CATEGORIES:Administrative,GSA Event
ATTACH;FMTTYPE=image/jpeg:https://ubwp.buffalo.edu/gsa/wp-content/uploads/sites/137/2014/08/Gavel-and-Scale.jpg
ORGANIZER;CN="GSA Administrative Team":MAILTO:slfrank@buffalo.edu
END:VEVENT
BEGIN:VEVENT
DTSTART;TZID=America/New_York:20181005T110000
DTEND;TZID=America/New_York:20181005T130000
DTSTAMP:20260421T070958
CREATED:20180619T133306Z
LAST-MODIFIED:20180619T133306Z
UID:8009-1538737200-1538744400@ubwp.buffalo.edu
SUMMARY:Java Junction
DESCRIPTION:Free Tim Horton’s coffee and doughnuts for graduate students in the GSA office.
URL:https://ubwp.buffalo.edu/gsa/event/java-junction-41/
LOCATION:GSA Conference Room\, 310A Student Union\, University at Buffalo\, Buffalo\, NY\, 14260\, United States
CATEGORIES:GSA Event
ATTACH;FMTTYPE=image/jpeg:https://ubwp.buffalo.edu/gsa/wp-content/uploads/sites/137/2013/08/java.jpg
ORGANIZER;CN="GSA Programming Coordinator":MAILTO:gsa-programming@buffalo.edu
END:VEVENT
BEGIN:VEVENT
DTSTART;TZID=America/New_York:20181007T130000
DTEND;TZID=America/New_York:20181007T170000
DTSTAMP:20260421T070958
CREATED:20180619T140223Z
LAST-MODIFIED:20180619T140223Z
UID:8033-1538917200-1538931600@ubwp.buffalo.edu
SUMMARY:Buffalo Bills Football Game vs. Tennessee Titans
DESCRIPTION:Tickets on sale September 4th at the SBI Ticket Offices (221 Student Union and 135 Diefendorf Hall) for $25 each.  1 per UB ID.  Limited quantity available.  First come\, first served.
URL:https://ubwp.buffalo.edu/gsa/event/buffalo-bills-football-game-vs-tennessee-titans/
LOCATION:Highmark Stadium\, 1 Bills Dr.\, Orchard Park\, 14127\, United States
CATEGORIES:GSA Event
ATTACH;FMTTYPE=image/jpeg:https://ubwp.buffalo.edu/gsa/wp-content/uploads/sites/137/2014/09/Buffalo-Bills.jpg
ORGANIZER;CN="GSA Programming Coordinator":MAILTO:gsa-programming@buffalo.edu
END:VEVENT
BEGIN:VEVENT
DTSTART;TZID=America/New_York:20181010T100000
DTEND;TZID=America/New_York:20181010T120000
DTSTAMP:20260421T070958
CREATED:20180731T095659Z
LAST-MODIFIED:20180731T095659Z
UID:8107-1539165600-1539172800@ubwp.buffalo.edu
SUMMARY:Mandatory Officer Training Meeting
DESCRIPTION:In order to ensure that all club officers understand the system of encumbrances\, reimbursements\, special funding requests\, etc.\, the GSA Executive Committee sets up a series of special meetings for GSA club officers. \nThese meetings will review GSA club policies and guidelines\, and will outline your duties as officers. Please be advised that your attendance at one of these meetings is MANDATORY\, for club Presidents and Treasurers. Your other club officers and club members are welcome\, but this is a meeting for you. If you fail to attend\, your club’s budget for the year will be frozen. \nEach meeting will be about an hour and a half (with the exception of the October 19th date\, which will be shortened for returning officers only). Choose the meeting with the most convenient date and time from the following list: \nSept. 17    (Monday)                      11:00 a.m. – 330 Student Union\, North Campus\nOct. 10      (Wednesday)               10:00 a.m. – 330 Student Union\, North Campus\nOct. 11      (Thursday)                    7:00 p.m. – 105 Harriman Hall\, South Campus \nOct. 19*     (Friday)                         4:00 p.m. – 330 Student Union\, North Campus (for returning officers only) \n*PLEASE NOTE*  The October 19th meeting will be for returning officers only and requires pre-registration.  You MUST have already signed in at one of last year’s officer training meetings in order to be eligible to attend training on this date. Once your prior attendance has been verified and your registration is accepted you will be notified via email confirmation.  Only students who receive this email confirmation will be allowed to sign-in at this meeting.           
URL:https://ubwp.buffalo.edu/gsa/event/mandatory-officer-training-meeting-18/
LOCATION:330 Student Union\, 330 Student Union\, University at Buffalo\, Buffalo\, NY\, 14260\, United States
CATEGORIES:GSA Event
ORGANIZER;CN="GSA Administrative Team":MAILTO:slfrank@buffalo.edu
END:VEVENT
BEGIN:VEVENT
DTSTART;TZID=America/New_York:20181011T190000
DTEND;TZID=America/New_York:20181011T210000
DTSTAMP:20260421T070958
CREATED:20180731T095756Z
LAST-MODIFIED:20180731T095756Z
UID:8109-1539284400-1539291600@ubwp.buffalo.edu
SUMMARY:Mandatory Officer Training Meeting
DESCRIPTION:In order to ensure that all club officers understand the system of encumbrances\, reimbursements\, special funding requests\, etc.\, the GSA Executive Committee sets up a series of special meetings for GSA club officers. \nThese meetings will review GSA club policies and guidelines\, and will outline your duties as officers. Please be advised that your attendance at one of these meetings is MANDATORY\, for club Presidents and Treasurers. Your other club officers and club members are welcome\, but this is a meeting for you. If you fail to attend\, your club’s budget for the year will be frozen. \nEach meeting will be about an hour and a half (with the exception of the October 19th date\, which will be shortened for returning officers only). Choose the meeting with the most convenient date and time from the following list: \nSept. 17    (Monday)                      11:00 a.m. – 330 Student Union\, North Campus\nOct. 10      (Wednesday)               10:00 a.m. – 330 Student Union\, North Campus\nOct. 11      (Thursday)                    7:00 p.m. – 105 Harriman Hall\, South Campus \nOct. 19*     (Friday)                         4:00 p.m. – 330 Student Union\, North Campus (for returning officers only) \n*PLEASE NOTE*  The October 19th meeting will be for returning officers only and requires pre-registration.  You MUST have already signed in at one of last year’s officer training meetings in order to be eligible to attend training on this date. Once your prior attendance has been verified and your registration is accepted you will be notified via email confirmation.  Only students who receive this email confirmation will be allowed to sign-in at this meeting.           
URL:https://ubwp.buffalo.edu/gsa/event/mandatory-officer-training-meeting-19/
LOCATION:105 Harriman Hall\, 105 Harriman Hall\, University at Buffalo\, Buffalo\, NY\, 14260\, United States
CATEGORIES:GSA Event
ORGANIZER;CN="GSA Administrative Team":MAILTO:slfrank@buffalo.edu
END:VEVENT
BEGIN:VEVENT
DTSTART;TZID=America/New_York:20181012T133000
DTEND;TZID=America/New_York:20181012T153000
DTSTAMP:20260421T070958
CREATED:20180619T135447Z
LAST-MODIFIED:20180619T135447Z
UID:8029-1539351000-1539358200@ubwp.buffalo.edu
SUMMARY:South Campus Siesta
DESCRIPTION:Free food and beverages for graduate students at South Campus.
URL:https://ubwp.buffalo.edu/gsa/event/south-campus-siesta-29/
LOCATION:105 Harriman Hall\, 105 Harriman Hall\, University at Buffalo\, Buffalo\, NY\, 14260\, United States
CATEGORIES:GSA Event
ATTACH;FMTTYPE=image/jpeg:https://ubwp.buffalo.edu/gsa/wp-content/uploads/sites/137/2015/01/South-Siesta2.jpg
ORGANIZER;CN="GSA Programming Coordinator":MAILTO:gsa-programming@buffalo.edu
END:VEVENT
BEGIN:VEVENT
DTSTART;TZID=America/New_York:20181019T160000
DTEND;TZID=America/New_York:20181019T170000
DTSTAMP:20260421T070958
CREATED:20180731T095858Z
LAST-MODIFIED:20180731T095858Z
UID:8111-1539964800-1539968400@ubwp.buffalo.edu
SUMMARY:Mandatory Officer Training Meeting (For Returning Officers Only)
DESCRIPTION:In order to ensure that all club officers understand the system of encumbrances\, reimbursements\, special funding requests\, etc.\, the GSA Executive Committee sets up a series of special meetings for GSA club officers. \nThese meetings will review GSA club policies and guidelines\, and will outline your duties as officers. Please be advised that your attendance at one of these meetings is MANDATORY\, for club Presidents and Treasurers. Your other club officers and club members are welcome\, but this is a meeting for you. If you fail to attend\, your club’s budget for the year will be frozen. \nEach meeting will be about an hour and a half (with the exception of the October 19th date\, which will be shortened for returning officers only). Choose the meeting with the most convenient date and time from the following list: \nSept. 17    (Monday)                      11:00 a.m. – 330 Student Union\, North Campus\nOct. 10      (Wednesday)               10:00 a.m. – 330 Student Union\, North Campus\nOct. 11      (Thursday)                    7:00 p.m. – 105 Harriman Hall\, South Campus \nOct. 19*     (Friday)                         4:00 p.m. – 330 Student Union\, North Campus (for returning officers only) \n*PLEASE NOTE*  The October 19th meeting will be for returning officers only and requires pre-registration.  You MUST have already signed in at one of last year’s officer training meetings in order to be eligible to attend training on this date. Once your prior attendance has been verified and your registration is accepted you will be notified via email confirmation.  Only students who receive this email confirmation will be allowed to sign-in at this meeting.             \nPlease click here to register for the training if you are a returning officer: Pre-registration for the Mandatory Officer Training
URL:https://ubwp.buffalo.edu/gsa/event/mandatory-officer-training-meeting-for-returning-officers-only/
LOCATION:330 Student Union\, 330 Student Union\, University at Buffalo\, Buffalo\, NY\, 14260\, United States
CATEGORIES:GSA Event
ORGANIZER;CN="GSA Administrative Team":MAILTO:slfrank@buffalo.edu
END:VEVENT
BEGIN:VEVENT
DTSTART;VALUE=DATE:20181023
DTEND;VALUE=DATE:20181024
DTSTAMP:20260421T070958
CREATED:20181023T102434Z
LAST-MODIFIED:20181023T102434Z
UID:8467-1540252800-1540339199@ubwp.buffalo.edu
SUMMARY:GSA South Campus Office Closed
DESCRIPTION:The GSA South Campus Office will be closed on Tuesday\, October 23rd.  We apologize for any inconvenience.
URL:https://ubwp.buffalo.edu/gsa/event/gsa-south-campus-office-closed-24/
LOCATION:GSA South Campus Satellite Office\, 302 Abbott Hall\, University at Buffalo\, Buffalo\, 14260
CATEGORIES:Administrative,GSA Event
ORGANIZER;CN="GSA Administrative Team":MAILTO:slfrank@buffalo.edu
END:VEVENT
BEGIN:VEVENT
DTSTART;TZID=America/New_York:20181024T173000
DTEND;TZID=America/New_York:20181024T203000
DTSTAMP:20260421T070958
CREATED:20181023T101532Z
LAST-MODIFIED:20181023T101532Z
UID:8462-1540402200-1540413000@ubwp.buffalo.edu
SUMMARY:Take Back the Night
DESCRIPTION:A new take on Take Back The Night\, a brief moment of silence in honor of victims of sexual violence in the Student Union Lobby\, followed by a short march to the Lake LaSalle fire pit for a speak-out around the fire followed by s’mores.
URL:https://ubwp.buffalo.edu/gsa/event/take-back-the-night-3/
LOCATION:Student Union\, Buffalo\, NY\, United States
CATEGORIES:GSA Event,University Event
END:VEVENT
BEGIN:VEVENT
DTSTART;TZID=America/New_York:20181031T190000
DTEND;TZID=America/New_York:20181031T210000
DTSTAMP:20260421T070958
CREATED:20180619T104330Z
LAST-MODIFIED:20180619T104330Z
UID:7851-1541012400-1541019600@ubwp.buffalo.edu
SUMMARY:Finance Committee Meeting
DESCRIPTION:Finance Committee meeting to review group funding requests for events to take place in November or later.
URL:https://ubwp.buffalo.edu/gsa/event/finance-committee-meeting-38/
LOCATION:GSA Conference Room\, 310A Student Union\, University at Buffalo\, Buffalo\, NY\, 14260\, United States
CATEGORIES:Administrative,GSA Event
ORGANIZER;CN="GSA Treasurer":MAILTO:gsa-treasurer@buffalo.edu
END:VEVENT
END:VCALENDAR