BEGIN:VCALENDAR
VERSION:2.0
PRODID:-//Graduate Student Association - ECPv6.15.20//NONSGML v1.0//EN
CALSCALE:GREGORIAN
METHOD:PUBLISH
X-ORIGINAL-URL:https://ubwp.buffalo.edu/gsa
X-WR-CALDESC:Events for Graduate Student Association
REFRESH-INTERVAL;VALUE=DURATION:PT1H
X-Robots-Tag:noindex
X-PUBLISHED-TTL:PT1H
BEGIN:VTIMEZONE
TZID:America/New_York
BEGIN:DAYLIGHT
TZOFFSETFROM:-0500
TZOFFSETTO:-0400
TZNAME:EDT
DTSTART:20170312T070000
END:DAYLIGHT
BEGIN:STANDARD
TZOFFSETFROM:-0400
TZOFFSETTO:-0500
TZNAME:EST
DTSTART:20171105T060000
END:STANDARD
BEGIN:DAYLIGHT
TZOFFSETFROM:-0500
TZOFFSETTO:-0400
TZNAME:EDT
DTSTART:20180311T070000
END:DAYLIGHT
BEGIN:STANDARD
TZOFFSETFROM:-0400
TZOFFSETTO:-0500
TZNAME:EST
DTSTART:20181104T060000
END:STANDARD
BEGIN:DAYLIGHT
TZOFFSETFROM:-0500
TZOFFSETTO:-0400
TZNAME:EDT
DTSTART:20190310T070000
END:DAYLIGHT
BEGIN:STANDARD
TZOFFSETFROM:-0400
TZOFFSETTO:-0500
TZNAME:EST
DTSTART:20191103T060000
END:STANDARD
END:VTIMEZONE
BEGIN:VEVENT
DTSTART;TZID=America/New_York:20180504T110000
DTEND;TZID=America/New_York:20180504T130000
DTSTAMP:20260420T194816
CREATED:20170803T102639Z
LAST-MODIFIED:20170803T102639Z
UID:6387-1525431600-1525438800@ubwp.buffalo.edu
SUMMARY:Java Junction
DESCRIPTION:Free Tim Horton’s coffee and doughnuts for graduate students in the GSA office.
URL:https://ubwp.buffalo.edu/gsa/event/java-junction-39/
LOCATION:GSA Conference Room\, 310A Student Union\, University at Buffalo\, Buffalo\, NY\, 14260\, United States
CATEGORIES:GSA Event
ATTACH;FMTTYPE=image/jpeg:https://ubwp.buffalo.edu/gsa/wp-content/uploads/sites/137/2013/08/java.jpg
ORGANIZER;CN="GSA Programming Coordinator":MAILTO:gsa-programming@buffalo.edu
END:VEVENT
BEGIN:VEVENT
DTSTART;TZID=America/New_York:20180504T200000
DTEND;TZID=America/New_York:20180504T230000
DTSTAMP:20260420T194816
CREATED:20180306T094423Z
LAST-MODIFIED:20180306T094423Z
UID:7296-1525464000-1525474800@ubwp.buffalo.edu
SUMMARY:Phantom of the Opera
DESCRIPTION:Tickets on sale April 2nd at the SBI Ticket Offices (221 Student Union and 135 Diefendorf Hall) for $25 each.  2 per UB ID.  Limited quantity available.  First come\, first served.
URL:https://ubwp.buffalo.edu/gsa/event/phantom-of-the-opera/
LOCATION:Shea’s Performing Arts Center\, 646 Main Street\, Buffalo\, NY\, 14202\, United States
CATEGORIES:GSA Event
ATTACH;FMTTYPE=image/jpeg:https://ubwp.buffalo.edu/gsa/wp-content/uploads/sites/137/2018/03/Phantom-of-the-Opera.jpg
ORGANIZER;CN="GSA Programming Coordinator":MAILTO:gsa-programming@buffalo.edu
END:VEVENT
BEGIN:VEVENT
DTSTART;TZID=America/New_York:20180507T170000
DTEND;TZID=America/New_York:20180507T190000
DTSTAMP:20260420T194817
CREATED:20180417T143223Z
LAST-MODIFIED:20180417T143223Z
UID:7623-1525712400-1525719600@ubwp.buffalo.edu
SUMMARY:Town Hall Meeting on Diversity and Inclusion Survey Results
DESCRIPTION:Please join the GSA\, SA\, and IDC for a Town Hall meeting on May 7 from 5-7 pm in SU 330 to discuss the results of our recent Diversity and Inclusion Survey. This will be an open space to discuss student concerns and ideas about how to best move forward.
URL:https://ubwp.buffalo.edu/gsa/event/7623/
LOCATION:330 Student Union\, 330 Student Union\, University at Buffalo\, Buffalo\, NY\, 14260\, United States
CATEGORIES:GSA Event,SA Event,University Event
END:VEVENT
BEGIN:VEVENT
DTSTART;VALUE=DATE:20180521
DTEND;VALUE=DATE:20180522
DTSTAMP:20260420T194817
CREATED:20180417T100614Z
LAST-MODIFIED:20180417T100614Z
UID:7581-1526860800-1526947199@ubwp.buffalo.edu
SUMMARY:Discount Buffalo Zoo Tickets Available
DESCRIPTION:Bring your family out for a day at the Buffalo Zoo! \nTickets can be used anytime between May 21st and December 31st. Tickets on sale at the SBI Ticket Offices (221 Student Union and 135 Diefendorf Hall) starting May 14th until July 31st (or until sold out) for $10 each. 2 per UB ID. Limited quantity available. First come\, first served.  *Tickets include $10 food voucher.*  All sales are non-refundable. \nSBI Ticket Office Summer Hours (starting Monday\, May 21st) \nNorth Campus (221 Student Union): Monday\, Wednesday and Thursday 11:00am – 3:00pm \nSouth Campus (135 Diefendorf Hall): Tuesday\, Wednesday and Thursday 11:00am – 3:00pm
URL:https://ubwp.buffalo.edu/gsa/event/discount-buffalo-zoo-tickets-available-2/
LOCATION:Buffalo Zoo\, 300 Parkside Ave.\, Buffalo\, NY\, 14214\, United States
CATEGORIES:GSA Event
ATTACH;FMTTYPE=image/jpeg:https://ubwp.buffalo.edu/gsa/wp-content/uploads/sites/137/2015/05/Buffalo-Zoo.jpg
ORGANIZER;CN="GSA Programming Coordinator":MAILTO:gsa-programming@buffalo.edu
END:VEVENT
END:VCALENDAR