BEGIN:VCALENDAR
VERSION:2.0
PRODID:-//Graduate Student Association - ECPv6.15.20//NONSGML v1.0//EN
CALSCALE:GREGORIAN
METHOD:PUBLISH
X-WR-CALNAME:Graduate Student Association
X-ORIGINAL-URL:https://ubwp.buffalo.edu/gsa
X-WR-CALDESC:Events for Graduate Student Association
REFRESH-INTERVAL;VALUE=DURATION:PT1H
X-Robots-Tag:noindex
X-PUBLISHED-TTL:PT1H
BEGIN:VTIMEZONE
TZID:America/New_York
BEGIN:DAYLIGHT
TZOFFSETFROM:-0500
TZOFFSETTO:-0400
TZNAME:EDT
DTSTART:20160313T070000
END:DAYLIGHT
BEGIN:STANDARD
TZOFFSETFROM:-0400
TZOFFSETTO:-0500
TZNAME:EST
DTSTART:20161106T060000
END:STANDARD
BEGIN:DAYLIGHT
TZOFFSETFROM:-0500
TZOFFSETTO:-0400
TZNAME:EDT
DTSTART:20170312T070000
END:DAYLIGHT
BEGIN:STANDARD
TZOFFSETFROM:-0400
TZOFFSETTO:-0500
TZNAME:EST
DTSTART:20171105T060000
END:STANDARD
BEGIN:DAYLIGHT
TZOFFSETFROM:-0500
TZOFFSETTO:-0400
TZNAME:EDT
DTSTART:20180311T070000
END:DAYLIGHT
BEGIN:STANDARD
TZOFFSETFROM:-0400
TZOFFSETTO:-0500
TZNAME:EST
DTSTART:20181104T060000
END:STANDARD
END:VTIMEZONE
BEGIN:VEVENT
DTSTART;VALUE=DATE:20171002
DTEND;VALUE=DATE:20171003
DTSTAMP:20260419T213552
CREATED:20170901T143940Z
LAST-MODIFIED:20170901T143940Z
UID:6599-1506902400-1506988799@ubwp.buffalo.edu
SUMMARY:Discount AMC Movie Tickets Available
DESCRIPTION:GSA will have discount AMC Movie Tickets available for sale on September 5th at the SBI Ticket Offices (221 Student Union and 135 Diefendorf Hall) for $6 each.  1 per UB ID.  Tickets can be used for all movies at AMC theatre locations.  Limited quantity available.  First come\, first served.
URL:https://ubwp.buffalo.edu/gsa/event/discount-amc-movie-tickets-available-13/
LOCATION:Buffalo\, United States
CATEGORIES:GSA Event
ATTACH;FMTTYPE=image/jpeg:https://ubwp.buffalo.edu/gsa/wp-content/uploads/sites/137/2015/09/AMC.jpg
ORGANIZER;CN="GSA Programming Coordinator":MAILTO:gsa-programming@buffalo.edu
END:VEVENT
BEGIN:VEVENT
DTSTART;TZID=America/New_York:20171004T183000
DTEND;TZID=America/New_York:20171004T213000
DTSTAMP:20260419T213552
CREATED:20170705T125423Z
LAST-MODIFIED:20170705T125423Z
UID:6219-1507141800-1507152600@ubwp.buffalo.edu
SUMMARY:October Senate Meeting
DESCRIPTION:GSA Senate meetings are open to the public\, but only designated representatives from Departmental and International clubs may vote. Sign-in begins at 6:00pm so that the meeting can begin promptly at 6:30pm.
URL:https://ubwp.buffalo.edu/gsa/event/october-senate-meeting-5/
LOCATION:330 Student Union\, 330 Student Union\, University at Buffalo\, Buffalo\, NY\, 14260\, United States
CATEGORIES:Administrative,GSA Event
ATTACH;FMTTYPE=image/jpeg:https://ubwp.buffalo.edu/gsa/wp-content/uploads/sites/137/2014/08/Gavel-and-Scale.jpg
ORGANIZER;CN="GSA Administrative Team":MAILTO:slfrank@buffalo.edu
END:VEVENT
BEGIN:VEVENT
DTSTART;TZID=America/New_York:20171006T110000
DTEND;TZID=America/New_York:20171006T130000
DTSTAMP:20260419T213552
CREATED:20170803T102000Z
LAST-MODIFIED:20170803T102000Z
UID:6375-1507287600-1507294800@ubwp.buffalo.edu
SUMMARY:Java Junction
DESCRIPTION:Free Tim Horton’s coffee and doughnuts for graduate students in the GSA office.
URL:https://ubwp.buffalo.edu/gsa/event/java-junction-33/
LOCATION:GSA Conference Room\, 310A Student Union\, University at Buffalo\, Buffalo\, NY\, 14260\, United States
CATEGORIES:GSA Event
ATTACH;FMTTYPE=image/jpeg:https://ubwp.buffalo.edu/gsa/wp-content/uploads/sites/137/2013/08/java.jpg
ORGANIZER;CN="GSA Programming Coordinator":MAILTO:gsa-programming@buffalo.edu
END:VEVENT
BEGIN:VEVENT
DTSTART;TZID=America/New_York:20171018T153000
DTEND;TZID=America/New_York:20171018T173000
DTSTAMP:20260419T213552
CREATED:20170901T151840Z
LAST-MODIFIED:20170901T151840Z
UID:6623-1508340600-1508347800@ubwp.buffalo.edu
SUMMARY:South Campus Siesta
DESCRIPTION:Free food and beverages for graduate students at South Campus.
URL:https://ubwp.buffalo.edu/gsa/event/south-campus-siesta-23/
LOCATION:105 Harriman Hall\, 105 Harriman Hall\, University at Buffalo\, Buffalo\, NY\, 14260\, United States
CATEGORIES:GSA Event
ATTACH;FMTTYPE=image/jpeg:https://ubwp.buffalo.edu/gsa/wp-content/uploads/sites/137/2015/01/South-Siesta2.jpg
ORGANIZER;CN="GSA Programming Coordinator":MAILTO:gsa-programming@buffalo.edu
END:VEVENT
BEGIN:VEVENT
DTSTART;TZID=America/New_York:20171022T130000
DTEND;TZID=America/New_York:20171022T170000
DTSTAMP:20260419T213552
CREATED:20170901T152304Z
LAST-MODIFIED:20170901T152304Z
UID:6625-1508677200-1508691600@ubwp.buffalo.edu
SUMMARY:Buffalo Bills Football Game vs. Tampa Bay Buccaneers
DESCRIPTION:Tickets on sale September 25th at the SBI Ticket Offices (221 Student Union and 135 Diefendorf Hall) for $25 each.  1 per UB ID.  Limited quantity available.  First come\, first served.
URL:https://ubwp.buffalo.edu/gsa/event/buffalo-bills-football-game-vs-tampa-bay-buccaneers/
LOCATION:Highmark Stadium\, 1 Bills Dr.\, Orchard Park\, 14127\, United States
CATEGORIES:GSA Event
ATTACH;FMTTYPE=image/jpeg:https://ubwp.buffalo.edu/gsa/wp-content/uploads/sites/137/2014/09/Buffalo-Bills.jpg
ORGANIZER;CN="GSA Programming Coordinator":MAILTO:gsa-programming@buffalo.edu
END:VEVENT
BEGIN:VEVENT
DTSTART;VALUE=DATE:20171025
DTEND;VALUE=DATE:20171026
DTSTAMP:20260419T213552
CREATED:20170705T134451Z
LAST-MODIFIED:20170705T134451Z
UID:6253-1508889600-1508975999@ubwp.buffalo.edu
SUMMARY:Club Recognition Application Deadline
DESCRIPTION:According to the mandate of the Graduate Student Association (GSA) Senate\, Special Interest and International Clubs must apply for annual recognition. Recognition must take place at one of the FALL GSA Senate Meetings (September 6\, October 4\, November 1 or December 6). \nAll application materials are due in the GSA office before the close of business to have your club’s recognition considered at the November 1st Senate Meeting.
URL:https://ubwp.buffalo.edu/gsa/event/club-recognition-application-deadline-17/
LOCATION:Buffalo\, United States
CATEGORIES:Administrative,GSA Event
ORGANIZER;CN="GSA Administrative Team":MAILTO:slfrank@buffalo.edu
END:VEVENT
END:VCALENDAR