BEGIN:VCALENDAR
VERSION:2.0
PRODID:-//Graduate Student Association - ECPv6.15.20//NONSGML v1.0//EN
CALSCALE:GREGORIAN
METHOD:PUBLISH
X-WR-CALNAME:Graduate Student Association
X-ORIGINAL-URL:https://ubwp.buffalo.edu/gsa
X-WR-CALDESC:Events for Graduate Student Association
REFRESH-INTERVAL;VALUE=DURATION:PT1H
X-Robots-Tag:noindex
X-PUBLISHED-TTL:PT1H
BEGIN:VTIMEZONE
TZID:America/New_York
BEGIN:DAYLIGHT
TZOFFSETFROM:-0500
TZOFFSETTO:-0400
TZNAME:EDT
DTSTART:20160313T070000
END:DAYLIGHT
BEGIN:STANDARD
TZOFFSETFROM:-0400
TZOFFSETTO:-0500
TZNAME:EST
DTSTART:20161106T060000
END:STANDARD
BEGIN:DAYLIGHT
TZOFFSETFROM:-0500
TZOFFSETTO:-0400
TZNAME:EDT
DTSTART:20170312T070000
END:DAYLIGHT
BEGIN:STANDARD
TZOFFSETFROM:-0400
TZOFFSETTO:-0500
TZNAME:EST
DTSTART:20171105T060000
END:STANDARD
BEGIN:DAYLIGHT
TZOFFSETFROM:-0500
TZOFFSETTO:-0400
TZNAME:EDT
DTSTART:20180311T070000
END:DAYLIGHT
BEGIN:STANDARD
TZOFFSETFROM:-0400
TZOFFSETTO:-0500
TZNAME:EST
DTSTART:20181104T060000
END:STANDARD
END:VTIMEZONE
BEGIN:VEVENT
DTSTART;TZID=America/New_York:20170901T110000
DTEND;TZID=America/New_York:20170901T130000
DTSTAMP:20260419T130956
CREATED:20170803T101858Z
LAST-MODIFIED:20170803T101858Z
UID:6373-1504263600-1504270800@ubwp.buffalo.edu
SUMMARY:Java Junction
DESCRIPTION:Free Tim Horton’s coffee and doughnuts for graduate students in the GSA office.
URL:https://ubwp.buffalo.edu/gsa/event/java-junction-32/
LOCATION:GSA Conference Room\, 310A Student Union\, University at Buffalo\, Buffalo\, NY\, 14260\, United States
CATEGORIES:GSA Event
ATTACH;FMTTYPE=image/jpeg:https://ubwp.buffalo.edu/gsa/wp-content/uploads/sites/137/2013/08/java.jpg
ORGANIZER;CN="GSA Programming Coordinator":MAILTO:gsa-programming@buffalo.edu
END:VEVENT
BEGIN:VEVENT
DTSTART;TZID=America/New_York:20170901T180000
DTEND;TZID=America/New_York:20170901T210000
DTSTAMP:20260419T130956
CREATED:20170711T100245Z
LAST-MODIFIED:20170711T100245Z
UID:6308-1504288800-1504299600@ubwp.buffalo.edu
SUMMARY:Welcome Back Bash
DESCRIPTION:Join the GSA as we celebrate the beginning of the new academic year! \nFriday\, September 1st from 6:00 – 9:00pm at the Canalside VIP Tent\n \n44 Prime St. Buffalo\, NY 14202 (Downtown Buffalo; use the Erie Canal Harbor Metro Rail Station) \nFree beer\, wine\, and food will be included\, along with a live DJ.  Tickets on sale August 7th at the SBI Ticket Offices (221 Student Union and 135 Diefendorf Hall) for $10 each/$12 at the door (if tickets are still available).  2 per UB ID.  Limited quantity available. \n*PLEASE NOTE* You will need to bring photo identification with proof of age in order to enter the tent!
URL:https://ubwp.buffalo.edu/gsa/event/welcome-back-bash-5/
LOCATION:Canalside VIP Tent\, 44 Prime St.\, Buffalo\, NY\, 14202\, United States
CATEGORIES:GSA Event
ATTACH;FMTTYPE=image/png:https://ubwp.buffalo.edu/gsa/wp-content/uploads/sites/137/2016/08/VIP-Tent-Cropped.png
ORGANIZER;CN="GSA Programming Coordinator":MAILTO:gsa-programming@buffalo.edu
END:VEVENT
BEGIN:VEVENT
DTSTART;VALUE=DATE:20170905
DTEND;VALUE=DATE:20170906
DTSTAMP:20260419T130956
CREATED:20170901T143312Z
LAST-MODIFIED:20170901T143312Z
UID:6592-1504569600-1504655999@ubwp.buffalo.edu
SUMMARY:Discount AMC Movie Tickets Available
DESCRIPTION:GSA will have discount AMC Movie Tickets available for sale on September 5th at the SBI Ticket Offices (221 Student Union and 135 Diefendorf Hall) for $6 each.  1 per UB ID.  Tickets can be used for all movies at AMC theatre locations.  Limited quantity available.  First come\, first served.
URL:https://ubwp.buffalo.edu/gsa/event/discount-amc-movie-tickets-available-12/
LOCATION:Buffalo\, United States
CATEGORIES:GSA Event
ATTACH;FMTTYPE=image/jpeg:https://ubwp.buffalo.edu/gsa/wp-content/uploads/sites/137/2015/09/AMC.jpg
ORGANIZER;CN="GSA Programming Coordinator":MAILTO:gsa-programming@buffalo.edu
END:VEVENT
BEGIN:VEVENT
DTSTART;TZID=America/New_York:20170906T183000
DTEND;TZID=America/New_York:20170906T213000
DTSTAMP:20260419T130956
CREATED:20170705T125313Z
LAST-MODIFIED:20170705T125313Z
UID:6217-1504722600-1504733400@ubwp.buffalo.edu
SUMMARY:September Senate Meeting
DESCRIPTION:GSA Senate meetings are open to the public\, but only designated representatives from Departmental and International clubs may vote. Sign-in begins at 6:00pm so that the meeting can begin promptly at 6:30pm.
URL:https://ubwp.buffalo.edu/gsa/event/september-senate-meeting-4/
LOCATION:330 Student Union\, 330 Student Union\, University at Buffalo\, Buffalo\, NY\, 14260\, United States
CATEGORIES:Administrative,GSA Event
ATTACH;FMTTYPE=image/jpeg:https://ubwp.buffalo.edu/gsa/wp-content/uploads/sites/137/2014/08/Gavel-and-Scale.jpg
ORGANIZER;CN="GSA Administrative Team":MAILTO:slfrank@buffalo.edu
END:VEVENT
BEGIN:VEVENT
DTSTART;TZID=America/New_York:20170919T193000
DTEND;TZID=America/New_York:20170919T230000
DTSTAMP:20260419T130956
CREATED:20170802T150331Z
LAST-MODIFIED:20170802T150331Z
UID:6353-1505849400-1505862000@ubwp.buffalo.edu
SUMMARY:Distinguished Speaker Series ~ Malala Yousafzai
DESCRIPTION:Malala Yousafzai | Sept. 19\, 2017\nFree tickets will be available for graduate students at the SBI Ticket Offices (221 Student Union and 135 Diefendorf Hall) starting on Thursday\, September 7th.  2 per UB ID. \n\n\nGirls Education Activist & Nobel Peace Prize Winner \n\n\nGraduate Student Choice Speaker\n\n\n\nMore About Malala Yousafzai\n\n\nA champion since the age of 10 for the right of girls to receive an education\, Malala Yousafzai made headlines when she was shot by the Taliban in 2012 at the age of 15 while traveling home from school on the bus with her friends in Pakistan. \nNow living with her family in Birmingham\, England\, she is internationally known for her courage in refusing to be silenced and continues to campaign for the right of every child to go to school. \nYousafzai is the co-recipient\, with Kailash Satyarthi\, of the 2014 Nobel Peace Prize. Aged 17 at the time\, she was the youngest-ever to receive the Nobel Peace Prize. \nIn April 2017\, Yousafzai received honorary Canadian citizenship.  The sixth and youngest person to receive the honor\, she also became the youngest person to address the House of Commons of Canada.  This year she also became the youngest United Nations Messenger of Peace.  Yousafzai was named to TIME Magazine’s annual list of the 100 most influential people in the world in 2013\, 2014 and 2015.  In 2012\, she was the recipient of Pakistan’s first National Youth Peace Prize and in 2013\, she received the Sakharov Prize and was honored with Amnesty International’s Ambassador of Conscience Award. \nShe is the author of “I Am Malala” (2013)\, an international bestseller that has been translated into 40 languages. \nFollowing the outpouring of support that Yousafzai received after the Taliban’s attempt on her life in 2012\, she set up an international fund – the Malala Fund – dedicated to promoting education for girls throughout the world. \n\n\n\n\nFor source or more information\, please visit:\n\n\n\n\n\n  CAA Speakers  \n\n\n  https://www.malala.org/   \n\n\n\n\n\n\nLecture Sponsor(s)\n\n\n\n\n\n  Girls Education Collaborative  \n\n\n  Center for Leadership & Organizational Effectiveness (UB School of Management)
URL:https://ubwp.buffalo.edu/gsa/event/distinguished-speaker-series-malala-yousafzai/
LOCATION:Alumni Arena\, Alumni Arena\, University at Buffalo\, Buffalo\, 14260
CATEGORIES:GSA Event,University Event
ATTACH;FMTTYPE=image/jpeg:https://ubwp.buffalo.edu/gsa/wp-content/uploads/sites/137/2017/08/Malala-Yousafzai.jpg
END:VEVENT
BEGIN:VEVENT
DTSTART;TZID=America/New_York:20170920T153000
DTEND;TZID=America/New_York:20170920T173000
DTSTAMP:20260419T130956
CREATED:20170816T141129Z
LAST-MODIFIED:20170816T141129Z
UID:6519-1505921400-1505928600@ubwp.buffalo.edu
SUMMARY:South Campus Siesta
DESCRIPTION:Free food and beverages for graduate students at South Campus.
URL:https://ubwp.buffalo.edu/gsa/event/south-campus-siesta-22/
LOCATION:105 Harriman Hall\, 105 Harriman Hall\, University at Buffalo\, Buffalo\, NY\, 14260\, United States
CATEGORIES:GSA Event
ATTACH;FMTTYPE=image/jpeg:https://ubwp.buffalo.edu/gsa/wp-content/uploads/sites/137/2015/01/South-Siesta2.jpg
ORGANIZER;CN="GSA Programming Coordinator":MAILTO:gsa-programming@buffalo.edu
END:VEVENT
BEGIN:VEVENT
DTSTART;VALUE=DATE:20170927
DTEND;VALUE=DATE:20170928
DTSTAMP:20260419T130956
CREATED:20170705T134404Z
LAST-MODIFIED:20170705T134404Z
UID:6250-1506470400-1506556799@ubwp.buffalo.edu
SUMMARY:Club Recognition Application Deadline
DESCRIPTION:According to the mandate of the Graduate Student Association (GSA) Senate\, Special Interest and International Clubs must apply for annual recognition. Recognition must take place at one of the FALL GSA Senate Meetings (September 6\, October 4\, November 1 or December 6). \nAll application materials are due in the GSA office before the close of business to have your club’s recognition considered at the October 4th Senate Meeting.
URL:https://ubwp.buffalo.edu/gsa/event/club-recognition-application-deadline-16/
LOCATION:Buffalo\, United States
CATEGORIES:Administrative,GSA Event
ORGANIZER;CN="GSA Administrative Team":MAILTO:slfrank@buffalo.edu
END:VEVENT
BEGIN:VEVENT
DTSTART;TZID=America/New_York:20170930T120000
DTEND;TZID=America/New_York:20170930T143000
DTSTAMP:20260419T130956
CREATED:20170816T141757Z
LAST-MODIFIED:20170816T141757Z
UID:6521-1506772800-1506781800@ubwp.buffalo.edu
SUMMARY:New York Beer Project Brewery Tour and Beer Tasting
DESCRIPTION:Tickets on sale August 28th at the SBI Ticket Offices (221 Student Union and 135 Diefendorf Hall) for $10 each.  2 per UB ID.  Tickets include 5 beer samples and snacks.  Please note that the brewery tour will start promptly at 12:00pm\, so plan to arrive early. \n*You will need photo ID showing proof of age for samples!*
URL:https://ubwp.buffalo.edu/gsa/event/new-york-beer-project-brewery-tour-and-beer-tasting/
LOCATION:New York Beer Project\, 6933 S. Transit Rd.\, Lockport\, NY\, 14094\, United States
CATEGORIES:GSA Event
ATTACH;FMTTYPE=image/jpeg:https://ubwp.buffalo.edu/gsa/wp-content/uploads/sites/137/2017/08/New-York-Beer-Project.jpg
ORGANIZER;CN="GSA Programming Coordinator":MAILTO:gsa-programming@buffalo.edu
END:VEVENT
END:VCALENDAR