BEGIN:VCALENDAR
VERSION:2.0
PRODID:-//Graduate Student Association - ECPv6.15.20//NONSGML v1.0//EN
CALSCALE:GREGORIAN
METHOD:PUBLISH
X-ORIGINAL-URL:https://ubwp.buffalo.edu/gsa
X-WR-CALDESC:Events for Graduate Student Association
REFRESH-INTERVAL;VALUE=DURATION:PT1H
X-Robots-Tag:noindex
X-PUBLISHED-TTL:PT1H
BEGIN:VTIMEZONE
TZID:America/New_York
BEGIN:DAYLIGHT
TZOFFSETFROM:-0500
TZOFFSETTO:-0400
TZNAME:EDT
DTSTART:20160313T070000
END:DAYLIGHT
BEGIN:STANDARD
TZOFFSETFROM:-0400
TZOFFSETTO:-0500
TZNAME:EST
DTSTART:20161106T060000
END:STANDARD
BEGIN:DAYLIGHT
TZOFFSETFROM:-0500
TZOFFSETTO:-0400
TZNAME:EDT
DTSTART:20170312T070000
END:DAYLIGHT
BEGIN:STANDARD
TZOFFSETFROM:-0400
TZOFFSETTO:-0500
TZNAME:EST
DTSTART:20171105T060000
END:STANDARD
BEGIN:DAYLIGHT
TZOFFSETFROM:-0500
TZOFFSETTO:-0400
TZNAME:EDT
DTSTART:20180311T070000
END:DAYLIGHT
BEGIN:STANDARD
TZOFFSETFROM:-0400
TZOFFSETTO:-0500
TZNAME:EST
DTSTART:20181104T060000
END:STANDARD
END:VTIMEZONE
BEGIN:VEVENT
DTSTART;TZID=America/New_York:20170301T183000
DTEND;TZID=America/New_York:20170301T213000
DTSTAMP:20260420T003632
CREATED:20160705T133721Z
LAST-MODIFIED:20160705T133721Z
UID:4657-1488393000-1488403800@ubwp.buffalo.edu
SUMMARY:March Senate Meeting
DESCRIPTION:GSA Senate meetings are open to the public\, but only designated representatives from Departmental and International clubs may vote. Sign-in begins at 6:00 pm so that the meeting can begin promptly at 6:30 pm.
URL:https://ubwp.buffalo.edu/gsa/event/march-senate-meeting-4/
LOCATION:330 Student Union\, 330 Student Union\, University at Buffalo\, Buffalo\, NY\, 14260\, United States
CATEGORIES:Administrative,GSA Event
ATTACH;FMTTYPE=image/jpeg:https://ubwp.buffalo.edu/gsa/wp-content/uploads/sites/137/2014/08/Gavel-and-Scale.jpg
ORGANIZER;CN="GSA Administrative Team":MAILTO:slfrank@buffalo.edu
END:VEVENT
BEGIN:VEVENT
DTSTART;TZID=America/New_York:20170303T110000
DTEND;TZID=America/New_York:20170303T130000
DTSTAMP:20260420T003632
CREATED:20160707T110929Z
LAST-MODIFIED:20160707T110929Z
UID:4729-1488538800-1488546000@ubwp.buffalo.edu
SUMMARY:Java Junction
DESCRIPTION:Free Tim Horton’s coffee and doughnuts for graduate students in the GSA office.
URL:https://ubwp.buffalo.edu/gsa/event/java-junction-29/
LOCATION:GSA Conference Room\, 310A Student Union\, University at Buffalo\, Buffalo\, NY\, 14260\, United States
CATEGORIES:GSA Event
ATTACH;FMTTYPE=image/jpeg:https://ubwp.buffalo.edu/gsa/wp-content/uploads/sites/137/2013/08/java.jpg
ORGANIZER;CN="GSA Programming Coordinator":MAILTO:gsa-programming@buffalo.edu
END:VEVENT
BEGIN:VEVENT
DTSTART;TZID=America/New_York:20170304T193000
DTEND;TZID=America/New_York:20170304T233000
DTSTAMP:20260420T003632
CREATED:20170125T113439Z
LAST-MODIFIED:20170125T113439Z
UID:5390-1488655800-1488670200@ubwp.buffalo.edu
SUMMARY:Mardi Gras Party
DESCRIPTION:Open Bar\, DJ\, Food and Prizes!! \nTickets on sale January 30th at the SBI Ticket Offices (221 Student Union and 350 Harriman Hall) for $20 each ($25 at the door if still available).  2 per UB ID.
URL:https://ubwp.buffalo.edu/gsa/event/mardi-gras-party-4/
LOCATION:Pearl Street Grill & Brewery\, 76 Pearl St.\, Buffalo\, NY\, 14202\, United States
CATEGORIES:GSA Event
ATTACH;FMTTYPE=image/jpeg:https://ubwp.buffalo.edu/gsa/wp-content/uploads/sites/137/2015/01/Mardi-Gras21.jpg
ORGANIZER;CN="GSA Programming Coordinator":MAILTO:gsa-programming@buffalo.edu
END:VEVENT
BEGIN:VEVENT
DTSTART;VALUE=DATE:20170306
DTEND;VALUE=DATE:20170307
DTSTAMP:20260420T003632
CREATED:20160816T141354Z
LAST-MODIFIED:20160816T141354Z
UID:4860-1488758400-1488844799@ubwp.buffalo.edu
SUMMARY:Discount AMC Movie Tickets Available
DESCRIPTION:GSA will have discount AMC Movie Tickets available for sale on September 6th at the SBI Ticket Offices (221 Student Union and 350 Harriman Hall) for $6 each.  1 per UB ID.  Tickets can be used for all movies at AMC theatre locations.  Limited quantity available.  First come\, first served.
URL:https://ubwp.buffalo.edu/gsa/event/discount-amc-movie-tickets-available-10/
LOCATION:NY
CATEGORIES:GSA Event
ATTACH;FMTTYPE=image/jpeg:https://ubwp.buffalo.edu/gsa/wp-content/uploads/sites/137/2015/09/AMC.jpg
ORGANIZER;CN="GSA Programming Coordinator":MAILTO:gsa-programming@buffalo.edu
END:VEVENT
BEGIN:VEVENT
DTSTART;TZID=America/New_York:20170311T190000
DTEND;TZID=America/New_York:20170311T220000
DTSTAMP:20260420T003632
CREATED:20170125T113740Z
LAST-MODIFIED:20170125T113740Z
UID:5391-1489258800-1489269600@ubwp.buffalo.edu
SUMMARY:Buffalo Sabres Hockey Game vs. Columbus Blue Jackets
DESCRIPTION:Tickets on sale February 6th at the SBI Ticket Offices (221 Student Union and 350 Harriman Hall) for $20 each.  2 per UB ID.  Limited quantity available.  First come\, first served.
URL:https://ubwp.buffalo.edu/gsa/event/buffalo-sabres-hockey-game-vs-columbus-blue-jackets/
LOCATION:Key Bank Center\, 1 Seymour H Knox III Plaza \, Buffalo\, NY\, 14203\, United States
CATEGORIES:GSA Event
ATTACH;FMTTYPE=image/jpeg:https://ubwp.buffalo.edu/gsa/wp-content/uploads/sites/137/2013/09/Buffalo-Sabres-New.jpg
ORGANIZER;CN="GSA Programming Coordinator":MAILTO:gsa-programming@buffalo.edu
END:VEVENT
BEGIN:VEVENT
DTSTART;TZID=America/New_York:20170316T160000
DTEND;TZID=America/New_York:20170316T180000
DTSTAMP:20260420T003632
CREATED:20170112T103920Z
LAST-MODIFIED:20170112T103920Z
UID:5359-1489680000-1489687200@ubwp.buffalo.edu
SUMMARY:South Campus Siesta
DESCRIPTION:Free food and beverages for graduate students at South Campus.
URL:https://ubwp.buffalo.edu/gsa/event/south-campus-siesta-20/
LOCATION:105 Harriman Hall\, 105 Harriman Hall\, University at Buffalo\, Buffalo\, NY\, 14260\, United States
CATEGORIES:GSA Event
ATTACH;FMTTYPE=image/jpeg:https://ubwp.buffalo.edu/gsa/wp-content/uploads/sites/137/2015/01/South-Siesta2.jpg
ORGANIZER;CN="GSA Programming Coordinator":MAILTO:gsa-programming@buffalo.edu
END:VEVENT
BEGIN:VEVENT
DTSTART;TZID=America/New_York:20170327T150000
DTEND;TZID=America/New_York:20170327T160000
DTSTAMP:20260420T003632
CREATED:20170307T144746Z
LAST-MODIFIED:20170307T144746Z
UID:5659-1490626800-1490630400@ubwp.buffalo.edu
SUMMARY:Town Hall Meeting on the GSA Budget
DESCRIPTION:RESCHEDULED  \nThe GSA is in the process of preparing the budget for the 2017-2018 fiscal year.  In order to balance the budget we will need to make some adjustments to our current allocations.  In order to discuss these proposed adjustments in full detail with the student body\, the E-board will be hosting a Town Hall Meeting on Wednesday\, March 15th from 2:00 – 3:00pm Monday\, March 27th 3:00 – 4:00pm in the GSA Conference Room (310 Student Union).  All graduate students are welcome and encouraged to attend.
URL:https://ubwp.buffalo.edu/gsa/event/town-hall-meeting-on-the-gsa-budget/
LOCATION:GSA Conference Room\, 310A Student Union\, University at Buffalo\, Buffalo\, NY\, 14260\, United States
CATEGORIES:GSA Event
ORGANIZER;CN="GSA Administrative Team":MAILTO:slfrank@buffalo.edu
END:VEVENT
BEGIN:VEVENT
DTSTART;TZID=America/New_York:20170328T120000
DTEND;TZID=America/New_York:20170328T133000
DTSTAMP:20260420T003632
CREATED:20170320T102849Z
LAST-MODIFIED:20170320T102849Z
UID:5717-1490702400-1490707800@ubwp.buffalo.edu
SUMMARY:Body Image\, Hunger\, and Difficult Women: Reading Roxane Gay
DESCRIPTION:Body Image\, Hunger\, and Difficult Women: Reading Roxane Gay  \nTue. Mar 28:   12:00-1:30 pm\, 210 SU\, The Landmark Room\, UB North    \nFree & Open to the Public \nPlease join us for a panel discussion as a prelude to the lecture by Roxane Gay\, UB Distinguished Speaker on April 5th. \nRoxane Gay is an author and cultural critic whose writing is unmatched and widely revered. Her work garners international acclaim for its reflective\, no-holds-barred exploration of feminism and social criticism. With a deft eye on modern culture\, she brilliantly critiques its ebb and flow with both wit and ferocity. Words like “courage\,” “humor\,” and “smart” are frequently deployed when describing Gay. Her collection of essays\, “Bad Feminist\,” was a New York Times best-seller and is universally considered the quintessential exploration of modern feminism. NPR named it one of the best books of the year and Salon declared the book “trailblazing.” Her powerful debut novel\, “An Untamed State\,” was long listed for the Flaherty-Dunnan First Novel Prize. She has two upcoming releases–“Hunger: A Memoir of (My) Body” is a painstaking examination of body image\, and “Difficult Women” is a collection of stories. \nSponsored by the Graduate Student Association\, UB Wellness Education\, UB Gender Institute: Sex\, Gender\, Health Committee.  Lunch will be served.
URL:https://ubwp.buffalo.edu/gsa/event/body-image-hunger-and-difficult-women-reading-roxane-gay/
LOCATION:210 Student Union\, 210 Student Union\, University at Buffalo\, Buffalo\, NY\, 14260\, United States
CATEGORIES:GSA Event,University Event
ORGANIZER;CN="GSA Administrative Team":MAILTO:slfrank@buffalo.edu
END:VEVENT
BEGIN:VEVENT
DTSTART;TZID=America/New_York:20170329T190000
DTEND;TZID=America/New_York:20170329T210000
DTSTAMP:20260420T003632
CREATED:20160705T135101Z
LAST-MODIFIED:20160705T135101Z
UID:4665-1490814000-1490821200@ubwp.buffalo.edu
SUMMARY:Finance Committee Meeting
DESCRIPTION:Finance Committee meetings are open to the public.  At this meeting the Finance Committee will be voting on the final drafts of the budgets to be presented to the GSA Senate on Tuesday\, April 4th.  Anyone interested in attending this meeting in order to voice their opinion should RSVP to the GSA Treasurer (gsa-treasurer@buffalo.edu) by 4:30pm on Monday\, March 27th. \nThis will be the final Finance Committee meeting of the year to review all group funding requests for events taking place between April and July.
URL:https://ubwp.buffalo.edu/gsa/event/finance-committee-meeting-28/
LOCATION:GSA Conference Room\, 310A Student Union\, University at Buffalo\, Buffalo\, NY\, 14260\, United States
CATEGORIES:Administrative,GSA Event
ORGANIZER;CN="GSA Treasurer":MAILTO:gsa-treasurer@buffalo.edu
END:VEVENT
END:VCALENDAR