BEGIN:VCALENDAR
VERSION:2.0
PRODID:-//Graduate Student Association - ECPv6.15.20//NONSGML v1.0//EN
CALSCALE:GREGORIAN
METHOD:PUBLISH
X-ORIGINAL-URL:https://ubwp.buffalo.edu/gsa
X-WR-CALDESC:Events for Graduate Student Association
REFRESH-INTERVAL;VALUE=DURATION:PT1H
X-Robots-Tag:noindex
X-PUBLISHED-TTL:PT1H
BEGIN:VTIMEZONE
TZID:America/New_York
BEGIN:DAYLIGHT
TZOFFSETFROM:-0500
TZOFFSETTO:-0400
TZNAME:EDT
DTSTART:20160313T070000
END:DAYLIGHT
BEGIN:STANDARD
TZOFFSETFROM:-0400
TZOFFSETTO:-0500
TZNAME:EST
DTSTART:20161106T060000
END:STANDARD
BEGIN:DAYLIGHT
TZOFFSETFROM:-0500
TZOFFSETTO:-0400
TZNAME:EDT
DTSTART:20170312T070000
END:DAYLIGHT
BEGIN:STANDARD
TZOFFSETFROM:-0400
TZOFFSETTO:-0500
TZNAME:EST
DTSTART:20171105T060000
END:STANDARD
BEGIN:DAYLIGHT
TZOFFSETFROM:-0500
TZOFFSETTO:-0400
TZNAME:EDT
DTSTART:20180311T070000
END:DAYLIGHT
BEGIN:STANDARD
TZOFFSETFROM:-0400
TZOFFSETTO:-0500
TZNAME:EST
DTSTART:20181104T060000
END:STANDARD
END:VTIMEZONE
BEGIN:VEVENT
DTSTART;TZID=America/New_York:20170201T100000
DTEND;TZID=America/New_York:20170201T110000
DTSTAMP:20260420T170244
CREATED:20170126T111956Z
LAST-MODIFIED:20170126T111956Z
UID:5398-1485943200-1485946800@ubwp.buffalo.edu
SUMMARY:MDRF Grant Application Workshop
DESCRIPTION:The Spring deadline for Mark Diamond Research Fund (MDRF) applications is Friday\, February 17\, 2017. Grant applications are for research to be conducted April 1\, 2017 to March 31\, 2018. The MDRF Director will be holding grant writing workshops on the dates below to go over the application\, instructions\, the review process and to answer any questions: \nTuesday\, January 31st at 2:00pm in 310 Student Union\nWednesday\, February 1st at 10:00am in 310 Student Union\nMonday\, February 6th at 10:00am in 310 Student Union \nIf you have any questions\, please contact Jennifer at gsa-mdrf@buffalo.edu. \n*PLEASE NOTE* The last day to have your application reviewed by the MDRF Director before submission is Monday\, February 13th.
URL:https://ubwp.buffalo.edu/gsa/event/mdrf-grant-application-workshop-19/
LOCATION:GSA Conference Room\, 310A Student Union\, University at Buffalo\, Buffalo\, NY\, 14260\, United States
CATEGORIES:GSA Event,MDRF
ORGANIZER;CN="MDRF Director":MAILTO:gsa-mdrf@buffalo.edu
END:VEVENT
BEGIN:VEVENT
DTSTART;TZID=America/New_York:20170201T183000
DTEND;TZID=America/New_York:20170201T213000
DTSTAMP:20260420T170244
CREATED:20160705T133621Z
LAST-MODIFIED:20160705T133621Z
UID:4656-1485973800-1485984600@ubwp.buffalo.edu
SUMMARY:February Senate Meeting
DESCRIPTION:GSA Senate meetings are open to the public\, but only designated representatives from Departmental and International clubs may vote. Sign-in begins at 6:00 pm so that the meeting can begin promptly at 6:30 pm.
URL:https://ubwp.buffalo.edu/gsa/event/february-senate-meeting-4/
LOCATION:330 Student Union\, 330 Student Union\, University at Buffalo\, Buffalo\, NY\, 14260\, United States
CATEGORIES:Administrative,GSA Event
ATTACH;FMTTYPE=image/jpeg:https://ubwp.buffalo.edu/gsa/wp-content/uploads/sites/137/2014/08/Gavel-and-Scale.jpg
ORGANIZER;CN="GSA Administrative Team":MAILTO:slfrank@buffalo.edu
END:VEVENT
BEGIN:VEVENT
DTSTART;TZID=America/New_York:20170203T110000
DTEND;TZID=America/New_York:20170203T130000
DTSTAMP:20260420T170244
CREATED:20160707T110846Z
LAST-MODIFIED:20160707T110846Z
UID:4728-1486119600-1486126800@ubwp.buffalo.edu
SUMMARY:Java Junction
DESCRIPTION:Free Tim Horton’s coffee and doughnuts for graduate students in the GSA office.
URL:https://ubwp.buffalo.edu/gsa/event/java-junction-28/
LOCATION:GSA Conference Room\, 310A Student Union\, University at Buffalo\, Buffalo\, NY\, 14260\, United States
CATEGORIES:GSA Event
ATTACH;FMTTYPE=image/jpeg:https://ubwp.buffalo.edu/gsa/wp-content/uploads/sites/137/2013/08/java.jpg
ORGANIZER;CN="GSA Programming Coordinator":MAILTO:gsa-programming@buffalo.edu
END:VEVENT
BEGIN:VEVENT
DTSTART;VALUE=DATE:20170206
DTEND;VALUE=DATE:20170207
DTSTAMP:20260420T170244
CREATED:20160816T141238Z
LAST-MODIFIED:20160816T141238Z
UID:4857-1486339200-1486425599@ubwp.buffalo.edu
SUMMARY:Discount AMC Movie Tickets Available
DESCRIPTION:GSA will have discount AMC Movie Tickets available for sale on September 6th at the SBI Ticket Offices (221 Student Union and 350 Harriman Hall) for $6 each.  1 per UB ID.  Tickets can be used for all movies at AMC theatre locations.  Limited quantity available.  First come\, first served.
URL:https://ubwp.buffalo.edu/gsa/event/discount-amc-movie-tickets-available-9/
LOCATION:NY
CATEGORIES:GSA Event
ATTACH;FMTTYPE=image/jpeg:https://ubwp.buffalo.edu/gsa/wp-content/uploads/sites/137/2015/09/AMC.jpg
ORGANIZER;CN="GSA Programming Coordinator":MAILTO:gsa-programming@buffalo.edu
END:VEVENT
BEGIN:VEVENT
DTSTART;TZID=America/New_York:20170206T100000
DTEND;TZID=America/New_York:20170206T110000
DTSTAMP:20260420T170244
CREATED:20170126T112120Z
LAST-MODIFIED:20170126T112120Z
UID:5399-1486375200-1486378800@ubwp.buffalo.edu
SUMMARY:MDRF Grant Application Workshop
DESCRIPTION:The Spring deadline for Mark Diamond Research Fund (MDRF) applications is Friday\, February 17\, 2017. Grant applications are for research to be conducted April 1\, 2017 to March 31\, 2018. The MDRF Director will be holding grant writing workshops on the dates below to go over the application\, instructions\, the review process and to answer any questions: \nTuesday\, January 31st at 2:00pm in 310 Student Union\nWednesday\, February 1st at 10:00am in 310 Student Union\nMonday\, February 6th at 10:00am in 310 Student Union \nIf you have any questions\, please contact Jennifer at gsa-mdrf@buffalo.edu. \n*PLEASE NOTE* The last day to have your application reviewed by the MDRF Director before submission is Monday\, February 13th.
URL:https://ubwp.buffalo.edu/gsa/event/mdrf-grant-application-workshop-20/
LOCATION:GSA Conference Room\, 310A Student Union\, University at Buffalo\, Buffalo\, NY\, 14260\, United States
CATEGORIES:GSA Event,MDRF
ORGANIZER;CN="MDRF Director":MAILTO:gsa-mdrf@buffalo.edu
END:VEVENT
BEGIN:VEVENT
DTSTART;TZID=America/New_York:20170209T160000
DTEND;TZID=America/New_York:20170209T180000
DTSTAMP:20260420T170244
CREATED:20170112T103822Z
LAST-MODIFIED:20170112T103822Z
UID:5358-1486656000-1486663200@ubwp.buffalo.edu
SUMMARY:South Campus Siesta
DESCRIPTION:Free food and beverages for graduate students at South Campus.
URL:https://ubwp.buffalo.edu/gsa/event/south-campus-siesta-19/
LOCATION:105 Harriman Hall\, 105 Harriman Hall\, University at Buffalo\, Buffalo\, NY\, 14260\, United States
CATEGORIES:GSA Event
ATTACH;FMTTYPE=image/jpeg:https://ubwp.buffalo.edu/gsa/wp-content/uploads/sites/137/2015/01/South-Siesta2.jpg
ORGANIZER;CN="GSA Programming Coordinator":MAILTO:gsa-programming@buffalo.edu
END:VEVENT
BEGIN:VEVENT
DTSTART;TZID=America/New_York:20170217T193000
DTEND;TZID=America/New_York:20170217T223000
DTSTAMP:20260420T170244
CREATED:20161207T115305Z
LAST-MODIFIED:20161207T115305Z
UID:5316-1487359800-1487370600@ubwp.buffalo.edu
SUMMARY:Buffalo Bandits Lacrosse Game vs. New England Black Wolves
DESCRIPTION:Tickets on sale January 18th at the SBI Ticket Offices (221 Student Union and 350 Harriman Hall) for $10 each.  2 per UB ID.
URL:https://ubwp.buffalo.edu/gsa/event/buffalo-bandits-lacrosse-game-vs-new-england-black-wolves/
LOCATION:Key Bank Center\, 1 Seymour H Knox III Plaza \, Buffalo\, NY\, 14203\, United States
CATEGORIES:GSA Event
ATTACH;FMTTYPE=image/jpeg:https://ubwp.buffalo.edu/gsa/wp-content/uploads/sites/137/2016/12/Buffalo-Bandits.jpg
ORGANIZER;CN="GSA Programming Coordinator":MAILTO:gsa-programming@buffalo.edu
END:VEVENT
BEGIN:VEVENT
DTSTART;TZID=America/New_York:20170222T190000
DTEND;TZID=America/New_York:20170222T210000
DTSTAMP:20260420T170244
CREATED:20160705T134948Z
LAST-MODIFIED:20160705T134948Z
UID:4664-1487790000-1487797200@ubwp.buffalo.edu
SUMMARY:Finance Committee Meeting
DESCRIPTION:Finance Committee meeting to review group funding requests for events to take place in March or later.
URL:https://ubwp.buffalo.edu/gsa/event/finance-committee-meeting-27/
LOCATION:GSA Conference Room\, 310A Student Union\, University at Buffalo\, Buffalo\, NY\, 14260\, United States
CATEGORIES:Administrative,GSA Event
ORGANIZER;CN="GSA Treasurer":MAILTO:gsa-treasurer@buffalo.edu
END:VEVENT
BEGIN:VEVENT
DTSTART;TZID=America/New_York:20170227T150000
DTEND;TZID=America/New_York:20170227T170000
DTSTAMP:20260420T170244
CREATED:20170209T103708Z
LAST-MODIFIED:20170209T103708Z
UID:5468-1488207600-1488214800@ubwp.buffalo.edu
SUMMARY:GSA Editorial Assistance Program ~ Writing Workshop
DESCRIPTION:Cost: Free for fee-paying graduate students (space is limited\, please RSVP no later than February 24 to gsaedit@buffalo.edu) \nPlease join your copy editors for a workshop on dissertation revision best practices\, with exercises drawn from our experience working with your papers. For the first hour\, editors will lead the group through a series of short lessons designed to help students locate errors in the future and on their own. The second hour will be devoted to one-on-one assistance with any current in-process work that students bring. Students may choose to stay for one or both portions of the workshop\, depending on availability and interest. \nAs this is our first workshop\, we are gauging interest through a reservation process. Space is limited\, and space will be granted to those on a first come\, first served basis. However\, depending on interest\, we may hold a second event for those unable to attend the first. Please direct all questions to the above email. \n— \nTo participate\, please email gsaedit@buffalo.edu as soon as possible to confirm your seat. On the day of the workshop\, please bring a printed chapter or article with you. We look forward to working with you.
URL:https://ubwp.buffalo.edu/gsa/event/gsa-editorial-assistance-program-writing-workshop/
LOCATION:GSA Conference Room\, 310A Student Union\, University at Buffalo\, Buffalo\, NY\, 14260\, United States
CATEGORIES:GSA Event
ORGANIZER;CN="GSA Editorial Assistance":MAILTO:gsaedit@buffalo.edu
END:VEVENT
END:VCALENDAR