BEGIN:VCALENDAR
VERSION:2.0
PRODID:-//Graduate Student Association - ECPv6.15.20//NONSGML v1.0//EN
CALSCALE:GREGORIAN
METHOD:PUBLISH
X-WR-CALNAME:Graduate Student Association
X-ORIGINAL-URL:https://ubwp.buffalo.edu/gsa
X-WR-CALDESC:Events for Graduate Student Association
REFRESH-INTERVAL;VALUE=DURATION:PT1H
X-Robots-Tag:noindex
X-PUBLISHED-TTL:PT1H
BEGIN:VTIMEZONE
TZID:America/New_York
BEGIN:DAYLIGHT
TZOFFSETFROM:-0500
TZOFFSETTO:-0400
TZNAME:EDT
DTSTART:20150308T070000
END:DAYLIGHT
BEGIN:STANDARD
TZOFFSETFROM:-0400
TZOFFSETTO:-0500
TZNAME:EST
DTSTART:20151101T060000
END:STANDARD
BEGIN:DAYLIGHT
TZOFFSETFROM:-0500
TZOFFSETTO:-0400
TZNAME:EDT
DTSTART:20160313T070000
END:DAYLIGHT
BEGIN:STANDARD
TZOFFSETFROM:-0400
TZOFFSETTO:-0500
TZNAME:EST
DTSTART:20161106T060000
END:STANDARD
BEGIN:DAYLIGHT
TZOFFSETFROM:-0500
TZOFFSETTO:-0400
TZNAME:EDT
DTSTART:20170312T070000
END:DAYLIGHT
BEGIN:STANDARD
TZOFFSETFROM:-0400
TZOFFSETTO:-0500
TZNAME:EST
DTSTART:20171105T060000
END:STANDARD
END:VTIMEZONE
BEGIN:VEVENT
DTSTART;TZID=America/New_York:20161102T183000
DTEND;TZID=America/New_York:20161102T213000
DTSTAMP:20260422T104324
CREATED:20160705T133114Z
LAST-MODIFIED:20160705T133114Z
UID:4654-1478111400-1478122200@ubwp.buffalo.edu
SUMMARY:November Senate Meeting
DESCRIPTION:GSA Senate meetings are open to the public\, but only designated representatives from Departmental and International clubs may vote. Sign-in begins at 6:00 pm so that the meeting can begin promptly at 6:30 pm.
URL:https://ubwp.buffalo.edu/gsa/event/november-senate-meeting-4/
LOCATION:330 Student Union\, 330 Student Union\, University at Buffalo\, Buffalo\, NY\, 14260\, United States
CATEGORIES:Administrative,GSA Event
ATTACH;FMTTYPE=image/jpeg:https://ubwp.buffalo.edu/gsa/wp-content/uploads/sites/137/2014/08/Gavel-and-Scale.jpg
ORGANIZER;CN="GSA Administrative Team":MAILTO:slfrank@buffalo.edu
END:VEVENT
BEGIN:VEVENT
DTSTART;TZID=America/New_York:20161104T110000
DTEND;TZID=America/New_York:20161104T130000
DTSTAMP:20260422T104324
CREATED:20160707T110533Z
LAST-MODIFIED:20160707T110533Z
UID:4726-1478257200-1478264400@ubwp.buffalo.edu
SUMMARY:Java Junction
DESCRIPTION:Free Tim Horton’s coffee and doughnuts for graduate students in the GSA office.
URL:https://ubwp.buffalo.edu/gsa/event/java-junction-26/
LOCATION:GSA Conference Room\, 310A Student Union\, University at Buffalo\, Buffalo\, NY\, 14260\, United States
CATEGORIES:GSA Event
ATTACH;FMTTYPE=image/jpeg:https://ubwp.buffalo.edu/gsa/wp-content/uploads/sites/137/2013/08/java.jpg
ORGANIZER;CN="GSA Programming Coordinator":MAILTO:gsa-programming@buffalo.edu
END:VEVENT
BEGIN:VEVENT
DTSTART;VALUE=DATE:20161107
DTEND;VALUE=DATE:20161108
DTSTAMP:20260422T104324
CREATED:20160816T141129Z
LAST-MODIFIED:20160816T141129Z
UID:4855-1478476800-1478563199@ubwp.buffalo.edu
SUMMARY:Discount AMC Movie Tickets Available
DESCRIPTION:  \n \nGSA will have discount AMC Movie Tickets available for sale on September 6th at the SBI Ticket Offices (221 Student Union and 350 Harriman Hall) for $6 each.  1 per UB ID.  Tickets can be used for all movies at AMC theatre locations.  Limited quantity available.  First come\, first served.
URL:https://ubwp.buffalo.edu/gsa/event/discount-amc-movie-tickets-available-8/
LOCATION:NY
CATEGORIES:GSA Event
ATTACH;FMTTYPE=image/jpeg:https://ubwp.buffalo.edu/gsa/wp-content/uploads/sites/137/2015/09/AMC.jpg
ORGANIZER;CN="GSA Programming Coordinator":MAILTO:gsa-programming@buffalo.edu
END:VEVENT
BEGIN:VEVENT
DTSTART;TZID=America/New_York:20161111T200000
DTEND;TZID=America/New_York:20161111T230000
DTSTAMP:20260422T104324
CREATED:20160927T092412Z
LAST-MODIFIED:20160927T092412Z
UID:5041-1478894400-1478905200@ubwp.buffalo.edu
SUMMARY:An American in Paris
DESCRIPTION:Tickets on sale October 10th at the SBI Ticket Offices (221 Student Union and 350 Harriman Hall) for $25 each.  2 per UB ID.  Limited quantity available.  First come\, first served.
URL:https://ubwp.buffalo.edu/gsa/event/an-american-in-paris/
LOCATION:Shea’s Performing Arts Center\, 646 Main Street\, Buffalo\, NY\, 14202\, United States
CATEGORIES:GSA Event
ATTACH;FMTTYPE=image/jpeg:https://ubwp.buffalo.edu/gsa/wp-content/uploads/sites/137/2016/09/An-American-in-Paris.jpg
ORGANIZER;CN="GSA Programming Coordinator":MAILTO:gsa-programming@buffalo.edu
END:VEVENT
BEGIN:VEVENT
DTSTART;TZID=America/New_York:20161118T160000
DTEND;TZID=America/New_York:20161118T180000
DTSTAMP:20260422T104324
CREATED:20160801T130241Z
LAST-MODIFIED:20160801T130241Z
UID:4821-1479484800-1479492000@ubwp.buffalo.edu
SUMMARY:South Campus Siesta
DESCRIPTION:Free food and beverages for graduate students at South Campus.
URL:https://ubwp.buffalo.edu/gsa/event/south-campus-siesta-18/
LOCATION:105 Harriman Hall\, 105 Harriman Hall\, University at Buffalo\, Buffalo\, NY\, 14260\, United States
CATEGORIES:GSA Event
ATTACH;FMTTYPE=image/jpeg:https://ubwp.buffalo.edu/gsa/wp-content/uploads/sites/137/2015/01/South-Siesta2.jpg
ORGANIZER;CN="GSA Programming Coordinator":MAILTO:gsa-programming@buffalo.edu
END:VEVENT
BEGIN:VEVENT
DTSTART;TZID=America/New_York:20161127T010000
DTEND;TZID=America/New_York:20161127T170000
DTSTAMP:20260422T104324
CREATED:20160816T135434Z
LAST-MODIFIED:20160816T135434Z
UID:4851-1480208400-1480266000@ubwp.buffalo.edu
SUMMARY:Buffalo Bills Football Game vs. Jacksonville Jaguars
DESCRIPTION:Tickets on sale October 31st at the SBI Ticket Offices (221 Student Union and 350 Harriman Hall) for $25 each.  1 per UB ID.  Limited quantity available.  First come\, first served.
URL:https://ubwp.buffalo.edu/gsa/event/buffalo-bills-football-game-vs-jacksonville-jaguars/
LOCATION:Ralph Wilson Stadium\, 1 Bills Dr.\, Orchard Park\, NY\, 14127\, United States
CATEGORIES:GSA Event
ATTACH;FMTTYPE=image/jpeg:https://ubwp.buffalo.edu/gsa/wp-content/uploads/sites/137/2014/09/Buffalo-Bills.jpg
ORGANIZER;CN="GSA Programming Coordinator":MAILTO:gsa-programming@buffalo.edu
END:VEVENT
BEGIN:VEVENT
DTSTART;VALUE=DATE:20161130
DTEND;VALUE=DATE:20161201
DTSTAMP:20260422T104324
CREATED:20160705T144544Z
LAST-MODIFIED:20160705T144544Z
UID:4696-1480464000-1480550399@ubwp.buffalo.edu
SUMMARY:Club Recognition Application Deadline
DESCRIPTION:According to the mandate of the Graduate Student Association (GSA) Senate\, Special Interest and International Clubs must apply for annual recognition. Recognition must take place at one of the FALL GSA Senate Meetings (September 7\, October 5\, November 2 or December 7). \nAll application materials are due in the GSA office before the close of business to have your club’s recognition considered at the December 7th Senate Meeting.
URL:https://ubwp.buffalo.edu/gsa/event/club-recognition-application-deadline-14/
LOCATION:NY
CATEGORIES:Administrative,GSA Event
ORGANIZER;CN="GSA Administrative Team":MAILTO:slfrank@buffalo.edu
END:VEVENT
END:VCALENDAR