BEGIN:VCALENDAR
VERSION:2.0
PRODID:-//Graduate Student Association - ECPv6.15.20//NONSGML v1.0//EN
CALSCALE:GREGORIAN
METHOD:PUBLISH
X-WR-CALNAME:Graduate Student Association
X-ORIGINAL-URL:https://ubwp.buffalo.edu/gsa
X-WR-CALDESC:Events for Graduate Student Association
REFRESH-INTERVAL;VALUE=DURATION:PT1H
X-Robots-Tag:noindex
X-PUBLISHED-TTL:PT1H
BEGIN:VTIMEZONE
TZID:America/New_York
BEGIN:DAYLIGHT
TZOFFSETFROM:-0500
TZOFFSETTO:-0400
TZNAME:EDT
DTSTART:20150308T070000
END:DAYLIGHT
BEGIN:STANDARD
TZOFFSETFROM:-0400
TZOFFSETTO:-0500
TZNAME:EST
DTSTART:20151101T060000
END:STANDARD
BEGIN:DAYLIGHT
TZOFFSETFROM:-0500
TZOFFSETTO:-0400
TZNAME:EDT
DTSTART:20160313T070000
END:DAYLIGHT
BEGIN:STANDARD
TZOFFSETFROM:-0400
TZOFFSETTO:-0500
TZNAME:EST
DTSTART:20161106T060000
END:STANDARD
BEGIN:DAYLIGHT
TZOFFSETFROM:-0500
TZOFFSETTO:-0400
TZNAME:EDT
DTSTART:20170312T070000
END:DAYLIGHT
BEGIN:STANDARD
TZOFFSETFROM:-0400
TZOFFSETTO:-0500
TZNAME:EST
DTSTART:20171105T060000
END:STANDARD
END:VTIMEZONE
BEGIN:VEVENT
DTSTART;VALUE=DATE:20160930
DTEND;VALUE=DATE:20161001
DTSTAMP:20260422T213626
CREATED:20160705T144816Z
LAST-MODIFIED:20160705T144816Z
UID:4698-1475193600-1475279999@ubwp.buffalo.edu
SUMMARY:Club Election and Activation Paperwork Deadline
DESCRIPTION:Deadline for updated Election and Club Activation Paperwork \nClub packets with all required forms are available in the GSA office.  All forms must be on file in the GSA office by 4:30pm on Friday\, September 30th or your funds will be frozen. \nFor Departmental Clubs: \nClub Data Form\nOfficer Election Verification Form\nSenate Election Verification Form\nNew Student Orientation Sign-In Sheet \nFor Special Interest and International Clubs that were Early Recognized: \nClub Data Form\nOfficer Election Verification Form\nSenate Election Verification Form (International Clubs Only)\nCopies of UB ID Cards for four (4) club officers\nCopies of UB ID Cards for six (6) club members\nList of Members
URL:https://ubwp.buffalo.edu/gsa/event/club-election-and-activation-paperwork-deadline-2/
LOCATION:NY
CATEGORIES:Administrative,GSA Event
ORGANIZER;CN="GSA Administrative Team":MAILTO:slfrank@buffalo.edu
END:VEVENT
BEGIN:VEVENT
DTSTART;TZID=America/New_York:20161001T130000
DTEND;TZID=America/New_York:20161001T153000
DTSTAMP:20260422T213626
CREATED:20160803T152618Z
LAST-MODIFIED:20160803T152618Z
UID:4830-1475326800-1475335800@ubwp.buffalo.edu
SUMMARY:Silo City Grain Elevator Tour
DESCRIPTION:Tickets on sale September 6th at the SBI Ticket Offices (221 Student Union and 350 Harriman Hall) for $15 each.  2 per UB ID. \nLimited quantity available.  First come\, first served. \n*PLEASE NOTE THAT THIS IS A WALKING TOUR TO THE TOP OF THE GRAIN ELEVATORS.  NOT FOR PEOPLE WITH A FEAR OF HEIGHTS.*
URL:https://ubwp.buffalo.edu/gsa/event/silo-city-grain-elevator-tour/
LOCATION:Silo City\, 120 Silo City Row\, Buffalo\, NY\, 14203
CATEGORIES:GSA Event
ATTACH;FMTTYPE=image/jpeg:https://ubwp.buffalo.edu/gsa/wp-content/uploads/sites/137/2016/08/Silo-City.jpg
ORGANIZER;CN="GSA Programming Coordinator":MAILTO:gsa-programming@buffalo.edu
END:VEVENT
BEGIN:VEVENT
DTSTART;VALUE=DATE:20161003
DTEND;VALUE=DATE:20161004
DTSTAMP:20260422T213626
CREATED:20160816T141017Z
LAST-MODIFIED:20160816T141017Z
UID:4853-1475452800-1475539199@ubwp.buffalo.edu
SUMMARY:Discount AMC Movie Tickets Available
DESCRIPTION:GSA will have discount AMC Movie Tickets available for sale on September 6th at the SBI Ticket Offices (221 Student Union and 350 Harriman Hall) for $6 each.  1 per UB ID.  Tickets can be used for all movies at AMC theatre locations.  Limited quantity available.  First come\, first served.
URL:https://ubwp.buffalo.edu/gsa/event/discount-amc-movie-tickets-available-7/
LOCATION:NY
CATEGORIES:GSA Event
ATTACH;FMTTYPE=image/jpeg:https://ubwp.buffalo.edu/gsa/wp-content/uploads/sites/137/2015/09/AMC.jpg
ORGANIZER;CN="GSA Programming Coordinator":MAILTO:gsa-programming@buffalo.edu
END:VEVENT
BEGIN:VEVENT
DTSTART;TZID=America/New_York:20161005T183000
DTEND;TZID=America/New_York:20161005T213000
DTSTAMP:20260422T213626
CREATED:20160705T132923Z
LAST-MODIFIED:20160705T132923Z
UID:4653-1475692200-1475703000@ubwp.buffalo.edu
SUMMARY:October Senate Meeting
DESCRIPTION:*PLEASE NOTE THE VENUE CHANGE FOR THE OCTOBER SENATE MEETING* \n STUDENT UNION THEATER  \nGSA Senate meetings are open to the public\, but only designated representatives from Departmental and International clubs may vote. Sign-in begins at 6:00 pm so that the meeting can begin promptly at 6:30 pm. \n 
URL:https://ubwp.buffalo.edu/gsa/event/october-senate-meeting-4/
LOCATION:Student Union Theater\, 201 Student Union\, University at Buffalo\, Buffalo\, NY\, 14260\, United States
CATEGORIES:Administrative,GSA Event
ATTACH;FMTTYPE=image/jpeg:https://ubwp.buffalo.edu/gsa/wp-content/uploads/sites/137/2014/08/Gavel-and-Scale.jpg
ORGANIZER;CN="GSA Administrative Team":MAILTO:slfrank@buffalo.edu
END:VEVENT
BEGIN:VEVENT
DTSTART;TZID=America/New_York:20161007T110000
DTEND;TZID=America/New_York:20161007T130000
DTSTAMP:20260422T213626
CREATED:20160707T110429Z
LAST-MODIFIED:20160707T110429Z
UID:4725-1475838000-1475845200@ubwp.buffalo.edu
SUMMARY:Java Junction
DESCRIPTION:Free Tim Horton’s coffee and doughnuts for graduate students in the GSA office.
URL:https://ubwp.buffalo.edu/gsa/event/java-junction-25/
LOCATION:GSA Conference Room\, 310A Student Union\, University at Buffalo\, Buffalo\, NY\, 14260\, United States
CATEGORIES:GSA Event
ATTACH;FMTTYPE=image/jpeg:https://ubwp.buffalo.edu/gsa/wp-content/uploads/sites/137/2013/08/java.jpg
ORGANIZER;CN="GSA Programming Coordinator":MAILTO:gsa-programming@buffalo.edu
END:VEVENT
BEGIN:VEVENT
DTSTART;TZID=America/New_York:20161012T100000
DTEND;TZID=America/New_York:20161012T120000
DTSTAMP:20260422T213626
CREATED:20160719T125940Z
LAST-MODIFIED:20160719T125940Z
UID:4750-1476266400-1476273600@ubwp.buffalo.edu
SUMMARY:Mandatory Officer Training Meeting
DESCRIPTION:In order to ensure that all club officers understand the system of encumbrances\, reimbursements\, special funding requests\, etc.\, the GSA Executive Committee sets up a series of special meetings for GSA club officers. \nThese meetings will review GSA club policies and guidelines\, and will outline your duties as officers. Please be advised that your attendance at one of these meetings is MANDATORY\, for club Presidents and Treasurers. Your other club officers and club members are welcome\, but this is a meeting for you. If you fail to attend\, your club’s budget for the year will be frozen. \nEach meeting will be about an hour and a half. Choose the meeting with the most convenient date and time from the following list: \nSept. 26 (Monday) 12:00 p.m. – 330 Student Union\, North Campus\nOct. 12 (Wednesday) 10:00 a.m. – 330 Student Union\, North Campus\nOct. 13 (Thursday) 7:00 p.m. – 330 Student Union\, North Campus\nOct. 14 (Friday) 4:00 p.m. – 105 Harriman Hall\, South Campus
URL:https://ubwp.buffalo.edu/gsa/event/mandatory-officer-training-meeting-10/
LOCATION:330 Student Union\, 330 Student Union\, University at Buffalo\, Buffalo\, NY\, 14260\, United States
CATEGORIES:Administrative,GSA Event
ORGANIZER;CN="GSA Administrative Team":MAILTO:slfrank@buffalo.edu
END:VEVENT
BEGIN:VEVENT
DTSTART;TZID=America/New_York:20161013T190000
DTEND;TZID=America/New_York:20161013T210000
DTSTAMP:20260422T213626
CREATED:20160719T130025Z
LAST-MODIFIED:20160719T130025Z
UID:4751-1476385200-1476392400@ubwp.buffalo.edu
SUMMARY:Mandatory Officer Training Meeting
DESCRIPTION:In order to ensure that all club officers understand the system of encumbrances\, reimbursements\, special funding requests\, etc.\, the GSA Executive Committee sets up a series of special meetings for GSA club officers. \nThese meetings will review GSA club policies and guidelines\, and will outline your duties as officers. Please be advised that your attendance at one of these meetings is MANDATORY\, for club Presidents and Treasurers. Your other club officers and club members are welcome\, but this is a meeting for you. If you fail to attend\, your club’s budget for the year will be frozen. \nEach meeting will be about an hour and a half. Choose the meeting with the most convenient date and time from the following list: \nSept. 26 (Monday) 12:00 p.m. – 330 Student Union\, North Campus\nOct. 12 (Wednesday) 10:00 a.m. – 330 Student Union\, North Campus\nOct. 13 (Thursday) 7:00 p.m. – 330 Student Union\, North Campus\nOct. 14 (Friday) 4:00 p.m. – 105 Harriman Hall\, South Campus
URL:https://ubwp.buffalo.edu/gsa/event/mandatory-officer-training-meeting-11/
LOCATION:330 Student Union\, 330 Student Union\, University at Buffalo\, Buffalo\, NY\, 14260\, United States
CATEGORIES:Administrative,GSA Event
ORGANIZER;CN="GSA Administrative Team":MAILTO:slfrank@buffalo.edu
END:VEVENT
BEGIN:VEVENT
DTSTART;TZID=America/New_York:20161014T160000
DTEND;TZID=America/New_York:20161014T180000
DTSTAMP:20260422T213626
CREATED:20160719T130105Z
LAST-MODIFIED:20160719T130105Z
UID:4752-1476460800-1476468000@ubwp.buffalo.edu
SUMMARY:Mandatory Officer Training Meeting
DESCRIPTION:In order to ensure that all club officers understand the system of encumbrances\, reimbursements\, special funding requests\, etc.\, the GSA Executive Committee sets up a series of special meetings for GSA club officers. \nThese meetings will review GSA club policies and guidelines\, and will outline your duties as officers. Please be advised that your attendance at one of these meetings is MANDATORY\, for club Presidents and Treasurers. Your other club officers and club members are welcome\, but this is a meeting for you. If you fail to attend\, your club’s budget for the year will be frozen. \nEach meeting will be about an hour and a half. Choose the meeting with the most convenient date and time from the following list: \nSept. 26 (Monday) 12:00 p.m. – 330 Student Union\, North Campus\nOct. 12 (Wednesday) 10:00 a.m. – 330 Student Union\, North Campus\nOct. 13 (Thursday) 7:00 p.m. – 330 Student Union\, North Campus\nOct. 14 (Friday) 4:00 p.m. – 105 Harriman Hall\, South Campus
URL:https://ubwp.buffalo.edu/gsa/event/mandatory-officer-training-meeting-12/
LOCATION:105 Harriman Hall\, 105 Harriman Hall\, University at Buffalo\, Buffalo\, NY\, 14260\, United States
CATEGORIES:Administrative,GSA Event
ORGANIZER;CN="GSA Administrative Team":MAILTO:slfrank@buffalo.edu
END:VEVENT
BEGIN:VEVENT
DTSTART;TZID=America/New_York:20161016T110000
DTEND;TZID=America/New_York:20161016T163000
DTSTAMP:20260422T213626
CREATED:20160913T110818Z
LAST-MODIFIED:20160913T110818Z
UID:4945-1476615600-1476635400@ubwp.buffalo.edu
SUMMARY:GSA Wine Tour
DESCRIPTION:Tickets include transportation to and from UB\, wine tastings at three Lockport area wineries (Victorianbourg Wine Estate\, Schulze Vineyards\, and Black Willow Winery)\, and lunch (various subs and snacks from Wegman’s).  Tickets on sale September 19th at the SBI Ticket Offices (221 Student Union and 350 Harriman Hall) for $20 each.  2 per UB ID. \nWe will be meeting in the Alumni Arena Parking Lot at 10:30am and the bus will be leaving at 11:00am SHARP!  Please note that the return time (4:30pm) is approximate and may vary.  NO REFUNDS FOR LATE ARRIVALS!
URL:https://ubwp.buffalo.edu/gsa/event/gsa-wine-tour-2/
LOCATION:NY
CATEGORIES:GSA Event
ATTACH;FMTTYPE=image/jpeg:https://ubwp.buffalo.edu/gsa/wp-content/uploads/sites/137/2015/09/Wine-Tour2.jpg
ORGANIZER;CN="GSA Programming Coordinator":MAILTO:gsa-programming@buffalo.edu
END:VEVENT
BEGIN:VEVENT
DTSTART;TZID=America/New_York:20161020T150000
DTEND;TZID=America/New_York:20161020T163000
DTSTAMP:20260422T213626
CREATED:20161006T145210Z
LAST-MODIFIED:20161006T145210Z
UID:5121-1476975600-1476981000@ubwp.buffalo.edu
SUMMARY:Town Hall Meeting on MDRF Committee Recommendations
DESCRIPTION:The GSA Officers will be holding a Town Hall meeting in order to discuss the recommendations presented to the GSA Senate by the Mark Diamond Research Fund (MDRF) Committee for changes to be made to the MDRF and its current policies.  If you are interested in contributing to the discussion and voicing your opinion on the proposals included in the MDRF Committee Final Report\, please attend the meeting on Thursday\, October 20th from 3:00 to 4:30pm in 310 Student Union.  The GSA Senate will continue this discussion at the November 2nd meeting and the final vote on these recommendations will be made at the December 7th meeting.  Senate meetings are open to the public\, however please note that only elected Senators and Alternates are eligible to vote. \n 
URL:https://ubwp.buffalo.edu/gsa/event/town-hall-meeting-on-mdrf-recommendations/
LOCATION:GSA Conference Room\, 310A Student Union\, University at Buffalo\, Buffalo\, NY\, 14260\, United States
CATEGORIES:GSA Event
ORGANIZER;CN="GSA Administrative Team":MAILTO:slfrank@buffalo.edu
END:VEVENT
BEGIN:VEVENT
DTSTART;TZID=America/New_York:20161021T160000
DTEND;TZID=America/New_York:20161021T180000
DTSTAMP:20260422T213626
CREATED:20160801T130146Z
LAST-MODIFIED:20160801T130146Z
UID:4820-1477065600-1477072800@ubwp.buffalo.edu
SUMMARY:South Campus Siesta
DESCRIPTION:Free food and beverages for graduate students at South Campus.
URL:https://ubwp.buffalo.edu/gsa/event/south-campus-siesta-17/
LOCATION:105 Harriman Hall\, 105 Harriman Hall\, University at Buffalo\, Buffalo\, NY\, 14260\, United States
CATEGORIES:GSA Event
ATTACH;FMTTYPE=image/jpeg:https://ubwp.buffalo.edu/gsa/wp-content/uploads/sites/137/2015/01/South-Siesta2.jpg
ORGANIZER;CN="GSA Programming Coordinator":MAILTO:gsa-programming@buffalo.edu
END:VEVENT
BEGIN:VEVENT
DTSTART;VALUE=DATE:20161026
DTEND;VALUE=DATE:20161027
DTSTAMP:20260422T213626
CREATED:20160705T144504Z
LAST-MODIFIED:20160705T144504Z
UID:4694-1477440000-1477526399@ubwp.buffalo.edu
SUMMARY:Club Recognition Application Deadline
DESCRIPTION:According to the mandate of the Graduate Student Association (GSA) Senate\, Special Interest and International Clubs must apply for annual recognition. Recognition must take place at one of the FALL GSA Senate Meetings (September 7\, October 5\, November 2 or December 7). \nAll application materials are due in the GSA office before the close of business to have your club’s recognition considered at the November 2nd Senate Meeting.
URL:https://ubwp.buffalo.edu/gsa/event/club-recognition-application-deadline-13/
LOCATION:NY
CATEGORIES:Administrative,GSA Event
ORGANIZER;CN="GSA Administrative Team":MAILTO:slfrank@buffalo.edu
END:VEVENT
BEGIN:VEVENT
DTSTART;TZID=America/New_York:20161026T190000
DTEND;TZID=America/New_York:20161026T210000
DTSTAMP:20260422T213626
CREATED:20160705T134606Z
LAST-MODIFIED:20160705T134606Z
UID:4661-1477508400-1477515600@ubwp.buffalo.edu
SUMMARY:Finance Committee Meeting
DESCRIPTION:Finance Committee meeting to review group funding requests for events to take place in November or later.
URL:https://ubwp.buffalo.edu/gsa/event/finance-committee-meeting-24/
LOCATION:GSA Conference Room\, 310A Student Union\, University at Buffalo\, Buffalo\, NY\, 14260\, United States
CATEGORIES:Administrative,GSA Event
ORGANIZER;CN="GSA Treasurer":MAILTO:gsa-treasurer@buffalo.edu
END:VEVENT
BEGIN:VEVENT
DTSTART;TZID=America/New_York:20161028T180000
DTEND;TZID=America/New_York:20161028T200000
DTSTAMP:20260422T213626
CREATED:20160913T112302Z
LAST-MODIFIED:20160913T112302Z
UID:4947-1477677600-1477684800@ubwp.buffalo.edu
SUMMARY:Monster Mini Golf and Costume Competition
DESCRIPTION:Come in costume and enjoy a night of mini-golf with the GSA!  Tickets on sale October 3rd at the SBI Ticket Offices (221 Student Union and 350 Harriman Hall) for $10 each.  2 per UB ID. \nPizza and wings will be included.  Prizes will be given out for the best\, scariest\, and most creative costumes.
URL:https://ubwp.buffalo.edu/gsa/event/monster-mini-golf-and-costume-competition/
LOCATION:Monster Mini Golf\, 3386 Sheridan Dr.\, Buffalo\, NY\, 14226\, United States
CATEGORIES:GSA Event
ATTACH;FMTTYPE=image/jpeg:https://ubwp.buffalo.edu/gsa/wp-content/uploads/sites/137/2016/09/Monster-Mini-Golf.jpg
ORGANIZER;CN="GSA Programming Coordinator":MAILTO:gsa-programming@buffalo.edu
END:VEVENT
END:VCALENDAR