BEGIN:VCALENDAR
VERSION:2.0
PRODID:-//Graduate Student Association - ECPv6.15.20//NONSGML v1.0//EN
CALSCALE:GREGORIAN
METHOD:PUBLISH
X-WR-CALNAME:Graduate Student Association
X-ORIGINAL-URL:https://ubwp.buffalo.edu/gsa
X-WR-CALDESC:Events for Graduate Student Association
REFRESH-INTERVAL;VALUE=DURATION:PT1H
X-Robots-Tag:noindex
X-PUBLISHED-TTL:PT1H
BEGIN:VTIMEZONE
TZID:America/New_York
BEGIN:DAYLIGHT
TZOFFSETFROM:-0500
TZOFFSETTO:-0400
TZNAME:EDT
DTSTART:20150308T070000
END:DAYLIGHT
BEGIN:STANDARD
TZOFFSETFROM:-0400
TZOFFSETTO:-0500
TZNAME:EST
DTSTART:20151101T060000
END:STANDARD
BEGIN:DAYLIGHT
TZOFFSETFROM:-0500
TZOFFSETTO:-0400
TZNAME:EDT
DTSTART:20160313T070000
END:DAYLIGHT
BEGIN:STANDARD
TZOFFSETFROM:-0400
TZOFFSETTO:-0500
TZNAME:EST
DTSTART:20161106T060000
END:STANDARD
BEGIN:DAYLIGHT
TZOFFSETFROM:-0500
TZOFFSETTO:-0400
TZNAME:EDT
DTSTART:20170312T070000
END:DAYLIGHT
BEGIN:STANDARD
TZOFFSETFROM:-0400
TZOFFSETTO:-0500
TZNAME:EST
DTSTART:20171105T060000
END:STANDARD
END:VTIMEZONE
BEGIN:VEVENT
DTSTART;VALUE=DATE:20160831
DTEND;VALUE=DATE:20160901
DTSTAMP:20260423T015521
CREATED:20160705T144317Z
LAST-MODIFIED:20160705T144317Z
UID:4690-1472601600-1472687999@ubwp.buffalo.edu
SUMMARY:Club Recognition Application Deadline
DESCRIPTION:According to the mandate of the Graduate Student Association (GSA) Senate\, Special Interest and International Clubs must apply for annual recognition. Recognition must take place at one of the FALL GSA Senate Meetings (September 7\, October 5\, November 2 or December 7). \nAll application materials are due in the GSA office before the close of business to have your club’s recognition considered at the September 7th Senate Meeting.
URL:https://ubwp.buffalo.edu/gsa/event/club-recognition-application-deadline-11/
LOCATION:NY
CATEGORIES:Administrative,GSA Event
ORGANIZER;CN="GSA Administrative Team":MAILTO:slfrank@buffalo.edu
END:VEVENT
BEGIN:VEVENT
DTSTART;TZID=America/New_York:20160831T190000
DTEND;TZID=America/New_York:20160831T210000
DTSTAMP:20260423T015521
CREATED:20160705T134155Z
LAST-MODIFIED:20160705T134155Z
UID:4659-1472670000-1472677200@ubwp.buffalo.edu
SUMMARY:Finance Committee Meeting
DESCRIPTION:Finance Committee meeting to review group funding requests for events to take place in September or later.
URL:https://ubwp.buffalo.edu/gsa/event/finance-committee-meeting-22/
LOCATION:GSA Conference Room\, 310A Student Union\, University at Buffalo\, Buffalo\, NY\, 14260\, United States
CATEGORIES:Administrative,GSA Event
ORGANIZER;CN="GSA Treasurer":MAILTO:gsa-treasurer@buffalo.edu
END:VEVENT
BEGIN:VEVENT
DTSTART;TZID=America/New_York:20160902T110000
DTEND;TZID=America/New_York:20160902T130000
DTSTAMP:20260423T015521
CREATED:20160707T110319Z
LAST-MODIFIED:20160707T110319Z
UID:4722-1472814000-1472821200@ubwp.buffalo.edu
SUMMARY:Java Junction
DESCRIPTION:Free Tim Horton’s coffee and doughnuts for graduate students in the GSA office.
URL:https://ubwp.buffalo.edu/gsa/event/java-junction-24/
LOCATION:GSA Conference Room\, 310A Student Union\, University at Buffalo\, Buffalo\, NY\, 14260\, United States
CATEGORIES:GSA Event
ATTACH;FMTTYPE=image/jpeg:https://ubwp.buffalo.edu/gsa/wp-content/uploads/sites/137/2013/08/java.jpg
ORGANIZER;CN="GSA Programming Coordinator":MAILTO:gsa-programming@buffalo.edu
END:VEVENT
BEGIN:VEVENT
DTSTART;TZID=America/New_York:20160902T180000
DTEND;TZID=America/New_York:20160902T210000
DTSTAMP:20260423T015521
CREATED:20160801T122959Z
LAST-MODIFIED:20160801T122959Z
UID:4812-1472839200-1472850000@ubwp.buffalo.edu
SUMMARY:Welcome Back Bash
DESCRIPTION:Join the GSA as we celebrate the beginning of the new academic year! \nFriday\, September 2nd from 6 – 9pm at the Canalside VIP Tent\n \n44 Prime St. Buffalo\, NY 14202 (Downtown Buffalo; use the Erie Canal Harbor Metro Rail Station) \nFree beer\, wine\, pizza and pasta will be included\, along with a live DJ.  Tickets on sale August 15th at the SBI Ticket Offices (221 Student Union and 350 Harriman Hall) for $10 each/$12 at the door (if tickets are still available).  2 per UB ID.  Limited quantity available. \n*PLEASE NOTE* You will need to bring photo identification with proof of age in order to enter the tent! \n  \nSBI Ticket Office Summer Office Hours (updated July 11th): \nNorth Campus (221 Student Union): Tuesday\, Wednesday\, Thursday: 12:00 – 3:00pm \nSouth Campus (350 Harriman Hall): Monday: 10:00am – 3:00pm and Tuesday: 10:00am – 1:00pm \n 
URL:https://ubwp.buffalo.edu/gsa/event/welcome-back-bash-4/
LOCATION:Canalside VIP Tent\, 44 Prime St.\, Buffalo\, NY\, 14202\, United States
CATEGORIES:GSA Event
ORGANIZER;CN="GSA Programming Coordinator":MAILTO:gsa-programming@buffalo.edu
END:VEVENT
BEGIN:VEVENT
DTSTART;VALUE=DATE:20160906
DTEND;VALUE=DATE:20160907
DTSTAMP:20260423T015521
CREATED:20160803T150857Z
LAST-MODIFIED:20160803T150857Z
UID:4824-1473120000-1473206399@ubwp.buffalo.edu
SUMMARY:Discount AMC Movie Tickets Available
DESCRIPTION:GSA will have discount AMC Movie Tickets available for sale on September 6th at the SBI Ticket Offices (221 Student Union and 350 Harriman Hall) for $6 each.  1 per UB ID.  Tickets can be used for all movies at AMC theatre locations.  Limited quantity available.  First come\, first served.
URL:https://ubwp.buffalo.edu/gsa/event/discount-amc-movie-tickets-available-6/
LOCATION:NY
CATEGORIES:GSA Event
ATTACH;FMTTYPE=image/jpeg:https://ubwp.buffalo.edu/gsa/wp-content/uploads/sites/137/2015/09/AMC.jpg
ORGANIZER;CN="GSA Programming Coordinator":MAILTO:gsa-programming@buffalo.edu
END:VEVENT
BEGIN:VEVENT
DTSTART;TZID=America/New_York:20160907T183000
DTEND;TZID=America/New_York:20160907T213000
DTSTAMP:20260423T015521
CREATED:20160705T132743Z
LAST-MODIFIED:20160705T132743Z
UID:4652-1473273000-1473283800@ubwp.buffalo.edu
SUMMARY:September Senate Meeting
DESCRIPTION:GSA Senate meetings are open to the public\, but only designated representatives from Departmental and International clubs may vote. Sign-in begins at 6:00 pm so that the meeting can begin promptly at 6:30 pm.
URL:https://ubwp.buffalo.edu/gsa/event/september-senate-meeting-3/
LOCATION:330 Student Union\, 330 Student Union\, University at Buffalo\, Buffalo\, NY\, 14260\, United States
CATEGORIES:Administrative,GSA Event
ATTACH;FMTTYPE=image/jpeg:https://ubwp.buffalo.edu/gsa/wp-content/uploads/sites/137/2014/08/Gavel-and-Scale.jpg
ORGANIZER;CN="GSA Administrative Team":MAILTO:slfrank@buffalo.edu
END:VEVENT
BEGIN:VEVENT
DTSTART;TZID=America/New_York:20160916T160000
DTEND;TZID=America/New_York:20160916T180000
DTSTAMP:20260423T015521
CREATED:20160801T125840Z
LAST-MODIFIED:20160801T125840Z
UID:4817-1474041600-1474048800@ubwp.buffalo.edu
SUMMARY:South Campus Siesta
DESCRIPTION:Free food and beverages for graduate students at South Campus.
URL:https://ubwp.buffalo.edu/gsa/event/south-campus-siesta-16/
LOCATION:105 Harriman Hall\, 105 Harriman Hall\, University at Buffalo\, Buffalo\, NY\, 14260\, United States
CATEGORIES:GSA Event
ATTACH;FMTTYPE=image/jpeg:https://ubwp.buffalo.edu/gsa/wp-content/uploads/sites/137/2015/01/South-Siesta2.jpg
ORGANIZER;CN="GSA Programming Coordinator":MAILTO:gsa-programming@buffalo.edu
END:VEVENT
BEGIN:VEVENT
DTSTART;TZID=America/New_York:20160917T120000
DTEND;TZID=America/New_York:20160917T150000
DTSTAMP:20260423T015522
CREATED:20160803T152209Z
LAST-MODIFIED:20160803T152209Z
UID:4828-1474113600-1474124400@ubwp.buffalo.edu
SUMMARY:Brewery Tour and Beer Tasting
DESCRIPTION:Tickets include a tour of the facility\, 4 beer samplings\, and snacks. \nTickets on sale August 29th at the SBI Ticket Offices (221 Student Union and 350 Harriman Hall) for $12 each.  2 per UB ID. \nLimited quantity available.  First come\, first served. \n*PLEASE NOTE THAT YOU WILL NEED PHOTO ID FOR PROOF OF AGE FOR SAMPLES*
URL:https://ubwp.buffalo.edu/gsa/event/brewery-tour-and-beer-tasting/
LOCATION:Big Ditch Brewery\, 55 E. Huron St.\, Buffalo\, NY\, 14203\, United States
CATEGORIES:GSA Event
ATTACH;FMTTYPE=image/jpeg:https://ubwp.buffalo.edu/gsa/wp-content/uploads/sites/137/2016/08/Big-Ditch-Brewery.jpg
ORGANIZER;CN="GSA Programming Coordinator":MAILTO:gsa-programming@buffalo.edu
END:VEVENT
BEGIN:VEVENT
DTSTART;TZID=America/New_York:20160926T120000
DTEND;TZID=America/New_York:20160926T140000
DTSTAMP:20260423T015522
CREATED:20160719T125851Z
LAST-MODIFIED:20160719T125851Z
UID:4749-1474891200-1474898400@ubwp.buffalo.edu
SUMMARY:Mandatory Officer Training Meeting
DESCRIPTION:In order to ensure that all club officers understand the system of encumbrances\, reimbursements\, special funding requests\, etc.\, the GSA Executive Committee sets up a series of special meetings for GSA club officers. \nThese meetings will review GSA club policies and guidelines\, and will outline your duties as officers. Please be advised that your attendance at one of these meetings is MANDATORY\, for club Presidents and Treasurers. Your other club officers and club members are welcome\, but this is a meeting for you. If you fail to attend\, your club’s budget for the year will be frozen. \nEach meeting will be about an hour and a half. Choose the meeting with the most convenient date and time from the following list: \nSept. 26 (Monday) 12:00 p.m. – 330 Student Union\, North Campus\nOct. 12 (Wednesday) 10:00 a.m. – 330 Student Union\, North Campus\nOct. 13 (Thursday) 7:00 p.m. – 330 Student Union\, North Campus\nOct. 14 (Friday) 4:00 p.m. – 105 Harriman Hall\, South Campus
URL:https://ubwp.buffalo.edu/gsa/event/mandatory-officer-training-meeting-9/
LOCATION:330 Student Union\, 330 Student Union\, University at Buffalo\, Buffalo\, NY\, 14260\, United States
CATEGORIES:Administrative,GSA Event
ORGANIZER;CN="GSA Administrative Team":MAILTO:slfrank@buffalo.edu
END:VEVENT
BEGIN:VEVENT
DTSTART;VALUE=DATE:20160928
DTEND;VALUE=DATE:20160929
DTSTAMP:20260423T015522
CREATED:20160705T144405Z
LAST-MODIFIED:20160705T144405Z
UID:4692-1475020800-1475107199@ubwp.buffalo.edu
SUMMARY:Club Recognition Application Deadline
DESCRIPTION:According to the mandate of the Graduate Student Association (GSA) Senate\, Special Interest and International Clubs must apply for annual recognition. Recognition must take place at one of the FALL GSA Senate Meetings (September 7\, October 5\, November 2 or December 7). \nAll application materials are due in the GSA office before the close of business to have your club’s recognition considered at the October 5th Senate Meeting.
URL:https://ubwp.buffalo.edu/gsa/event/club-recognition-application-deadline-12/
LOCATION:NY
CATEGORIES:Administrative,GSA Event
ORGANIZER;CN="GSA Administrative Team":MAILTO:slfrank@buffalo.edu
END:VEVENT
BEGIN:VEVENT
DTSTART;TZID=America/New_York:20160928T190000
DTEND;TZID=America/New_York:20160928T210000
DTSTAMP:20260423T015522
CREATED:20160705T134339Z
LAST-MODIFIED:20160705T134339Z
UID:4660-1475089200-1475096400@ubwp.buffalo.edu
SUMMARY:Finance Committee Meeting
DESCRIPTION:Finance Committee meeting to review group funding requests for events to take place in October or later.
URL:https://ubwp.buffalo.edu/gsa/event/finance-committee-meeting-23/
LOCATION:GSA Conference Room\, 310A Student Union\, University at Buffalo\, Buffalo\, NY\, 14260\, United States
CATEGORIES:Administrative,GSA Event
ORGANIZER;CN="GSA Treasurer":MAILTO:gsa-treasurer@buffalo.edu
END:VEVENT
BEGIN:VEVENT
DTSTART;VALUE=DATE:20160930
DTEND;VALUE=DATE:20161001
DTSTAMP:20260423T015522
CREATED:20160705T144816Z
LAST-MODIFIED:20160705T144816Z
UID:4698-1475193600-1475279999@ubwp.buffalo.edu
SUMMARY:Club Election and Activation Paperwork Deadline
DESCRIPTION:Deadline for updated Election and Club Activation Paperwork \nClub packets with all required forms are available in the GSA office.  All forms must be on file in the GSA office by 4:30pm on Friday\, September 30th or your funds will be frozen. \nFor Departmental Clubs: \nClub Data Form\nOfficer Election Verification Form\nSenate Election Verification Form\nNew Student Orientation Sign-In Sheet \nFor Special Interest and International Clubs that were Early Recognized: \nClub Data Form\nOfficer Election Verification Form\nSenate Election Verification Form (International Clubs Only)\nCopies of UB ID Cards for four (4) club officers\nCopies of UB ID Cards for six (6) club members\nList of Members
URL:https://ubwp.buffalo.edu/gsa/event/club-election-and-activation-paperwork-deadline-2/
LOCATION:NY
CATEGORIES:Administrative,GSA Event
ORGANIZER;CN="GSA Administrative Team":MAILTO:slfrank@buffalo.edu
END:VEVENT
END:VCALENDAR