BEGIN:VCALENDAR
VERSION:2.0
PRODID:-//Graduate Student Association - ECPv6.15.20//NONSGML v1.0//EN
CALSCALE:GREGORIAN
METHOD:PUBLISH
X-WR-CALNAME:Graduate Student Association
X-ORIGINAL-URL:https://ubwp.buffalo.edu/gsa
X-WR-CALDESC:Events for Graduate Student Association
REFRESH-INTERVAL;VALUE=DURATION:PT1H
X-Robots-Tag:noindex
X-PUBLISHED-TTL:PT1H
BEGIN:VTIMEZONE
TZID:America/New_York
BEGIN:DAYLIGHT
TZOFFSETFROM:-0500
TZOFFSETTO:-0400
TZNAME:EDT
DTSTART:20150308T070000
END:DAYLIGHT
BEGIN:STANDARD
TZOFFSETFROM:-0400
TZOFFSETTO:-0500
TZNAME:EST
DTSTART:20151101T060000
END:STANDARD
BEGIN:DAYLIGHT
TZOFFSETFROM:-0500
TZOFFSETTO:-0400
TZNAME:EDT
DTSTART:20160313T070000
END:DAYLIGHT
BEGIN:STANDARD
TZOFFSETFROM:-0400
TZOFFSETTO:-0500
TZNAME:EST
DTSTART:20161106T060000
END:STANDARD
BEGIN:DAYLIGHT
TZOFFSETFROM:-0500
TZOFFSETTO:-0400
TZNAME:EDT
DTSTART:20170312T070000
END:DAYLIGHT
BEGIN:STANDARD
TZOFFSETFROM:-0400
TZOFFSETTO:-0500
TZNAME:EST
DTSTART:20171105T060000
END:STANDARD
END:VTIMEZONE
BEGIN:VEVENT
DTSTART;TZID=America/New_York:20160827T141500
DTEND;TZID=America/New_York:20160827T170000
DTSTAMP:20260424T044123
CREATED:20160609T133655Z
LAST-MODIFIED:20160609T133655Z
UID:4554-1472307300-1472317200@ubwp.buffalo.edu
SUMMARY:Whirlpool Jet Boat Tour
DESCRIPTION:Join the GSA for a wild and wet adventure on the Niagara River! \nTickets on sale August 1st at the SBI Ticket offices (221 Student Union and 350 Harriman Hall) for $20 each.  2 per UB ID. \nLimited quantity available.  First come\, first served. \n*PLEASE NOTE* Transportation is NOT provided for this event.  It is your own responsibility! \nTour leaves from 115 South Water St. Lewiston\, NY 14092 \nMake sure to bring a towel and a change of clothes\, YOU WILL GET WET! \n  \nSBI Ticket Office Summer Office Hours (updated July 11th): \nNorth Campus (221 Student Union): Tuesday\, Wednesday\, Thursday: 12:00 – 3:00pm \nSouth Campus (350 Harriman Hall): Monday: 10:00am – 3:00pm and Tuesday: 10:00am – 1:00pm \n 
URL:https://ubwp.buffalo.edu/gsa/event/whirlpool-jet-boat-tour-3/
LOCATION:Whirlpool Jet Boat Tours\, 115 South Water St.  \, Lewiston\, NY\, 14092\, United States
CATEGORIES:GSA Event
ORGANIZER;CN="GSA Programming Coordinator":MAILTO:gsa-programming@buffalo.edu
END:VEVENT
BEGIN:VEVENT
DTSTART;VALUE=DATE:20160831
DTEND;VALUE=DATE:20160901
DTSTAMP:20260424T044123
CREATED:20160705T144317Z
LAST-MODIFIED:20160705T144317Z
UID:4690-1472601600-1472687999@ubwp.buffalo.edu
SUMMARY:Club Recognition Application Deadline
DESCRIPTION:According to the mandate of the Graduate Student Association (GSA) Senate\, Special Interest and International Clubs must apply for annual recognition. Recognition must take place at one of the FALL GSA Senate Meetings (September 7\, October 5\, November 2 or December 7). \nAll application materials are due in the GSA office before the close of business to have your club’s recognition considered at the September 7th Senate Meeting.
URL:https://ubwp.buffalo.edu/gsa/event/club-recognition-application-deadline-11/
LOCATION:NY
CATEGORIES:Administrative,GSA Event
ORGANIZER;CN="GSA Administrative Team":MAILTO:slfrank@buffalo.edu
END:VEVENT
BEGIN:VEVENT
DTSTART;TZID=America/New_York:20160831T190000
DTEND;TZID=America/New_York:20160831T210000
DTSTAMP:20260424T044123
CREATED:20160705T134155Z
LAST-MODIFIED:20160705T134155Z
UID:4659-1472670000-1472677200@ubwp.buffalo.edu
SUMMARY:Finance Committee Meeting
DESCRIPTION:Finance Committee meeting to review group funding requests for events to take place in September or later.
URL:https://ubwp.buffalo.edu/gsa/event/finance-committee-meeting-22/
LOCATION:GSA Conference Room\, 310A Student Union\, University at Buffalo\, Buffalo\, NY\, 14260\, United States
CATEGORIES:Administrative,GSA Event
ORGANIZER;CN="GSA Treasurer":MAILTO:gsa-treasurer@buffalo.edu
END:VEVENT
END:VCALENDAR